Workbook
Name CurrentYear: 'Comp&cont'!$C$2
Name PriorYear: 'Comp&cont'!$C$3

Sheet Please Read Instructions
B1: The 2026 Pension Compensation and Contribution Reconciliation Tool
B3: This tool is provided for district use to report on Pension data in compliance with GASBS 68, Accounting and Financial Reporting for Pensions.
B4: Pension contributions included in this tool are amounts as reported by the Department of Retirement Systems (DRS) for the plan year ending June 30, 2025.
B5: The School District Business Official will need to provide assurance that district-specific annual contribution amounts presented in DRS-provided schedules are reasonably accurate.
B6: A school district is solely responsible for its financial statements and in evaluating the district-specific pension information presented.
B7: Comp& Contr | C7: Enter your district's CCDDD number in the space provide in cell A9 in the worksheet labled "Comp&Contr".
C8: This worksheet breaksdown contributions as reported by DRS. The employer contributions to pension plans are reported by the DRS PROCESS DATE.
B9: Timing Challenges to Contribution Verification
C10: •Your monthly contributions are most likely processed by DRS with a one-month lag.
C11: •DRS could process only eleven monthly amounts in the plan fiscal period.
C12: •DRS could process thirteen monthly amounts in the plan fiscal period.
C13: •This is all about the timing of when DRS processes your contributions…
C14: Focus your reconciliation on the DRS Process Dates.
C15: •Contributions processed by DRS for the Plan Fiscal Year (July 2025 through June 2026) are most likely to be your June 2025 through May 2026 monthly contribution amounts.
B16: Independent Employer Verification
K17: `
C18: •Go to the | E18: DRS Employer Webpage
C19: •Review information on the Employer Reporting Application (ERA) guide.
E20: Employer Reporting Application Portal | I20: `
C21: •The Employer Reporting Application guide is for DRS employers who use the DRS Employer Reporting Application (ERA). Employers who have not adopted ERA should continue to access DRS reports through eServices. Employers using the ERA guide should have registered through Secure Access Washington (SAW).
C31: Basic Elements of Pension Plans | E31: In the worksheet 2020 PRT, additional information can be found in the data range A59:G109. This is summary information only and the tables illustrated here are not included in the Notes to the Financial Statements. The information contained in these Tables is used to populate other Note tables and RSI schedules.
D32: Total Plan Contributions: This is obtained from the DRS PEFI. A PRT worksheet compiles annual PEFI Contribution information. Embedded in the PRT is a worksheet TAB containing "Total Contributions". This worksheet is designed to incorporate future year amounts into the worksheet for Full-Accrual CAFR districts.
D33: District's Annual Contributions: This information is obtained from DRS at the close of the Plan fiscal year and it is also included in the PEFI. The amounts represent the district's annual contributions for the Plan fiscal year ending June 30. Embedded in the PRT, annual contributions files are stored in separate tabs for certain districts needing RSI schedules for Full-Accrual CAFR reporting. Districts are encouraged to independently verify the contribution amounts with the tool provided by DRS for this purpose. The DRS tool is located on the DRS website under: eServices Contribution Reconciliation.
D34: Employer Allocation Percentage: This information is obtained from DRS at the close of the Plan fiscal year and it is also included in the PEFI. The allocation percentage divides the district's contributions by the total plan contributions. This allocation percentage is used to calculate employer proportionate shares of the Plan's Net Pension Liability and is used to determine employer-specific factors used to reconcile the liability from beginning to ending amounts.
D35: District's Reportable Compensation: This information is obtained from DRS at the close of the Plan fiscal year.
D36: Proportionate Share of the Net Pension Liability: This information is the district-specific share of the Pension Plan Net Liability. The calculation is the Employer's Allocation Percentage multiplied by the Total Pension Plan Net Liability. The amounts represented are transferred to the Schedule of Long-Term Liabilities for annual financial statement (F-196) reporting and recognizes on the balance sheet on Government-wide CAFRS and the ESD F-185 Annual Financial Statements.

Sheet Comp&cont
A2: Current Year | C2: 2025-2026
A3: Prior Year | C3: =TEXT(_xlfn.NUMBERVALUE(LEFT(CurrentYear,4)-1),0)&"-"&TEXT(_xlfn.NUMBERVALUE(RIGHT(CurrentYear,4)-1),0) -> 2024-2025
A6: =RIGHT(CurrentYear,4)& " Pension Reporting Tool" -> 2026 Pension Reporting Tool
A7: Enter CCDDD number in cell A9 | C7: =VLOOKUP($A$9,LU_Org!$B$1:$D$339,2,FALSE) -> Paterson School District | H7: ESD
A9: 03050 | H9: =VLOOKUP($A$9,LU_Org!$B$1:$D$339,3,FALSE) -> Educational Service District 123
A11: Basic Elements of the Pension Plans
A13: 45107 | B13: TRS 1 | C13: TRS 2/3 | D13: SERS 2/3 | E13: PERS 1 | F13: PERS 2/3 | G13: Totals
A14: Total Plan Contributions | B14: {=_xlfn._xlws.FILTER(PensionStateTotals[State Total],(PensionStateTotals[SchoolYear]=$C$2)*(PensionStateTotals[Plan Key]=$B$13),0)} -> 9.4368658e+09 | C14: {=_xlfn._xlws.FILTER(PensionStateTotals[State Total],(PensionStateTotals[SchoolYear]=$C$2)*(PensionStateTotals[Plan Key]=$C$13),0)} -> 7.2169422e+08 | D14: {=_xlfn._xlws.FILTER(PensionStateTotals[State Total],(PensionStateTotals[SchoolYear]=$C$2)*(PensionStateTotals[Plan Key]=$D$13),0)} -> 2.5858522e+08 | E14: {=_xlfn._xlws.FILTER(PensionStateTotals[State Total],(PensionStateTotals[SchoolYear]=$C$2)*(PensionStateTotals[Plan Key]=$E$13),0)} -> 2.2620232e+10 | F14: {=_xlfn._xlws.FILTER(PensionStateTotals[State Total],(PensionStateTotals[SchoolYear]=$C$2)*(PensionStateTotals[Plan Key]=$F$13),0)} -> 9.5601297e+08
A15: District’s Annual Contributions | B15: {=_xlfn._xlws.FILTER(PensionSummaryView_2[EmployerContributions],(PensionSummaryView_2[CCDDD]=$A$9)*(PensionSummaryView_2[PlanKey]=$B$13)*(PensionSummaryView_2[PensionYear]=$C$2),0)+ _xlfn._xlws.FILTER(PensionSummaryView_2[UAALEmployerContributions],(PensionSummaryView_2[CCDDD]=$A$9)*(PensionSummaryView_2[PlanKey]=$B$13)*(PensionSummaryView_2[PensionYear]=$C$2),0)} -> 4174.44 | C15: {=_xlfn._xlws.FILTER(PensionSummaryView_2[EmployerContributions],(PensionSummaryView_2[CCDDD]=$A$9)*(PensionSummaryView_2[PlanKey]=$C$13)*(PensionSummaryView_2[PensionYear]=$C$2),0)+ _xlfn._xlws.FILTER(PensionSummaryView_2[UAALEmployerContributions],(PensionSummaryView_2[CCDDD]=$A$9)*(PensionSummaryView_2[PlanKey]=$C$13)*(PensionSummaryView_2[PensionYear]=$C$2),0)} -> 90102.7 | D15: {=_xlfn._xlws.FILTER(PensionSummaryView_2[EmployerContributions],(PensionSummaryView_2[CCDDD]=$A$9)*(PensionSummaryView_2[PlanKey]=$D$13)*(PensionSummaryView_2[PensionYear]=$C$2),0)+ _xlfn._xlws.FILTER(PensionSummaryView_2[UAALEmployerContributions],(PensionSummaryView_2[CCDDD]=$A$9)*(PensionSummaryView_2[PlanKey]=$D$13)*(PensionSummaryView_2[PensionYear]=$C$2),0)} -> 30697.34 | E15: {=_xlfn._xlws.FILTER(PensionSummaryView_2[EmployerContributions],(PensionSummaryView_2[CCDDD]=$A$9)*(PensionSummaryView_2[PlanKey]=$E$13)*(PensionSummaryView_2[PensionYear]=$C$2),0)+ _xlfn._xlws.FILTER(PensionSummaryView_2[UAALEmployerContributions],(PensionSummaryView_2[CCDDD]=$A$9)*(PensionSummaryView_2[PlanKey]=E13)*(PensionSummaryView_2[PensionYear]=$C$2),0)} -> 1941.9 | F15: {=_xlfn._xlws.FILTER(PensionSummaryView_2[EmployerContributions],(PensionSummaryView_2[CCDDD]=$A$9)*(PensionSummaryView_2[PlanKey]=$F$13)*(PensionSummaryView_2[PensionYear]=$C$2),0)+ _xlfn._xlws.FILTER(PensionSummaryView_2[UAALEmployerContributions],(PensionSummaryView_2[CCDDD]=$A$9)*(PensionSummaryView_2[PlanKey]=$F$13)*(PensionSummaryView_2[PensionYear]=$C$2),0)} -> 0 | G15: =SUM(B15:F15) -> 126916.38
A16: Employer Allocation Percentage | B16: {=_xlfn._xlws.FILTER(PensionSummaryView_2[AllocationPercent],(PensionSummaryView_2[CCDDD]=$A$9)*(PensionSummaryView_2[PlanKey]=$B$13)*(PensionSummaryView_2[PensionYear]=$C$2),0)+ _xlfn._xlws.FILTER(PensionSummaryView_2[UAALAllocationPercent],(PensionSummaryView_2[CCDDD]=$A$9)*(PensionSummaryView_2[PlanKey]=$B$13)*(PensionSummaryView_2[PensionYear]=$C$2),0)} -> 4.4235449e-07 | C16: {=_xlfn._xlws.FILTER(PensionSummaryView_2[AllocationPercent],(PensionSummaryView_2[CCDDD]=$A$9)*(PensionSummaryView_2[PlanKey]=$C$13)*(PensionSummaryView_2[PensionYear]=$C$2),0)+ _xlfn._xlws.FILTER(PensionSummaryView_2[UAALAllocationPercent],(PensionSummaryView_2[CCDDD]=$A$9)*(PensionSummaryView_2[PlanKey]=$C$13)*(PensionSummaryView_2[PensionYear]=$C$2),0)} -> 0.00012484886 | D16: {=_xlfn._xlws.FILTER(PensionSummaryView_2[AllocationPercent],(PensionSummaryView_2[CCDDD]=$A$9)*(PensionSummaryView_2[PlanKey]=$D$13)*(PensionSummaryView_2[PensionYear]=$C$2),0)+ _xlfn._xlws.FILTER(PensionSummaryView_2[UAALAllocationPercent],(PensionSummaryView_2[CCDDD]=$A$9)*(PensionSummaryView_2[PlanKey]=$D$13)*(PensionSummaryView_2[PensionYear]=$C$2),0)} -> 0.00011871266 | E16: {=_xlfn._xlws.FILTER(PensionSummaryView_2[AllocationPercent],(PensionSummaryView_2[CCDDD]=$A$9)*(PensionSummaryView_2[PlanKey]=$E$13)*(PensionSummaryView_2[PensionYear]=$C$2),0)+ _xlfn._xlws.FILTER(PensionSummaryView_2[UAALAllocationPercent],(PensionSummaryView_2[CCDDD]=$A$9)*(PensionSummaryView_2[PlanKey]=$E$13)*(PensionSummaryView_2[PensionYear]=$C$2),0)} -> 8.5847927e-08 | F16: {=_xlfn._xlws.FILTER(PensionSummaryView_2[AllocationPercent],(PensionSummaryView_2[CCDDD]=$A$9)*(PensionSummaryView_2[PlanKey]=$F$13)*(PensionSummaryView_2[PensionYear]=$C$2),0)+ _xlfn._xlws.FILTER(PensionSummaryView_2[UAALAllocationPercent],(PensionSummaryView_2[CCDDD]=$A$9)*(PensionSummaryView_2[PlanKey]=$F$13)*(PensionSummaryView_2[PensionYear]=$C$2),0)} -> 0
A17: check amount | B17: =+B15/B14 -> 4.4235449e-07 | C17: =+C15/C14 -> 0.00012484886 | D17: =+D15/D14 -> 0.00011871266 | E17: =+E15/E14 -> 8.5847927e-08 | F17: =+F15/F14 -> 0
A18: District’s Reportable Compensation | B18: {=_xlfn._xlws.FILTER(PensionSummaryView_2[Compensation],(PensionSummaryView_2[PlanKey]='Comp&cont'!$B$13)*(PensionSummaryView_2[CCDDD]='Comp&cont'!$A$9)*( PensionSummaryView_2[PensionYear]=$C$2),0)} -> 0 | C18: {=_xlfn._xlws.FILTER(PensionSummaryView_2[Compensation],(PensionSummaryView_2[PlanKey]='Comp&cont'!$C$13)*(PensionSummaryView_2[CCDDD]='Comp&cont'!$A$9)*( PensionSummaryView_2[PensionYear]=$C$2),0)} -> 1176999.1 | D18: {=_xlfn._xlws.FILTER(PensionSummaryView_2[Compensation],(PensionSummaryView_2[PlanKey]='Comp&cont'!$D$13)*(PensionSummaryView_2[CCDDD]='Comp&cont'!$A$9)*( PensionSummaryView_2[PensionYear]=$C$2),0)} -> 436963.03 | E18: {=_xlfn._xlws.FILTER(PensionSummaryView_2[Compensation],(PensionSummaryView_2[PlanKey]='Comp&cont'!$E$13)*(PensionSummaryView_2[CCDDD]='Comp&cont'!$A$9)*( PensionSummaryView_2[PensionYear]=$C$2),0)} -> 0 | F18: {=_xlfn._xlws.FILTER(PensionSummaryView_2[Compensation],(PensionSummaryView_2[PlanKey]='Comp&cont'!$F$13)*(PensionSummaryView_2[CCDDD]='Comp&cont'!$A$9)*( PensionSummaryView_2[PensionYear]=$C$2),0)} -> 0 | G18: =SUM(B18:F18) -> 1613962.1
B20: TRS 1 | C20: TRS 2/3 | D20: SERS 2/3 | E20: PERS 1 | F20: PERS 2/3
A21: Compensation by Plan | B21: =$B$18 -> 0 | C21: =$C$18 -> 1176999.1 | D21: =$D$18 -> 436963.03 | E21: =$E$18 -> 0 | F21: =$F$18 -> 0 | G21: =SUM(B21:F21) -> 1613962.1
A22: RTW/SUB Comp by Plan | B22: {=_xlfn._xlws.FILTER(PensionSummaryView_2[RTWSUB_Comp],(PensionSummaryView_2[PlanKey]='Comp&cont'!$B$13)*(PensionSummaryView_2[CCDDD]='Comp&cont'!$A$9)*( PensionSummaryView_2[PensionYear]=$C$2),0)} -> 0 | C22: {=_xlfn._xlws.FILTER(PensionSummaryView_2[RTWSUB_Comp],(PensionSummaryView_2[PlanKey]='Comp&cont'!$C$13)*(PensionSummaryView_2[CCDDD]='Comp&cont'!$A$9)*( PensionSummaryView_2[PensionYear]=$C$2),0)} -> 23520 | D22: {=_xlfn._xlws.FILTER(PensionSummaryView_2[RTWSUB_Comp],(PensionSummaryView_2[PlanKey]='Comp&cont'!$D$13)*(PensionSummaryView_2[CCDDD]='Comp&cont'!$A$9)*( PensionSummaryView_2[PensionYear]=$C$2),0)} -> 0 | E22: {=_xlfn._xlws.FILTER(PensionSummaryView_2[RTWSUB_Comp],(PensionSummaryView_2[PlanKey]='Comp&cont'!$E$13)*(PensionSummaryView_2[CCDDD]='Comp&cont'!$A$9)*( PensionSummaryView_2[PensionYear]=$C$2),0)} -> 0 | F22: {=_xlfn._xlws.FILTER(PensionSummaryView_2[RTWSUB_Comp],(PensionSummaryView_2[PlanKey]='Comp&cont'!$F$13)*(PensionSummaryView_2[CCDDD]='Comp&cont'!$A$9)*( PensionSummaryView_2[PensionYear]=$C$2),0)} -> 0 | G22: =SUM(B22:F22) -> 23520
A24: Employer Contributions | B24: {=IFERROR(_xlfn.CHOOSECOLS(_xlfn._xlws.FILTER(PensionSummaryView_2[],(PensionSummaryView_2[PlanKey]='Comp&cont'!$B$13)*(PensionSummaryView_2[CCDDD]='Comp&cont'!$A$9)*( PensionSummaryView_2[PensionYear]=$C$2)),8),0)} -> 0 | C24: {=_xlfn._xlws.FILTER(PensionSummaryView_2[EmployerContributions],(PensionSummaryView_2[CCDDD]=$A$9)*(PensionSummaryView_2[PlanKey]=$C$13)*(PensionSummaryView_2[PensionYear]=$C$2),0)} -> 90102.7 | D24: {=_xlfn._xlws.FILTER(PensionSummaryView_2[EmployerContributions],(PensionSummaryView_2[CCDDD]=$A$9)*(PensionSummaryView_2[PlanKey]=$D$13)*(PensionSummaryView_2[PensionYear]=$C$2),0)} -> 30697.34 | E24: {=IFERROR(_xlfn.CHOOSECOLS(_xlfn._xlws.FILTER(PensionSummaryView_2[],(PensionSummaryView_2[PlanKey]='Comp&cont'!$E$13)*(PensionSummaryView_2[CCDDD]='Comp&cont'!$A$9)*( PensionSummaryView_2[PensionYear]=$C$2)),8),0)} -> 0 | F24: {=IFERROR(_xlfn.CHOOSECOLS(_xlfn._xlws.FILTER(PensionSummaryView_2[],(PensionSummaryView_2[PlanKey]='Comp&cont'!$F$13)*(PensionSummaryView_2[CCDDD]='Comp&cont'!$A$9)*( PensionSummaryView_2[PensionYear]=$C$2)),8),0)} -> 0 | G24: =SUM(B24:F24) -> 120800.04
A25: Employer UAAL Contributions | C25: =B15-B24 -> 4174.44 | D25: =E15-E24 -> 1941.9 | G25: =SUM(B25:F25) -> 6116.34
A27: Member Contributions | B27: {=_xlfn._xlws.FILTER(PensionSummaryView_2[MemberContributions],(PensionSummaryView_2[PlanKey]='Comp&cont'!$B$13)*(PensionSummaryView_2[CCDDD]='Comp&cont'!$A$9)*( PensionSummaryView_2[PensionYear]=$C$2),0)} -> 0 | C27: {=_xlfn._xlws.FILTER(PensionSummaryView_2[MemberContributions],(PensionSummaryView_2[PlanKey]='Comp&cont'!$C$13)*(PensionSummaryView_2[CCDDD]='Comp&cont'!$A$9)*( PensionSummaryView_2[PensionYear]=$C$2),0)} -> 98086.7 | D27: {=_xlfn._xlws.FILTER(PensionSummaryView_2[MemberContributions],(PensionSummaryView_2[PlanKey]='Comp&cont'!$D$13)*(PensionSummaryView_2[CCDDD]='Comp&cont'!$A$9)*( PensionSummaryView_2[PensionYear]=$C$2),0)} -> 32882.82 | E27: {=_xlfn._xlws.FILTER(PensionSummaryView_2[MemberContributions],(PensionSummaryView_2[PlanKey]='Comp&cont'!$E$13)*(PensionSummaryView_2[CCDDD]='Comp&cont'!$A$9)*( PensionSummaryView_2[PensionYear]=$C$2),0)} -> 0 | F27: {=_xlfn._xlws.FILTER(PensionSummaryView_2[MemberContributions],(PensionSummaryView_2[PlanKey]='Comp&cont'!$F$13)*(PensionSummaryView_2[CCDDD]='Comp&cont'!$A$9)*( PensionSummaryView_2[PensionYear]=$C$2),0)} -> 0 | G27: =SUM(B27:F27) -> 130969.52
A28: Admin Fees to DRS | B28: {=_xlfn._xlws.FILTER(PensionSummaryView_2[AdminFee],(PensionSummaryView_2[PlanKey]='Comp&cont'!$B$13)*(PensionSummaryView_2[CCDDD]='Comp&cont'!$A$9)*( PensionSummaryView_2[PensionYear]=$C$2),0)} -> 0 | C28: {=_xlfn._xlws.FILTER(PensionSummaryView_2[AdminFee],(PensionSummaryView_2[PlanKey]='Comp&cont'!$C$13)*(PensionSummaryView_2[CCDDD]='Comp&cont'!$A$9)*( PensionSummaryView_2[PensionYear]=$C$2),0)} -> 2353.86 | D28: {=_xlfn._xlws.FILTER(PensionSummaryView_2[AdminFee],(PensionSummaryView_2[PlanKey]='Comp&cont'!$D$13)*(PensionSummaryView_2[CCDDD]='Comp&cont'!$A$9)*( PensionSummaryView_2[PensionYear]=$C$2),0)} -> 873.81 | E28: {=_xlfn._xlws.FILTER(PensionSummaryView_2[AdminFee],(PensionSummaryView_2[PlanKey]='Comp&cont'!$E$13)*(PensionSummaryView_2[CCDDD]='Comp&cont'!$A$9)*( PensionSummaryView_2[PensionYear]=$C$2),0)} -> 0 | F28: {=_xlfn._xlws.FILTER(PensionSummaryView_2[AdminFee],(PensionSummaryView_2[PlanKey]='Comp&cont'!$F$13)*(PensionSummaryView_2[CCDDD]='Comp&cont'!$A$9)*( PensionSummaryView_2[PensionYear]=$C$2),0)} -> 0 | G28: =SUM(B28:F28) -> 3227.67
A29: Other Employer Contributions | G29: =SUM(B29:F29) -> 0
A30: Other Admin Fees to DRS | G30: =SUM(B30:F30) -> 0
A32: Payments to DRS by Plan | B32: =SUM(B24:B30) -> 0 | C32: =SUM(C24:C30) -> 194717.7 | D32: =SUM(D24:D30) -> 66395.87 | E32: =SUM(E24:E30) -> 0 | F32: =SUM(F24:F30) -> 0 | G32: =SUM(B32:F32) -> 261113.57
B35: TRS 1 | C35: TRS 2/3 | D35: SERS 2/3 | E35: PERS 1 | F35: PERS 2/3 | G35: Totals
A36: Employer Contributions + Admin | B36: =+B24+B25+B28+B29+B30 -> 0 | C36: =+C24+C25+C28+C29+C30 -> 96631 | D36: =+D24+D25+D28+D29+D30 -> 33513.05 | E36: =+E24+E25+E28+E29+E30 -> 0 | F36: =+F24+F25+F28+F29+F30 -> 0 | G36: =SUM(B36:F36) -> 130144.05
A37: Member Contributions | B37: =+B27 -> 0 | C37: =+C27 -> 98086.7 | D37: =+D27 -> 32882.82 | E37: =+E27 -> 0 | F37: =+F27 -> 0 | G37: =+G27 -> 130969.52
A38: Payments to DRS by Plan | B38: =+B36+B37 -> 0 | C38: =+C36+C37 -> 194717.7 | D38: =+D36+D37 -> 66395.87 | E38: =+E36+E37 -> 0 | F38: =+F36+F37 -> 0 | G38: =+G36+G37 -> 261113.57

Sheet PensionSummaryView
A1: DRS_ID | B1: CCDDD | C1: OrganizationName | D1: PlanKey | E1: Compensation | F1: RTWSUB_Comp | G1: MemberContributions | H1: EmployerContributions | I1: AllocationPercent | J1: AdminFee | K1: UAALEmployerContributions | L1: UAALAllocationPercent | M1: PensionYear
A2: 0017 | B2: 22017 | C2: Almira School District | D2: PERS 1 | E2: 0 | F2: 0 | G2: 0 | H2: 0 | I2: 0 | J2: 0 | K2: 11294.84 | L2: 2.4575477e-05 | M2: 2014-2015
A3: 0057 | B3: 01122 | C3: Benge School District | D3: PERS 1 | E3: 0 | F3: 0 | G3: 0 | H3: 0 | I3: 0 | J3: 0 | K3: 2063.85 | L3: 4.4905548e-06 | M3: 2014-2015
A4: 0067 | B4: 20203 | C4: Bickleton School District | D4: PERS 1 | E4: 0 | F4: 0 | G4: 0 | H4: 0 | I4: 0 | J4: 0 | K4: 9139.87 | L4: 1.9886662e-05 | M4: 2014-2015
A5: 0087 | B5: 09075 | C5: Bridgeport School District | D5: PERS 1 | E5: 0 | F5: 0 | G5: 0 | H5: 0 | I5: 0 | J5: 0 | K5: 41530.85 | L5: 9.0363426e-05 | M5: 2014-2015
A6: 0089 | B6: 16046 | C6: Brinnon School District | D6: PERS 1 | E6: 0 | F6: 0 | G6: 0 | H6: 0 | I6: 0 | J6: 0 | K6: 5898.9 | L6: 1.2834912e-05 | M6: 2014-2015
A7: 0103 | B7: 04228 | C7: Cascade School District | D7: PERS 1 | E7: 0 | F7: 0 | G7: 0 | H7: 0 | I7: 0 | J7: 0 | K7: 79890.24 | L7: 0.00017382634 | M7: 2014-2015
A8: 0106 | B8: 04222 | C8: CASHMERE SCHOOL DISTRICT | D8: PERS 1 | E8: 0 | F8: 0 | G8: 0 | H8: 0 | I8: 0 | J8: 0 | K8: 79677.66 | L8: 0.00017336381 | M8: 2014-2015
A9: 0113 | B9: 20215 | C9: Centerville School District | D9: PERS 1 | E9: 0 | F9: 0 | G9: 0 | H9: 0 | I9: 0 | J9: 0 | K9: 8232.53 | L9: 1.7912458e-05 | M9: 2014-2015
A10: 0158 | B10: 19404 | C10: Cle Elum-Roslyn School District | D10: PERS 1 | E10: 0 | F10: 0 | G10: 0 | H10: 0 | I10: 0 | J10: 0 | K10: 52453.99 | L10: 0.00011413015 | M10: 2014-2015
A11: 0168 | B11: 38306 | C11: Colton School District | D11: PERS 1 | E11: 0 | F11: 0 | G11: 0 | H11: 0 | I11: 0 | J11: 0 | K11: 13035.71 | L11: 2.8363287e-05 | M11: 2014-2015
A12: 0172 | B12: 33206 | C12: Columbia (Stevens) School District | D12: PERS 1 | E12: 0 | F12: 0 | G12: 0 | H12: 0 | I12: 0 | J12: 0 | K12: 14337.04 | L12: 3.119474e-05 | M12: 2014-2015
A13: 0175 | B13: 33115 | C13: Colville School District | D13: PERS 1 | E13: 0 | F13: 0 | G13: 0 | H13: 0 | I13: 0 | J13: 0 | K13: 99374.83 | L13: 0.0002162212 | M13: 2014-2015
... A1345: 1110 | B1345: 20094 | C1345: Wishram School District | D1345: TRS 1 | E1345: 0 | F1345: 0 | G1345: 0 | H1345: 0 | I1345: 0 | J1345: 0 | K1345: 41368.03 | L1345: 0.00013611667 | M1345: 2015-2016
A1346: 2629 | D1346: TRS 1 | E1346: 0 | F1346: 0 | G1346: 0 | H1346: 0 | I1346: 0 | J1346: 0 | K1346: 20815.12 | L1346: 6.8489721e-05 | M1346: 2015-2016
A1347: 2630 | B1347: 17908 | C1347: Rainier Prep Charter School District | D1347: TRS 1 | E1347: 0 | F1347: 0 | G1347: 0 | H1347: 0 | I1347: 0 | J1347: 0 | K1347: 32864.13 | L1347: 0.00010813558 | M1347: 2015-2016
A1348: 2631 | B1348: 17910 | C1348: Rainier Valley Leadership Academy | D1348: TRS 1 | E1348: 0 | F1348: 0 | G1348: 0 | H1348: 0 | I1348: 0 | J1348: 0 | K1348: 47856.75 | L1348: 0.00015746705 | M1348: 2015-2016
A1349: 2632 | B1349: 32901 | C1349: Spokane International Academy | D1349: TRS 1 | E1349: 0 | F1349: 0 | G1349: 0 | H1349: 0 | I1349: 0 | J1349: 0 | K1349: 32027.55 | L1349: 0.00010538291 | M1349: 2015-2016
A1350: 2633 | B1350: 17902 | C1350: Summit Public School: Sierra | D1350: TRS 1 | E1350: 0 | F1350: 0 | G1350: 0 | H1350: 0 | I1350: 0 | J1350: 0 | K1350: 30256.59 | L1350: 9.9555775e-05 | M1350: 2015-2016
A1351: 2633 | B1351: 17905 | C1351: Summit Public School: Atlas | D1351: TRS 1 | E1351: 0 | F1351: 0 | G1351: 0 | H1351: 0 | I1351: 0 | J1351: 0 | K1351: 30256.59 | L1351: 9.9555775e-05 | M1351: 2015-2016
A1352: 2633 | B1352: 27905 | C1352: Summit Public School: Olympus | D1352: TRS 1 | E1352: 0 | F1352: 0 | G1352: 0 | H1352: 0 | I1352: 0 | J1352: 0 | K1352: 30256.59 | L1352: 9.9555775e-05 | M1352: 2015-2016
A1353: 2634 | B1353: 27931 | C1353: Bates Technical College | D1353: TRS 1 | E1353: 0 | F1353: 0 | G1353: 0 | H1353: 0 | I1353: 0 | J1353: 0 | K1353: 17286.42 | L1353: 5.6878946e-05 | M1353: 2015-2016
A1354: 2635 | B1354: 32907 | C1354: PRIDE Prep School | D1354: TRS 1 | E1354: 0 | F1354: 0 | G1354: 0 | H1354: 0 | I1354: 0 | J1354: 0 | K1354: 26196.95 | L1354: 8.6198004e-05 | M1354: 2015-2016
A1355: 0002 | B1355: 14005 | C1355: Aberdeen School District | D1355: TRS 1 | E1355: 0 | F1355: 0 | G1355: 0 | H1355: 9831.81 | I1355: 3.2350422e-05 | J1355: 0 | K1355: 825766.04 | L1355: 0.0027170867 | M1355: 2015-2016
A1356: 0010 | B1356: 21226 | C1356: Adna School District | D1356: TRS 1 | E1356: 0 | F1356: 0 | G1356: 0 | H1356: 17912.64 | I1356: 5.8939449e-05 | J1356: 0 | K1356: 128106.09 | L1356: 0.00042151812 | M1356: 2015-2016
A1357: 0017 | B1357: 22017 | C1357: Almira School District | D1357: TRS 1 | E1357: 0 | F1357: 0 | G1357: 0 | H1357: 8256.9 | I1357: 2.7168365e-05 | J1357: 0 | K1357: 37323.79 | L1357: 0.00012280957 | M1357: 2015-2016
A1358: 0020 | B1358: 29103 | C1358: Anacortes School District | D1358: TRS 1 | E1358: 0 | F1358: 0 | G1358: 0 | H1358: 23216.83 | I1358: 7.6392267e-05 | J1358: 0 | K1358: 757940.6 | L1358: 0.002493915 | M1358: 2015-2016
... A2074: 1137 | B2074: 39205 | C2074: Zillah School District | D2074: TRS 2/3 | E2074: 0 | F2074: 0 | G2074: 0 | H2074: 374052.19 | I2074: 0.0011459822 | J2074: 0 | K2074: 0 | L2074: 0 | M2074: 2015-2016
A2075: 2629 | D2075: TRS 2/3 | E2075: 0 | F2075: 0 | G2075: 0 | H2075: 23031.56 | I2075: 7.0561695e-05 | J2075: 0 | K2075: 0 | L2075: 0 | M2075: 2015-2016
A2076: 2630 | B2076: 17908 | C2076: Rainier Prep Charter School District | D2076: TRS 2/3 | E2076: 0 | F2076: 0 | G2076: 0 | H2076: 35897.22 | I2076: 0.00010997816 | J2076: 0 | K2076: 0 | L2076: 0 | M2076: 2015-2016
A2077: 2631 | B2077: 17910 | C2077: Rainier Valley Leadership Academy | D2077: TRS 2/3 | E2077: 0 | F2077: 0 | G2077: 0 | H2077: 52686.91 | I2077: 0.00016141667 | J2077: 0 | K2077: 0 | L2077: 0 | M2077: 2015-2016
A2078: 2632 | B2078: 32901 | C2078: Spokane International Academy | D2078: TRS 2/3 | E2078: 0 | F2078: 0 | G2078: 0 | H2078: 35083.86 | I2078: 0.00010748628 | J2078: 0 | K2078: 0 | L2078: 0 | M2078: 2015-2016
A2079: 2633 | B2079: 17902 | C2079: Summit Public School: Sierra | D2079: TRS 2/3 | E2079: 0 | F2079: 0 | G2079: 0 | H2079: 60357.5 | I2079: 0.00018491702 | J2079: 0 | K2079: 0 | L2079: 0 | M2079: 2015-2016
A2080: 2633 | B2080: 17905 | C2080: Summit Public School: Atlas | D2080: TRS 2/3 | E2080: 0 | F2080: 0 | G2080: 0 | H2080: 60357.5 | I2080: 0.00018491702 | J2080: 0 | K2080: 0 | L2080: 0 | M2080: 2015-2016
A2081: 2633 | B2081: 27905 | C2081: Summit Public School: Olympus | D2081: TRS 2/3 | E2081: 0 | F2081: 0 | G2081: 0 | H2081: 60357.5 | I2081: 0.00018491702 | J2081: 0 | K2081: 0 | L2081: 0 | M2081: 2015-2016
A2082: 2634 | B2082: 27931 | C2082: Bates Technical College | D2082: TRS 2/3 | E2082: 0 | F2082: 0 | G2082: 0 | H2082: 18996.58 | I2082: 5.8199744e-05 | J2082: 0 | K2082: 0 | L2082: 0 | M2082: 2015-2016
A2083: 2635 | B2083: 32907 | C2083: PRIDE Prep School | D2083: TRS 2/3 | E2083: 0 | F2083: 0 | G2083: 0 | H2083: 28444.38 | I2083: 8.714493e-05 | J2083: 0 | K2083: 0 | L2083: 0 | M2083: 2015-2016
A2084: 0002 | B2084: 14005 | C2084: Aberdeen School District | D2084: SERS 2/3 | E2084: 0 | F2084: 0 | G2084: 0 | H2084: 370463.5 | I2084: 0.0030966318 | J2084: 0 | K2084: 0 | L2084: 0 | M2084: 2015-2016
A2085: 0010 | B2085: 21226 | C2085: Adna School District | D2085: SERS 2/3 | E2085: 0 | F2085: 0 | G2085: 0 | H2085: 41142.63 | I2085: 0.00034390319 | J2085: 0 | K2085: 0 | L2085: 0 | M2085: 2015-2016
A2086: 0017 | B2086: 22017 | C2086: Almira School District | D2086: SERS 2/3 | E2086: 0 | F2086: 0 | G2086: 0 | H2086: 19239.62 | I2086: 0.00016082021 | J2086: 0 | K2086: 0 | L2086: 0 | M2086: 2015-2016
...

Sheet PensionStateTotals
A1: SchoolYear | B1: Plan Key | C1: State Total
A2: 2012-2013 | B2: TRS 1 | C2: 1.1614408e+08
A3: 2012-2013 | B3: TRS 2/3 | C3: 2.2941012e+08
A4: 2012-2013 | B4: SERS 2/3 | C4: 80379621
A5: 2012-2013 | B5: PERS 1 | C5: 2.5933941e+08
A6: 2012-2013 | B6: PERS 2/3 | C6: 0
A7: 2013-2014 | B7: TRS 1 | C7: 1.977486e+08
A8: 2013-2014 | B8: TRS 2/3 | C8: 2.4536804e+08
A9: 2013-2014 | B9: SERS 2/3 | C9: 87439313
A10: 2013-2014 | B10: PERS 1 | C10: 4.426309e+08
A11: 2013-2014 | B11: PERS 2/3 | C11: 4.2243961e+08
A12: 2014-2015 | B12: TRS 1 | C12: 2.2377686e+08
A13: 2014-2015 | B13: TRS 2/3 | C13: 2.6574733e+08
... A71: 2025-2026 | B71: PERS 2/3 | C71: 9.5601297e+08

Sheet LU_Org
A1: DRS_Id | B1: CCDDD | C1: District Name | D1: ESD
A2: 1064 | B2: 01109 | C2: Washtucna School District | D2: Educational Service District 101
A3: 0057 | B3: 01122 | C3: Benge School District | D3: Educational Service District 101
A4: 0695 | B4: 01147 | C4: Othello School District | D4: Educational Service District 123
A5: 0543 | B5: 01158 | C5: Lind School District | D5: Educational Service District 101
A6: 0814 | B6: 01160 | C6: Ritzville School District | D6: Educational Service District 101
A7: 0156 | B7: 02250 | C7: Clarkston School District | D7: Educational Service District 123
A8: 0029 | B8: 02420 | C8: Asotin-Anatone School District | D8: Educational Service District 123
A9: 0433 | B9: 03017 | C9: Kennewick School District | D9: Educational Service District 123
A10: 0712 | B10: 03050 | C10: Paterson School District | D10: Educational Service District 123
A11: 0483 | B11: 03052 | C11: Kiona-Benton City School District | D11: Educational Service District 123
A12: 0305 | B12: 03053 | C12: Finley School District | D12: Educational Service District 123
... A339: 4279 | B339: 99999 | C339: WA Schools Risk Management Pool | D339: WA Schools Risk Management Pool
