Workbook
Name DISNAME: ALLOC!$C$7:$C$336
Name disname2: ALLOC!$A$7:$A$336
Name disnameA: ALLOC!$A$7:$A$336

Sheet Please Read Instructions
B1: Last Updated: September 1, 2026. 2025–2026 allocations are updated through August 2026 for the GL 821 Restricted worksheet.
B2: Fund Balance Reporting Tool Instructions
B3: This tool is provided to assist districts in properly coding their ending fund balances for the 2025–2026 school year.
B4: The use of this tool is optional. However, Fund Balance equity must be categorized by classifications required by GASB Statement 54 and the Accounting Manual.
B5: Districts may not need to utilize every General Ledger Account Code presented here. If a particular GL code does not apply to your district, you are not required to use it.
B6: It is recommended that you save a copy of this excel file for your own use.
B7: The Fund Balance Summary worksheet summarizes all the behind-the-scenes data entered on the other sheets.
B8: In Column A, the GL account numbers and names are hyperlinked to the appropriate sheets. Click on the name to go to that sheet.
B9: From any other sheet, click on (Return to summary sheet) to return to the "Fund Balance Summary" sheet.
B10: SHEET: FUND BALANCE SUMMARY
B11: In the large yellow cell [A-B2], a drop-down list of district names appears in alphabetical order.
B12: Select your district. This will populate the sheet appropriately.
... B28: Paul.Stone@k12.wa.us.

Sheet CCDDD
D1: CCDDD | E1: SCHOOL DISTRICT (25-26) | F1: Class | G1: Basis | H1: Nonhigh | I1: =SUM(I2:I334) -> 92 | K1: =SUM(W2:W334) -> 0 | L1: =SUM(#REF!) -> #REF! | P1: CCDDD | Q1: SCHOOL DISTRICT (25-26 Rosetta) | R1: Class | S1: Basis | T1: Nonhigh | U1: =SUM(U2:U331) -> 92
C2: 1 | D2: 14005 | E2: ABERDEEN | F2: 1 | G2: Accrual | H2: No | I2: =IF(+G2="cash",1,0) -> 0 | K2: =+F2-R2 -> 0 | L2: =+I2-U2 -> 0 | N2: =+P2-D2 -> 0 | P2: 14005 | Q2: Aberdeen School District | R2: 1 | S2: Accrual | T2: No | U2: =IF(+S2="cash",1,0) -> 0
C3: 2 | D3: 21226 | E3: ADNA | F3: 2 | G3: Accrual | H3: No | I3: =IF(+G3="cash",1,0) -> 0 | K3: =+F3-R3 -> 0 | L3: =+I3-U3 -> 0 | N3: =+P3-D3 -> 0 | P3: 21226 | Q3: Adna School District | R3: 2 | S3: Accrual | T3: No | U3: =IF(+S3="cash",1,0) -> 0
C4: 3 | D4: 22017 | E4: ALMIRA | F4: 2 | G4: Cash | H4: No | I4: =IF(+G4="cash",1,0) -> 1 | K4: =+F4-R4 -> 0 | L4: =+I4-U4 -> 0 | N4: =+P4-D4 -> 0 | P4: 22017 | Q4: Almira School District | R4: 2 | S4: Cash | T4: No | U4: =IF(+S4="cash",1,0) -> 1
C5: 4 | D5: 29103 | E5: ANACORTES | F5: 1 | G5: Accrual | H5: No | I5: =IF(+G5="cash",1,0) -> 0 | K5: =+F5-R5 -> 0 | L5: =+I5-U5 -> 0 | N5: =+P5-D5 -> 0 | P5: 29103 | Q5: Anacortes School District | R5: 1 | S5: Accrual | T5: No | U5: =IF(+S5="cash",1,0) -> 0
C6: 5 | D6: 31016 | E6: ARLINGTON | F6: 1 | G6: Accrual | H6: No | I6: =IF(+G6="cash",1,0) -> 0 | K6: =+F6-R6 -> 0 | L6: =+I6-U6 -> 0 | N6: =+P6-D6 -> 0 | P6: 31016 | Q6: Arlington School District | R6: 1 | S6: Accrual | T6: No | U6: =IF(+S6="cash",1,0) -> 0
C7: 6 | D7: 02420 | E7: ASOTIN | F7: 2 | G7: Cash | H7: No | I7: =IF(+G7="cash",1,0) -> 1 | K7: =+F7-R7 -> 0 | L7: =+I7-U7 -> 0 | N7: =+P7-D7 -> 0 | P7: 02420 | Q7: Asotin-Anatone School District | R7: 2 | S7: Cash | T7: No | U7: =IF(+S7="cash",1,0) -> 1
C8: 7 | D8: 17408 | E8: AUBURN | F8: 1 | G8: Accrual | H8: No | I8: =IF(+G8="cash",1,0) -> 0 | K8: =+F8-R8 -> 0 | L8: =+I8-U8 -> 0 | N8: =+P8-D8 -> 0 | P8: 17408 | Q8: Auburn School District | R8: 1 | S8: Accrual | T8: No | U8: =IF(+S8="cash",1,0) -> 0
C9: 8 | D9: 18303 | E9: BAINBRIDGE | F9: 1 | G9: Accrual | H9: No | I9: =IF(+G9="cash",1,0) -> 0 | K9: =+F9-R9 -> 0 | L9: =+I9-U9 -> 0 | N9: =+P9-D9 -> 0 | P9: 18303 | Q9: Bainbridge Island School District | R9: 1 | S9: Accrual | T9: No | U9: =IF(+S9="cash",1,0) -> 0
C10: 9 | D10: 06119 | E10: BATTLE GROUND | F10: 1 | G10: Accrual | H10: No | I10: =IF(+G10="cash",1,0) -> 0 | K10: =+F10-R10 -> 0 | L10: =+I10-U10 -> 0 | N10: =+P10-D10 -> 0 | P10: 06119 | Q10: Battle Ground School District | R10: 1 | S10: Accrual | T10: No | U10: =IF(+S10="cash",1,0) -> 0
C11: 10 | D11: 17405 | E11: BELLEVUE | F11: 1 | G11: Accrual | H11: No | I11: =IF(+G11="cash",1,0) -> 0 | K11: =+F11-R11 -> 0 | L11: =+I11-U11 -> 0 | N11: =+P11-D11 -> 0 | P11: 17405 | Q11: Bellevue School District | R11: 1 | S11: Accrual | T11: No | U11: =IF(+S11="cash",1,0) -> 0
C12: 11 | D12: 37501 | E12: BELLINGHAM | F12: 1 | G12: Accrual | H12: No | I12: =IF(+G12="cash",1,0) -> 0 | K12: =+F12-R12 -> 0 | L12: =+I12-U12 -> 0 | N12: =+P12-D12 -> 0 | P12: 37501 | Q12: Bellingham School District | R12: 1 | S12: Accrual | T12: No | U12: =IF(+S12="cash",1,0) -> 0
C13: 12 | D13: 01122 | E13: BENGE | F13: 2 | G13: Cash | H13: Yes | I13: =IF(+G13="cash",1,0) -> 1 | K13: =+F13-R13 -> 0 | L13: =+I13-U13 -> 0 | N13: =+P13-D13 -> 0 | P13: 01122 | Q13: Benge School District | R13: 2 | S13: Cash | T13: Yes | U13: =IF(+S13="cash",1,0) -> 1
... C75: 74 | D75: 13165 | E75: EPHRATA | F75: 1 | G75: Accrual | H75: No | I75: =IF(+G75="cash",1,0) -> 0 | K75: =+F75-R75 -> 0 | L75: =+I75-U75 -> 0 | N75: =+P75-D75 -> 0 | P75: 13165 | Q75: Ephrata School District | R75: 1 | S75: Accrual | T75: No | U75: =IF(+S75="cash",1,0) -> 0
C76: 75 | D76: 06701 | E76: ESA 112 | F76: 1 | G76: Accrual | I76: =IF(+G76="cash",1,0) -> 0 | K76: =+F76-R76 -> 0 | L76: =+I76-U76 -> 0 | N76: =+P76-D76 -> 0 | P76: 06701 | Q76: ESA 112 | R76: 1 | S76: Accrual | U76: =IF(+S76="cash",1,0) -> 0
C77: 76 | D77: 32801 | E77: ESD 101 | F77: 1 | G77: Accrual | I77: =IF(+G77="cash",1,0) -> 0 | K77: =+F77-R77 -> 0 | L77: =+I77-U77 -> 0 | N77: =+P77-D77 -> 0 | P77: 32801 | Q77: ESD 101 | R77: 1 | S77: Accrual | U77: =IF(+S77="cash",1,0) -> 0
C78: 77 | D78: 39801 | E78: ESD 105 | F78: 1 | G78: Accrual | I78: =IF(+G78="cash",1,0) -> 0 | K78: =+F78-R78 -> 0 | L78: =+I78-U78 -> 0 | N78: =+P78-D78 -> 0 | P78: 39801 | Q78: ESD 105 | R78: 1 | S78: Accrual | U78: =IF(+S78="cash",1,0) -> 0
C79: 78 | D79: 06801 | E79: ESD 112 | F79: 1 | G79: Accrual | I79: =IF(+G79="cash",1,0) -> 0 | K79: =+F79-R79 -> 0 | L79: =+I79-U79 -> 0 | N79: =+P79-D79 -> 0 | P79: 06801 | Q79: ESD 112 | R79: 1 | S79: Accrual | U79: =IF(+S79="cash",1,0) -> 0
C80: 79 | D80: 34801 | E80: ESD 113 | F80: 1 | G80: Accrual | I80: =IF(+G80="cash",1,0) -> 0 | K80: =+F80-R80 -> 0 | L80: =+I80-U80 -> 0 | N80: =+P80-D80 -> 0 | P80: 34801 | Q80: ESD 113 | R80: 1 | S80: Accrual | U80: =IF(+S80="cash",1,0) -> 0
C81: 80 | D81: 18801 | E81: ESD 114 | F81: 1 | G81: Accrual | I81: =IF(+G81="cash",1,0) -> 0 | K81: =+F81-R81 -> 0 | L81: =+I81-U81 -> 0 | N81: =+P81-D81 -> 0 | P81: 18801 | Q81: ESD 114 | R81: 1 | S81: Accrual | U81: =IF(+S81="cash",1,0) -> 0
C82: 81 | D82: 17801 | E82: ESD 121 | F82: 1 | G82: Accrual | I82: =IF(+G82="cash",1,0) -> 0 | K82: =+F82-R82 -> 0 | L82: =+I82-U82 -> 0 | N82: =+P82-D82 -> 0 | P82: 17801 | Q82: ESD 121 | R82: 1 | S82: Accrual | U82: =IF(+S82="cash",1,0) -> 0
C83: 82 | D83: 11801 | E83: ESD 123 | F83: 1 | G83: Accrual | I83: =IF(+G83="cash",1,0) -> 0 | K83: =+F83-R83 -> 0 | L83: =+I83-U83 -> 0 | N83: =+P83-D83 -> 0 | P83: 11801 | Q83: ESD 123 | R83: 1 | S83: Accrual | U83: =IF(+S83="cash",1,0) -> 0
C84: 83 | D84: 04801 | E84: ESD 171 | F84: 1 | G84: Accrual | I84: =IF(+G84="cash",1,0) -> 0 | K84: =+F84-R84 -> 0 | L84: =+I84-U84 -> 0 | N84: =+P84-D84 -> 0 | P84: 04801 | Q84: ESD 171 | R84: 1 | S84: Accrual | U84: =IF(+S84="cash",1,0) -> 0
C85: 84 | D85: 29801 | E85: ESD 189 | F85: 1 | G85: Accrual | I85: =IF(+G85="cash",1,0) -> 0 | K85: =+F85-R85 -> 0 | L85: =+I85-U85 -> 0 | N85: =+P85-D85 -> 0 | P85: 29801 | Q85: ESD 189 | R85: 1 | S85: Accrual | U85: =IF(+S85="cash",1,0) -> 0
C86: 85 | D86: 21036 | E86: EVALINE | F86: 2 | G86: Cash | H86: Yes | I86: =IF(+G86="cash",1,0) -> 1 | K86: =+F86-R86 -> 0 | L86: =+I86-U86 -> 0 | N86: =+P86-D86 -> 0 | P86: 21036 | Q86: Evaline School District | R86: 2 | S86: Cash | T86: Yes | U86: =IF(+S86="cash",1,0) -> 1
C87: 86 | D87: 31002 | E87: EVERETT | F87: 1 | G87: Accrual | H87: No | I87: =IF(+G87="cash",1,0) -> 0 | K87: =+F87-R87 -> 0 | L87: =+I87-U87 -> 0 | N87: =+P87-D87 -> 0 | P87: 31002 | Q87: Everett School District | R87: 1 | S87: Accrual | T87: No | U87: =IF(+S87="cash",1,0) -> 0
C88: 87 | D88: 06114 | E88: EVERGREEN (CLARK) | F88: 1 | G88: Accrual | H88: No | I88: =IF(+G88="cash",1,0) -> 0 | K88: =+F88-R88 -> 0 | L88: =+I88-U88 -> 0 | N88: =+P88-D88 -> 0 | P88: 06114 | Q88: Evergreen School District (Clark) | R88: 1 | S88: Accrual | T88: No | U88: =IF(+S88="cash",1,0) -> 0
C89: 88 | D89: 33205 | E89: EVERGREEN (STEVENS) | F89: 2 | G89: Cash | H89: Yes | I89: =IF(+G89="cash",1,0) -> 1 | K89: =+F89-R89 -> 0 | L89: =+I89-U89 -> 0 | N89: =+P89-D89 -> 0 | P89: 33205 | Q89: Evergreen School District (Stevens) | R89: 2 | S89: Cash | T89: Yes | U89: =IF(+S89="cash",1,0) -> 1
C90: 89 | D90: 17210 | E90: FEDERAL WAY | F90: 1 | G90: Accrual | H90: No | I90: =IF(+G90="cash",1,0) -> 0 | K90: =+F90-R90 -> 0 | L90: =+I90-U90 -> 0 | N90: =+P90-D90 -> 0 | P90: 17210 | Q90: Federal Way School District | R90: 1 | S90: Accrual | T90: No | U90: =IF(+S90="cash",1,0) -> 0
C91: 90 | D91: 37502 | E91: FERNDALE | F91: 1 | G91: Accrual | H91: No | I91: =IF(+G91="cash",1,0) -> 0 | K91: =+F91-R91 -> 0 | L91: =+I91-U91 -> 0 | N91: =+P91-D91 -> 0 | P91: 37502 | Q91: Ferndale School District | R91: 1 | S91: Accrual | T91: No | U91: =IF(+S91="cash",1,0) -> 0
C92: 91 | D92: 27417 | E92: FIFE | F92: 1 | G92: Accrual | H92: No | I92: =IF(+G92="cash",1,0) -> 0 | K92: =+F92-R92 -> 0 | L92: =+I92-U92 -> 0 | N92: =+P92-D92 -> 0 | P92: 27417 | Q92: Fife School District | R92: 1 | S92: Accrual | T92: No | U92: =IF(+S92="cash",1,0) -> 0
C93: 92 | D93: 03053 | E93: FINLEY | F93: 2 | G93: Accrual | H93: No | I93: =IF(+G93="cash",1,0) -> 0 | K93: =+F93-R93 -> 0 | L93: =+I93-U93 -> 0 | N93: =+P93-D93 -> 0 | P93: 03053 | Q93: Finley School District | R93: 2 | S93: Accrual | T93: No | U93: =IF(+S93="cash",1,0) -> 0
C94: 93 | D94: 27402 | E94: FRANKLIN PIERCE | F94: 1 | G94: Accrual | H94: No | I94: =IF(+G94="cash",1,0) -> 0 | K94: =+F94-R94 -> 0 | L94: =+I94-U94 -> 0 | N94: =+P94-D94 -> 0 | P94: 27402 | Q94: Franklin Pierce School District | R94: 1 | S94: Accrual | T94: No | U94: =IF(+S94="cash",1,0) -> 0
C95: 94 | D95: 32358 | E95: FREEMAN | F95: 2 | G95: Cash | H95: No | I95: =IF(+G95="cash",1,0) -> 1 | K95: =+F95-R95 -> 0 | L95: =+I95-U95 -> 0 | N95: =+P95-D95 -> 0 | P95: 32358 | Q95: Freeman School District | R95: 2 | S95: Cash | T95: No | U95: =IF(+S95="cash",1,0) -> 1
C96: 95 | D96: 38302 | E96: GARFIELD | F96: 2 | G96: Cash | H96: No | I96: =IF(+G96="cash",1,0) -> 1 | K96: =+F96-R96 -> 0 | L96: =+I96-U96 -> 0 | N96: =+P96-D96 -> 0 | P96: 38302 | Q96: Garfield School District | R96: 2 | S96: Cash | T96: No | U96: =IF(+S96="cash",1,0) -> 1
C97: 96 | D97: 20401 | E97: GLENWOOD | F97: 2 | G97: Cash | H97: No | I97: =IF(+G97="cash",1,0) -> 1 | K97: =+F97-R97 -> 0 | L97: =+I97-U97 -> 0 | N97: =+P97-D97 -> 0 | P97: 20401 | Q97: Glenwood School District | R97: 2 | S97: Cash | T97: No | U97: =IF(+S97="cash",1,0) -> 1
... C331: 330 | D331: 39205 | E331: ZILLAH | F331: 2 | G331: Accrual | H331: No | I331: =IF(+G331="cash",1,0) -> 0 | K331: =+F331-R331 -> 0 | L331: =+I331-U331 -> 0 | N331: =+P331-D331 -> 0 | P331: 39205 | Q331: Zillah School District | R331: 2 | S331: Accrual | T331: No | U331: =IF(+S331="cash",1,0) -> 0

Sheet Fund Balance Summary
A1: CCDDD | B1: =INDEX(CCDDD!$P$2:$Q$331,MATCH(A2,CCDDD!$Q$2:$Q$331,0),1) -> 14005 | L1: General Fund Equity Accounts, by SUB-FUND
A2: Aberdeen School District | L2: FY 2025–2026
L3: Sub-Funds | N3: Total | O3: Check Column B to Column N. Should equal zero
A4: FY 2025–2026 | B4: GF | C4: ASB | D4: DSF | E4: CPF | F4: TVF | G4: PF | L4: 10 | M4: 11 | N4: GF
A5: Total Assets & Deferred Outflows of Resources | B5: 0 | C5: 0 | D5: 0 | E5: 0 | F5: 0 | G5: 0
A6: Total Liabilities & Deferred Inflows of Resources | B6: 0 | C6: 0 | D6: 0 | E6: 0 | F6: 0 | G6: 0 | R6: GENERAL FUND EQUITY ACCOUNTS, BY SUB-FUND: Districts are encouraged to track Fund Balance Equity by Sub-Fund. In the yellow cells provided in columns L & M, enter values, segregated by Sub-Fund, associated with the corresponding General Ledger account values in column B. Columns L & M are added together in column N. Column O compares column N to Column B. The amounts calculated in columns L & M, at Row 57, are intended to represent your ENDING Fund Balance, by Sub-Fund. This worksheet, and supporting work-tabs, can be used to support amounts provided in the supplemental F-196 report: Fund Balance, by Sub-Fund.
A7: Total Fund Balance | B7: =B5-B6 -> 0 | C7: =C5-C6 -> 0 | D7: =D5-D6 -> 0 | E7: =E5-E6 -> 0 | F7: =F5-F6 -> 0 | G7: =G5-G6 -> 0
A9: Nonspendable | B9: =B10+B11 -> 0 | C9: =C10+C11 -> 0 | D9: =D10+D11 -> 0 | E9: =E10+E11 -> 0 | F9: =F10+F11 -> 0 | G9: =G10+G11 -> 0 | L9: =L10+L11 -> 0 | M9: =M10+M11 -> 0 | N9: =N10+N11 -> 0 | O9: =+B9-N9 -> 0
A10: GL 840 Inventory & Prepaid Items | B10: ='GL 840 Nonspendable'!B9 -> 0 | C10: ='GL 840 Nonspendable'!B16 -> 0 | E10: ='GL 840 Nonspendable'!B24 -> 0 | L10: 0 | M10: 0 | N10: =+L10+M10 -> 0 | O10: =+B10-N10 -> 0
A11: GL 855 Trust Principal | G11: ='GL 855 Nonspendable'!B7 -> 0
A13: Restricted | B13: =SUM(B14:B32) -> 1794832.2 | C13: =SUM(C14:C32) -> 0 | D13: =SUM(D15:D32) -> 0 | E13: =SUM(E14:E32) -> 0 | F13: =SUM(F16,F21:F22,F24) -> 0 | G13: =SUM(G14:G32) -> 0 | L13: =SUM(L14:L32) -> 0 | M13: =SUM(M14:M32) -> 0 | N13: =SUM(N14:N32) -> 0 | O13: =+B13-N13 -> 1794832.2
A14: GL 810 Other Items | B14: ='GL 810 Restricted'!B5 -> 0 | C14: ='GL 810 Restricted'!E5 -> 0 | E14: ='GL 810 Restricted'!C5 -> 0 | G14: ='GL 810 Restricted'!G5 -> 0 | L14: 0 | M14: 0 | N14: =+L14+M14 -> 0 | O14: =+B14-N14 -> 0
A15: GL 815 Unequalized Deductible Revenues | B15: =IF(VLOOKUP(B1,CCDDD!$P$2:$S$331,4,FALSE)="Cash",'GL 815 Restricted'!$C$14,0) -> 0 | L15: 0 | M15: 0 | N15: =+L15+M15 -> 0 | O15: =+B15-N15 -> 0
A16: GL 819 Restricted to Fund Purposes | C16: =C7-C9-C14-C24 -> 0 | F16: =IF(F7-F9-F34-SUM(F21:F24)>=0,F7-F9-F34-SUM(F21:F24),0) -> 0
A17: GL 821 Carryover of Restricted Revenues | B17: ='GL 821 Restricted'!C171 -> 1794832.2 | L17: 0 | M17: 0 | N17: =+L17+M17 -> 0 | O17: =+B17-N17 -> 1794832.2
A18: GL 823 Restricted for Transition to Kindergarten | B18: ='GL 823 Restricted'!F23 -> 0 | L18: 0 | M18: 0 | N18: =+L18+M18 -> 0 | O18: =+B18-N18 -> 0
A19: GL 825 Restricted for Skills Centers | B19: ='GL 825 Restricted'!E44 -> 0 | E19: ='GL 825 Restricted'!E51 -> 0 | L19: 0 | M19: 0 | N19: =+L19+M19 -> 0 | O19: =+B19-N19 -> 0
A20: GL 828 Carryover of Food Service Revenue | B20: =IF('GL 828 Restricted'!B37>0,'GL 828 Restricted'!B37,0) -> 0 | L20: 0 | M20: 0 | N20: =+L20+M20 -> 0 | O20: =+B20-N20 -> 0
A21: GL 830 Debt Service | B21: ='GL 830 Restricted'!B6 -> 0 | D21: =D7-D22-D45 -> 0 | E21: ='GL 830 Restricted'!C6 -> 0 | F21: ='GL 830 Restricted'!D6 -> 0 | L21: 0 | M21: 0 | N21: =+L21+M21 -> 0 | O21: =+B21-N21 -> 0
A22: GL 835 Arbitrage Rebate | B22: ='GL 835 Restricted'!B6 -> 0 | D22: ='GL 835 Restricted'!C6 -> 0 | E22: ='GL 835 Restricted'!D6 -> 0 | F22: ='GL 835 Restricted'!E6 -> 0 | L22: 0 | M22: 0 | N22: =+L22+M22 -> 0 | O22: =+B22-N22 -> 0
A23: GL 845 Self-Insurance | B23: ='GL 845 Restricted'!B7 -> 0 | L23: 0 | M23: 0 | N23: =+L23+M23 -> 0 | O23: =+B23-N23 -> 0
A24: GL 850 Uninsured Risks | B24: ='GL 850 Restricted'!B8 -> 0 | C24: ='GL 850 Restricted'!C8 -> 0 | E24: ='GL 850 Restricted'!D8 -> 0 | F24: ='GL 850 Restricted'!E8 -> 0 | L24: 0 | M24: 0 | N24: =+L24+M24 -> 0 | O24: =+B24-N24 -> 0
A25: GL 861 Bond Proceeds | E25: ='GL 861 CPF Restricted'!C11 -> 0
A26: GL 863 State Proceeds | E26: ='GL 863 CPF Restricted'!C11 -> 0
A27: GL 864 Federal Proceeds | E27: ='GL 864 CPF Restricted'!C11 -> 0
A28: GL 865 Other Proceeds | E28: ='GL 865 CPF Restricted'!C11 -> 0
A29: GL 866 Impact Fee Proceeds | E29: ='GL 866 CPF Restricted'!C11 -> 0
A30: GL 867 Mitigation Fee Proceeds | E30: ='GL 867 CPF Restricted'!C11 -> 0
A31: GL 868 CTE Carryover/Redirection Proceeds | E31: ='GL 868 CPF Restricted'!C8 -> 0
A32: GL 869 Undistributed Proceeds | E32: ='GL 869 CPF Restricted'!C11 -> 0
A34: Committed | B34: =SUM(B35:B38) -> 0 | E34: =SUM(E35:E38) -> 0 | F34: =SUM(F35:F38) -> 0 | G34: =SUM(G35:G38) -> 0 | L34: =SUM(L35:L38) -> 0 | M34: =SUM(M35:M38) -> 0 | N34: =SUM(N35:N38) -> 0 | O34: =+B34-N34 -> 0
A35: GL 862 Levy Proceeds | E35: ='GL 862 CPF Restricted'!C11 -> 0
A36: GL 870 Other Purposes | B36: ='GL 870 Committed'!B6 -> 0 | E36: ='GL 870 Committed'!C6 -> 0 | F36: ='GL 870 Committed'!G6 -> 0 | G36: ='GL 870 Committed'!F6 -> 0 | L36: 0 | M36: 0 | N36: =+L36+M36 -> 0 | O36: =+B36-N36 -> 0
A37: GL 872 Economic Stabilization Policy | B37: ='GL 872 Committed'!B5 -> 0 | L37: 0 | M37: 0 | N37: =+L37+M37 -> 0 | O37: =+B37-N37 -> 0
A38: GL 873 Depreciation Sub-Fund Facility Maintenance | B38: ='GL 873 Committed'!B5 -> 0 | L38: 0 | M38: 0 | N38: =+L38+M38 -> 0 | O38: =+B38-N38 -> 0
A41: Assigned | B41: =MAX(MIN(SUM(B42:B45),B7-B9-B13-B34),0) -> 0 | E41: =E45 -> 0 | G41: =G45 -> 0 | L41: =SUM(L42:L45) -> 0 | M41: =SUM(M42:M45) -> 0 | N41: =SUM(N42:N45) -> 0 | O41: =+B41-N41 -> 0
A42: GL 875 Contingencies | B42: ='GL 875 Assigned'!B6 -> 0 | L42: 0 | M42: 0 | N42: =+L42+M42 -> 0 | O42: =+B42-N42 -> 0
A43: GL 884 Other Capital Projects | B43: ='GL 884 Assigned'!B5 -> 0 | L43: 0 | M43: 0 | N43: =+L43+M43 -> 0 | O43: =+B43-N43 -> 0
A44: GL 888 Other Purposes | B44: ='GL 888 Assigned'!B5 -> 0 | L44: 0 | M44: 0 | N44: =+L44+M44 -> 0 | O44: =+B44-N44 -> 0
A45: GL 889 Fund Purposes | D45: 0 | E45: =IF(E7-E9-E13-E34>=0,E7-E9-E13-E34,0) -> 0 | G45: =IF(G7-G9-G13-G34>=0,G7-G9-G13-G34,0) -> 0 | L45: 0 | M45: 0 | N45: =+L45+M45 -> 0 | O45: =+B45-N45 -> 0
...

Sheet ALLOC
B1: 1 | C1: 2 | D1: 3 | E1: 4 | F1: 5 | G1: 6 | H1: 7 | I1: 8 | J1: 9 | K1: 10 | L1: 11 | M1: 12 | N1: 13 | O1: 14 | P1: 15 | Q1: 16 | R1: 17 | S1: 18 | T1: 19 | U1: 20 | V1: 21 | W1: 22 | X1: 23 | Y1: 24 | Z1: 25 | AA1: 26 | AB1: 27 | AC1: 28 | AD1: 29 | AE1: 30 | AF1: 31 | AG1: 32 | AH1: 33 | AI1: 34 | AJ1: 35 | AK1: 36 | AL1: 37 | AM1: 38 | AN1: 39 | AO1: 40 | AP1: 41 | AQ1: 42 | AR1: 43
N2: Good 25-26 | S2: 4156_ta | T2: 4156_c | U2: 4156_i | AQ2: Paul Entry | AR2: Paul Entry
A3: August 2026 Allocations | D3: 088A | E3: 075A | F3: 075Ahp | G3: 087A | H3: 116A | I3: O7hp | J3: O7 | K3: 137A | L3: Z095 | M3: 157A | N3: 076A | O3: 136A | P3: 4159_ta | Q3: 4159_c | R3: 4159_i | S3: 34_ta | T3: 34_c | U3: 34_i | V3: 4126_ta | W3: 4126_c | X3: 4126_i | Y3: Z456 | Z3: 198A | AA3: 040A | AB3: 200A | AC3: Z266 | AD3: E55 | AE3: Z603 | AI3: E54 | AJ3: Z583 | AN3: A24 | AO3: A27
A4: =COUNTA(DISNAME) -> 330 | D4: CARRYOVER ACCT. 4121 | E4: CARRYOVER ACCT. 4155 | F4: CARRYOVER ACCT. 4155 | G4: Prog 21 Calc | H4: 116A | I4: HP LAP Total | J4: Regular LAP Total | K4: TBIP Total Alloc | L4: HiCap Total | M4: TRN 4199 Total bfr Adjust | N4: FED RESTRICTED | O4: STATE | P4: INST. 59 | Q4: INST CARRYOVER | R4: INST INDIRECT | S4: INST. 4156 | T4: INST CARRYOVER | U4: INST INDIRECT | V4: INST. 26 | W4: INST CARRYOVER | X4: INST INDIRECT | Y4: FIRE DIST | Z4: MS CTE | AA4: CTE | AB4: MS CTE MIN | AC4: CTE MIN | AD4: CTE FTE | AE4: CTE 9-12 TOTAL | AF4: Basic Ed | AG4: Alloc | AH4: CTE Enhance | AI4: MS CTE | AJ4: CTE 7-8 TOTAL | AK4: Basic Ed | AL4: Alloc | AM4: MS CTE | AN4: 1400 | AO4: 5400 | AP4: Transpo Stabl | AQ4: 25-26 PLD 34 | AR4: 205-26 PLD 34
D5: SPECIAL ED | E5: LAP Regular | F5: LAP HiPov | G5: 4121 | H5: 3121 | I5: 4155 | J5: 4155 | K5: 4165 | L5: 4174 | M5: 4199 | N5: RATE | O5: RATE | Q5: ACCT. 4159 | R5: ACCT. 4159 | S5: & INST 34 | T5: ACCT. 4156 & 34 | U5: ACCT. 4156 & 34 | W5: ACCT. 4126 | X5: ACCT. 4126 | Y5: PAY | Z5: CARRYOVER | AA5: CARRYOVER | AB5: EXPEND | AC5: EXPEND | AE5: BASIC ED | AF5: Per Student | AG5: per Student | AI5: FTE | AJ5: BASIC ED | AK5: Per Student | AL5: per Student | AM5: ENHANCE | AP5: 419902 | AQ5: Carryover | AR5: Allocation | BD5: pld | BF5: Carryover | BG5: Allocation
A6: Sort | B6: ccddd | C6: Select District => | D6: =SUM(D7:D336) -> 2482542.4 | E6: =SUM(E7:E336) -> 18891996 | F6: =SUM(F7:F336) -> 8457435.7 | G6: =SUM(G7:G336) -> 2.512594e+09 | H6: =SUM(H7:H336) -> 3.7600299e+08 | I6: =SUM(I7:I336) -> 1.6628973e+08 | J6: =SUM(J7:J336) -> 3.8945639e+08 | K6: =SUM(K7:K336) -> 3.0049356e+08 | ... M6: =SUM(M7:M336) -> 8.0690838e+08 | N6: 0.035 | O6: 0.1498141 | P6: =SUM(P7:P336) -> 181128.88 | Q6: =SUM(Q7:Q336) -> 36677.14 | R6: =SUM(R7:R336) -> 7545.73 | S6: =SUM(S7:S336) -> 13388974 | T6: =SUM(T7:T336) -> 483476.64 | U6: =SUM(U7:U336) -> 448210.59 | V6: =SUM(V7:V336) -> 3835025.2 | W6: =SUM(W7:W336) -> 252479.69 | ... AP6: =SUM(AP7:AP336) -> 0 | AQ6: 24731363 | AR6: =SUM(AR7:AR336) -> 1.2524011e+08 | AY6: CCDDD | AZ6: SCHOOL DISTRICT (25-26) | BD6: ccddd | BF6: 24731363 | BG6: 1.0938461e+08
A7: ABERDEEN | B7: 14005 | C7: =CONCATENATE(B7," ",A7," SCHOOL DISTRICT") -> 14005 ABERDEEN SCHOOL DISTRICT | F7: 33274.85 | G7: 8037347.9 | H7: 1291980.7 | I7: 985846.72 | J7: 1495847.4 | K7: 813199.41 | L7: 95942.93 | M7: 1725148.7 | N7: 0.0261 | O7: 0.1626 | S7: 226761.03 | U7: 7257.49 | Y7: 2462.26 | AB7: 1165452.5 | AC7: 2502526.4 | AD7: 238.62 | AE7: 2247573.7 | AI7: 116.49 | AJ7: 1076187.6 | AN7: 4000 | AQ7: 0 | AR7: 353454.04 | AU7: =+B7-AY7 -> 0 | AX7: 1 | AY7: 14005 | AZ7: ABERDEEN | BA7: =+AY7-BD7 -> 0 | BC7: 1 | BD7: 14005 | BE7: ABERDEEN | BF7: 0 | BG7: 291854.15
A8: ADNA | B8: 21226 | C8: =CONCATENATE(B8," ",A8," SCHOOL DISTRICT") -> 21226 ADNA SCHOOL DISTRICT | G8: 822207.12 | H8: 131333.86 | J8: 112809.21 | L8: 20915.99 | M8: 403150.97 | N8: 0.0366 | O8: 0.2256 | Y8: 530.14 | AA8: 53267.51 | AB8: 105118.29 | AC8: 534656.26 | AD8: 47.69 | AE8: 458031.79 | AI8: 10.4 | AJ8: 97971.24 | AQ8: 13368.51 | AR8: 67265.14 | AU8: =+B8-AY8 -> 0 | AX8: 2 | AY8: 21226 | AZ8: ADNA | BA8: =+AY8-BD8 -> 0 | BC8: 2 | BD8: 21226 | BE8: ADNA | BF8: 13368.51 | BG8: 60789.17
A9: ALMIRA | B9: 22017 | C9: =CONCATENATE(B9," ",A9," SCHOOL DISTRICT") -> 22017 ALMIRA SCHOOL DISTRICT | G9: 150609.57 | H9: 22587.74 | J9: 32275.73 | L9: 3316 | M9: 211917.43 | O9: 0.3323 | Y9: 112.26 | Z9: 5354.42 | AA9: 594.94 | AB9: 9740.43 | AC9: 82671.04 | AD9: 7.72 | AE9: 72681.7 | AI9: 0.94 | AJ9: 8811.32 | AQ9: 63521.25 | AR9: 22444.46 | AU9: =+B9-AY9 -> 0 | AX9: 3 | AY9: 22017 | AZ9: ALMIRA | BA9: =+AY9-BD9 -> 0 | BC9: 3 | BD9: 22017 | BE9: ALMIRA | BF9: 63521.25 | BG9: 21250.3
A10: ANACORTES | B10: 29103 | C10: =CONCATENATE(B10," ",A10," SCHOOL DISTRICT") -> 29103 ANACORTES SCHOOL DISTRICT | G10: 6032313.4 | H10: 906591 | I10: 17463.86 | J10: 639504.13 | K10: 101354.69 | L10: 91716.71 | M10: 1619277.1 | N10: 0.0555 | O10: 0.1828 | Y10: 2159.91 | Z10: 22065.6 | AA10: 27408.85 | AB10: 350595.69 | AC10: 1217848.4 | AD10: 106.56 | AE10: 1105376.1 | AI10: 32.57 | AJ10: 332164.28 | AN10: 21000 | AQ10: 0 | AR10: 305172.45 | AU10: =+B10-AY10 -> 0 | AX10: 4 | AY10: 29103 | AZ10: ANACORTES | BA10: =+AY10-BD10 -> 0 | BC10: 4 | BD10: 29103 | BE10: ANACORTES | BF10: 0 | BG10: 260223.28
A11: ARLINGTON | B11: 31016 | C11: =CONCATENATE(B11," ",A11," SCHOOL DISTRICT") -> 31016 ARLINGTON SCHOOL DISTRICT | E11: 20781.72 | G11: 14390882 | H11: 2197761 | I11: 56663.33 | J11: 1736461 | K11: 726953.55 | L11: 196374.26 | M11: 4597478.8 | N11: 0.0326 | O11: 0.1438 | Z11: 36685.74 | AA11: 400049.24 | AB11: 387891.4 | AC11: 4135069.5 | AD11: 372.22 | AE11: 3861475.8 | AI11: 35.39 | AJ11: 360848.47 | AQ11: 29064.24 | AR11: 651445.42 | AU11: =+B11-AY11 -> 0 | AX11: 5 | AY11: 31016 | AZ11: ARLINGTON | BA11: =+AY11-BD11 -> 0 | BC11: 5 | BD11: 31016 | BE11: ARLINGTON | BF11: 29064.24 | BG11: 553712.09
A12: ASOTIN | B12: 02420 | C12: =CONCATENATE(B12," ",A12," SCHOOL DISTRICT") -> 02420 ASOTIN SCHOOL DISTRICT | E12: 15143.04 | G12: 1181005.7 | H12: 207275.73 | J12: 170552.91 | L12: 19895.99 | M12: 435809.05 | N12: 0.0507 | O12: 0.2231 | AB12: 15047.74 | AC12: 468550.51 | AD12: 46.48 | AE12: 437810.24 | AI12: 1.53 | AJ12: 14036.16 | AQ12: 4630.83 | AR12: 74448.08 | AU12: =+B12-AY12 -> 0 | AX12: 6 | AY12: 02420 | AZ12: ASOTIN | BA12: =+AY12-BD12 -> 0 | BC12: 6 | BD12: 02420 | BE12: ASOTIN | BF12: 4630.83 | BG12: 64380.57
A13: AUBURN | B13: 17408 | C13: =CONCATENATE(B13," ",A13," SCHOOL DISTRICT") -> 17408 AUBURN SCHOOL DISTRICT | F13: 162120.88 | G13: 33141528 | H13: 4901956.3 | I13: 4573335.1 | J13: 7729599.3 | K13: 10421808 | L13: 599637.8 | M13: 12796432 | N13: 0.0332 | O13: 0.1354 | Y13: 13850.13 | AA13: 175881.71 | AB13: 2423473.5 | AC13: 9521391.3 | AD13: 820.58 | AE13: 8360503.6 | AI13: 225.37 | AJ13: 2255953.4 | AQ13: 4181165.7 | AR13: 2183424.2 | AU13: =+B13-AY13 -> 0 | AX13: 7 | AY13: 17408 | AZ13: AUBURN | BA13: =+AY13-BD13 -> 0 | BC13: 7 | BD13: 17408 | BE13: AUBURN | BF13: 4181165.7 | BG13: 1958667.7
A14: BAINBRIDGE | B14: 18303 | C14: =CONCATENATE(B14," ",A14," SCHOOL DISTRICT") -> 18303 BAINBRIDGE SCHOOL DISTRICT | G14: 8307638.3 | H14: 1018973.2 | J14: 322763.57 | K14: 106448.48 | L14: 126846.87 | M14: 1848921.5 | N14: 0.0196 | O14: 0.1936 | Y14: 2810.5 | AB14: 589112.81 | AC14: 3429013.8 | AD14: 295.05 | AE14: 3174195.3 | AI14: 51.12 | AJ14: 540943.39 | AQ14: 2132.28 | AR14: 379370.76 | AU14: =+B14-AY14 -> 0 | AX14: 8 | AY14: 18303 | AZ14: BAINBRIDGE | BA14: =+AY14-BD14 -> 0 | BC14: 8 | BD14: 18303 | BE14: BAINBRIDGE | BF14: 2132.28 | BG14: 347296.56
A15: BATTLE GROUND | B15: 06119 | C15: =CONCATENATE(B15," ",A15," SCHOOL DISTRICT") -> 06119 BATTLE GROUND SCHOOL DISTRICT | E15: 272090.25 | F15: 15898.61 | G15: 28978723 | H15: 4469687.5 | I15: 261888.36 | J15: 3824553.7 | K15: 2709454.7 | L15: 427203.13 | M15: 14379866 | N15: 0.0295 | O15: 0.1542 | Y15: 10401.32 | AA15: 305032.98 | AB15: 713788.32 | AC15: 10170890 | AD15: 957.75 | AE15: 9567626.1 | AI15: 67.42 | AJ15: 661373.81 | AQ15: 738975.4 | AR15: 1287421.5 | AU15: =+B15-AY15 -> 0 | AX15: 9 | AY15: 06119 | AZ15: BATTLE GROUND | BA15: =+AY15-BD15 -> 0 | BC15: 9 | BD15: 06119 | BE15: BATTLE GROUND | BF15: 738975.4 | BG15: 1097482.5
A16: BELLEVUE | B16: 17405 | C16: =CONCATENATE(B16," ",A16," SCHOOL DISTRICT") -> 17405 BELLEVUE SCHOOL DISTRICT | E16: 107243.27 | G16: 43995367 | H16: 5347245.3 | I16: 708538.79 | J16: 3563612.2 | K16: 8424881.1 | L16: 728436.56 | M16: 8081260 | N16: 0.0367 | O16: 0.1276 | Y16: 4641.02 | Z16: 200192 | AA16: 112608 | AB16: 2540156.6 | AC16: 10293404 | AD16: 846.65 | AE16: 8952015.5 | AI16: 228.38 | AJ16: 2374072.5 | AQ16: 50270.29 | AR16: 2211402.7 | AU16: =+B16-AY16 -> 0 | AX16: 10 | AY16: 17405 | AZ16: BELLEVUE | BA16: =+AY16-BD16 -> 0 | BC16: 10 | BD16: 17405 | BE16: BELLEVUE | BF16: 50270.29 | BG16: 2068894
A17: BELLINGHAM | B17: 37501 | C17: =CONCATENATE(B17," ",A17," SCHOOL DISTRICT") -> 37501 BELLINGHAM SCHOOL DISTRICT | E17: 79332.03 | G17: 28396043 | H17: 4357164.3 | I17: 647496.84 | J17: 3131156.2 | K17: 2002552.3 | L17: 358029.03 | M17: 7045325 | N17: 0.042 | O17: 0.1647 | Y17: 897.23 | AA17: 263577.57 | AB17: 5933270.6 | AC17: 10216695 | AD17: 954.07 | AE17: 9353531.4 | AI17: 578.92 | AJ17: 5571522.5 | AQ17: 0 | AR17: 1223672.1 | AU17: =+B17-AY17 -> 0 | AX17: 11 | AY17: 37501 | AZ17: BELLINGHAM | BA17: =+AY17-BD17 -> 0 | BC17: 11 | BD17: 37501 | BE17: BELLINGHAM | BF17: 0 | BG17: 1044378.1
A18: BENGE | B18: 01122 | C18: =CONCATENATE(B18," ",A18," SCHOOL DISTRICT") -> 01122 BENGE SCHOOL DISTRICT | D18: 695.89 | M18: 113274.44 | N18: 0.1432 | O18: 0.3435 | AN18: 1.57 | AQ18: 2039.78 | AR18: 2960.04 | AU18: =+B18-AY18 -> 0 | AX18: 12 | AY18: 01122 | AZ18: BENGE | BA18: =+AY18-BD18 -> 0 | BC18: 12 | BD18: 01122 | BE18: BENGE | BF18: 2039.78 | BG18: 3046.14
A19: BETHEL | B19: 27403 | C19: =CONCATENATE(B19," ",A19," SCHOOL DISTRICT") -> 27403 BETHEL SCHOOL DISTRICT | F19: 159895.27 | G19: 45581364 | H19: 6906688.9 | I19: 3777491 | J19: 7951126.3 | K19: 3428084.4 | L19: 693979.01 | M19: 19614742 | N19: 0.0397 | O19: 0.1494 | Y19: 16241.11 | AA19: 245890.34 | AB19: 2508551.1 | AC19: 11115140 | AD19: 1041.5 | AE19: 10210904 | AI19: 244.18 | AJ19: 2349888.5 | AQ19: 290692.05 | AR19: 2345447.1 | AU19: =+B19-AY19 -> 0 | AX19: 13 | AY19: 27403 | AZ19: BETHEL | BA19: =+AY19-BD19 -> 0 | BC19: 13 | BD19: 27403 | BE19: BETHEL | BF19: 290692.05 | BG19: 2042884.6
A20: BICKLETON | B20: 20203 | C20: =CONCATENATE(B20," ",A20," SCHOOL DISTRICT") -> 20203 BICKLETON SCHOOL DISTRICT | H20: 26221.4 | M20: 246200.8 | N20: 0.023 | O20: 0.259 | Y20: 70.47 | AB20: 13397.66 | AC20: 12716.54 | AD20: 0.99 | AE20: 9401.94 | AI20: 1.35 | AJ20: 12446.83 | AQ20: 2883.21 | AR20: 19540.89 | AU20: =+B20-AY20 -> 0 | AX20: 14 | AY20: 20203 | AZ20: BICKLETON | BA20: =+AY20-BD20 -> 0 | BC20: 14 | BD20: 20203 | BE20: BICKLETON | BF20: 2883.21 | BG20: 19630.34
A21: BLAINE | B21: 37503 | C21: =CONCATENATE(B21," ",A21," SCHOOL DISTRICT") -> 37503 BLAINE SCHOOL DISTRICT | E21: 72341.08 | F21: 32545.76 | G21: 5172153.9 | H21: 767649.33 | I21: 314809.85 | J21: 728340.54 | K21: 219357.14 | L21: 66301.42 | M21: 1778809.2 | N21: 0.0382 | O21: 0.1899 | Y21: 1623.21 | Z21: 5619.88 | AB21: 91987.98 | AC21: 1196608.7 | AD21: 106.82 | AE21: 1088298.7 | AI21: 8.59 | AJ21: 85920.21 | AQ21: 0 | AR21: 232912.1 | AU21: =+B21-AY21 -> 0 | AX21: 15 | AY21: 37503 | AZ21: BLAINE | BA21: =+AY21-BD21 -> 0 | BC21: 15 | BD21: 37503 | BE21: BLAINE | BF21: 0 | BG21: 197570.75
A22: BOISTFORT | B22: 21234 | C22: =CONCATENATE(B22," ",A22," SCHOOL DISTRICT") -> 21234 BOISTFORT SCHOOL DISTRICT | G22: 924802.89 | H22: 107503.38 | I22: 24206.8 | J22: 109206.91 | L22: 12379.74 | M22: 256794.27 | O22: 0.147 | Y22: 68.01 | Z22: 1065.83 | AB22: 8327.66 | AC22: 8715.79 | AI22: 0.8 | AJ22: 7548.46 | AQ22: 39411.94 | AR22: 13272.96 | AU22: =+B22-AY22 -> 0 | AX22: 16 | AY22: 21234 | AZ22: BOISTFORT | BA22: =+AY22-BD22 -> 0 | BC22: 16 | BD22: 21234 | BE22: BOISTFORT | BF22: 39411.94 | BG22: 10645.22
A23: BREMERTON | B23: 18100 | C23: =CONCATENATE(B23," ",A23," SCHOOL DISTRICT") -> 18100 BREMERTON SCHOOL DISTRICT | E23: 140589.44 | G23: 13524630 | H23: 1836314.6 | I23: 1415674.6 | J23: 2298573.9 | K23: 1256889.2 | L23: 162498.36 | M23: 2976961.8 | N23: 0.0456 | O23: 0.1628 | Y23: 3544.68 | Z23: 99952.22 | AA23: 114537.52 | AB23: 1401637.4 | AC23: 3280008.6 | AD23: 289.68 | AE23: 3062864.1 | AI23: 127.2 | AJ23: 1322163.6 | AQ23: 63228.07 | AR23: 597799.83 | AU23: =+B23-AY23 -> 0 | AX23: 17 | AY23: 18100 | AZ23: BREMERTON | BA23: =+AY23-BD23 -> 0 | BC23: 17 | BD23: 18100 | BE23: BREMERTON | BF23: 63228.07 | BG23: 521282.95
A24: BREWSTER | B24: 24111 | C24: =CONCATENATE(B24," ",A24," SCHOOL DISTRICT") -> 24111 BREWSTER SCHOOL DISTRICT | E24: 27543.15 | F24: 18316.96 | G24: 1507933.7 | H24: 252763.77 | I24: 313804.1 | J24: 658999.68 | K24: 708551.75 | L24: 29401.85 | M24: 286460.31 | N24: 0.0656 | O24: 0.2194 | Y24: 813.65 | Z24: 1684.59 | AA24: 9546.04 | AB24: 157005.26 | AC24: 886432 | AD24: 86.08 | AE24: 810856.98 | AI24: 16.09 | AJ24: 148643.81 | AQ24: 8.7311491e-11 | AR24: 119185.85 | AU24: =+B24-AY24 -> 0 | AX24: 18 | AY24: 24111 | AZ24: BREWSTER | BA24: =+AY24-BD24 -> 0 | BC24: 18 | BD24: 24111 | BE24: BREWSTER | BF24: 8.7311491e-11 | BG24: 106306.25
A25: BRIDGEPORT | B25: 09075 | C25: =CONCATENATE(B25," ",A25," SCHOOL DISTRICT") -> 09075 BRIDGEPORT SCHOOL DISTRICT | E25: 43270.8 | F25: 10019.76 | G25: 1068154.8 | H25: 181951.72 | I25: 243062.78 | J25: 480156.76 | K25: 713348.12 | L25: 22327.74 | M25: 230937.91 | N25: 0.0443 | O25: 0.2028 | Y25: 604.71 | Z25: 17.09 | AA25: 17.09 | AB25: 52580.6 | AC25: 247127.35 | AD25: 25.19 | AE25: 237243.25 | AI25: 5.36 | AJ25: 49520.08 | AN25: 2478.21 | AQ25: 88316.93 | AR25: 93789.31 | AU25: =+B25-AY25 -> 0 | AX25: 19 | AY25: 09075 | AZ25: BRIDGEPORT | BA25: =+AY25-BD25 -> 0 | BC25: 19 | BD25: 09075 | BE25: BRIDGEPORT | BF25: 88316.93 | BG25: 84692.49
A26: BRINNON | B26: 16046 | C26: =CONCATENATE(B26," ",A26," SCHOOL DISTRICT") -> 16046 BRINNON SCHOOL DISTRICT | G26: 91825.96 | H26: 14322.28 | I26: 23211.99 | J26: 38465.59 | L26: 2100.15 | M26: 150502.45 | N26: 0.1138 | O26: 0.393 | Y26: 60.63 | AQ26: 1856.59 | AR26: 8129.55 | AU26: =+B26-AY26 -> 0 | AX26: 20 | AY26: 16046 | AZ26: BRINNON | BA26: =+AY26-BD26 -> 0 | BC26: 20 | BD26: 16046 | BE26: BRINNON | BF26: 1856.59 | BG26: 7413.91
A27: BURLINGTON EDISON | B27: 29100 | C27: =CONCATENATE(B27," ",A27," SCHOOL DISTRICT") -> 29100 BURLINGTON EDISON SCHOOL DISTRICT | E27: 143158.04 | F27: 55132.55 | G27: 7587636.8 | H27: 1311192 | I27: 850340.03 | J27: 1402323.7 | K27: 1413982.1 | L27: 107496.05 | M27: 2897716.3 | N27: 0.0178 | O27: 0.1157 | Y27: 1968.17 | AB27: 647435.63 | AC27: 2821002.6 | AD27: 253.53 | AE27: 2583164.4 | AI27: 59.27 | AJ27: 593338.64 | AN27: 1482.37 | AQ27: 0 | AR27: 406468.74 | AU27: =+B27-AY27 -> 0 | AX27: 21 | AY27: 29100 | AZ27: BURLINGTON EDISON | BA27: =+AY27-BD27 -> 0 | BC27: 21 | BD27: 29100 | BE27: BURLINGTON EDISON | BF27: 0 | BG27: 345622.77
A28: CAMAS | B28: 06117 | C28: =CONCATENATE(B28," ",A28," SCHOOL DISTRICT") -> 06117 CAMAS SCHOOL DISTRICT | G28: 14569001 | H28: 2195544.9 | J28: 991888.64 | K28: 617941.65 | L28: 242693.61 | M28: 4268009.1 | N28: 0.053 | O28: 0.1401 | Y28: 5028.59 | AA28: 12545.42 | AB28: 368206.76 | AC28: 4229372.4 | AD28: 406.6 | AE28: 4061599.3 | AI28: 35.54 | AJ28: 348551.57 | AQ28: 135303.1 | AR28: 759136.56 | AU28: =+B28-AY28 -> 0 | AX28: 22 | AY28: 06117 | AZ28: CAMAS | BA28: =+AY28-BD28 -> 0 | BC28: 22 | BD28: 06117 | BE28: CAMAS | BF28: 135303.1 | BG28: 671236.33
A29: CAPE FLATTERY | B29: 05401 | C29: =CONCATENATE(B29," ",A29," SCHOOL DISTRICT") -> 05401 CAPE FLATTERY SCHOOL DISTRICT | G29: 1078754.3 | H29: 175076.79 | I29: 156404.65 | J29: 250800.13 | L29: 15143.06 | M29: 334888.4 | N29: 0.0641 | O29: 0.23 | Y29: 394.13 | AC29: 119239.45 | AD29: 10.14 | AE29: 95432.29 | AN29: 2000 | AQ29: 19062.13 | AR29: 74677.2 | AU29: =+B29-AY29 -> 0 | AX29: 23 | AY29: 05401 | AZ29: CAPE FLATTERY | BA29: =+AY29-BD29 -> 0 | BC29: 23 | BD29: 05401 | BE29: CAPE FLATTERY | BF29: 19062.13 | BG29: 65488.53
A30: CARBONADO | B30: 27019 | C30: =CONCATENATE(B30," ",A30," SCHOOL DISTRICT") -> 27019 CARBONADO SCHOOL DISTRICT | G30: 318457.98 | H30: 47473.8 | J30: 44971.51 | L30: 5694.08 | M30: 96172.64 | N30: 0.0751 | O30: 0.2824 | AQ30: 10033.03 | AR30: 19189.24 | AU30: =+B30-AY30 -> 0 | AX30: 24 | AY30: 27019 | AZ30: CARBONADO | BA30: =+AY30-BD30 -> 0 | BC30: 24 | BD30: 27019 | BE30: CARBONADO | BF30: 10033.03 | BG30: 16451.66
A31: CASCADE | B31: 04228 | C31: =CONCATENATE(B31," ",A31," SCHOOL DISTRICT") -> 04228 CASCADE SCHOOL DISTRICT | E31: 2748.97 | F31: 494.54 | H31: 279376 | J31: 386756.11 | K31: 244177.83 | L31: 37802.4 | M31: 997898.36 | O31: 0.1581 | Y31: 983.27 | Z31: 15264.49 | AA31: 57423.56 | AB31: 570702.85 | AC31: 1345430.6 | AD31: 127.54 | AE31: 1201338.6 | AI31: 55.56 | AJ31: 513302.4 | AN31: 1928.69 | AQ31: 0 | AR31: 112718.91 | AU31: =+B31-AY31 -> 0 | AX31: 25 | AY31: 04228 | AZ31: CASCADE | BA31: =+AY31-BD31 -> 0 | BC31: 25 | BD31: 04228 | BE31: CASCADE | BF31: 0 | BG31: 112806.63
A32: CASHMERE | B32: 04222 | C32: =CONCATENATE(B32," ",A32," SCHOOL DISTRICT") -> 04222 CASHMERE SCHOOL DISTRICT | E32: 35395.85 | F32: 17701.71 | G32: 2303162.1 | H32: 321852.42 | J32: 543472.92 | K32: 333306.45 | L32: 51889.95 | M32: 602759.86 | N32: 0.0347 | O32: 0.1572 | Z32: 10351.46 | AA32: 102164.44 | AB32: 470768.15 | AC32: 1442890.2 | AD32: 138.65 | AE32: 1331678.6 | AI32: 46.51 | AJ32: 438271.15 | AN32: 398.5 | AQ32: 0 | AR32: 169157.08 | AU32: =+B32-AY32 -> 0 | AX32: 26 | AY32: 04222 | AZ32: CASHMERE | BA32: =+AY32-BD32 -> 0 | BC32: 26 | BD32: 04222 | BE32: CASHMERE | BF32: 0 | BG32: 154582.17
A33: CASTLE ROCK | B33: 08401 | C33: =CONCATENATE(B33," ",A33," SCHOOL DISTRICT") -> 08401 CASTLE ROCK SCHOOL DISTRICT | G33: 2948464.9 | H33: 486267.62 | I33: 324746.89 | J33: 520059.27 | K33: 44693.26 | L33: 43992.26 | M33: 1097811.9 | N33: 0.0381 | O33: 0.1795 | Y33: 1160.25 | Z33: 3077.22 | AA33: 99496.9 | AB33: 64637.56 | AC33: 993802.04 | AD33: 92.01 | AE33: 866646.77 | AI33: 6.53 | AJ33: 60287.31 | AQ33: 9108.76 | AR33: 154477.84 | AU33: =+B33-AY33 -> 0 | AX33: 27 | AY33: 08401 | AZ33: CASTLE ROCK | BA33: =+AY33-BD33 -> 0 | BC33: 27 | BD33: 08401 | BE33: CASTLE ROCK | BF33: 9108.76 | BG33: 129395.55
A34: CATALYST | B34: 18901 | C34: =CONCATENATE(B34," ",A34," PUBLIC SCHOOLS CHARTER") -> 18901 CATALYST PUBLIC SCHOOLS CHARTER | G34: 1489151.5 | H34: 246990.04 | J34: 209691.78 | K34: 11950 | L34: 19004.9 | M34: 499986.85 | N34: 0.0387 | O34: 0.1535 | AQ34: 50709.75 | AR34: 81595.09 | AU34: =+B34-AY34 -> 0 | AX34: 28 | AY34: 18901 | AZ34: CATALYST | BA34: =+AY34-BD34 -> 0 | BC34: 28 | BD34: 18901 | BE34: CATALYST | BF34: 50709.75 | BG34: 71376.37
A35: CENTERVILLE | B35: 20215 | C35: =CONCATENATE(B35," ",A35," SCHOOL DISTRICT") -> 20215 CENTERVILLE SCHOOL DISTRICT | H35: 26689.19 | J35: 23875.19 | L35: 2984.39 | M35: 205290.37 | N35: 0.0749 | O35: 0.2686 | Y35: 77.02 | AQ35: 10158.87 | AR35: 10098.04 | AU35: =+B35-AY35 -> 0 | AX35: 29 | AY35: 20215 | AZ35: CENTERVILLE | BA35: =+AY35-BD35 -> 0 | BC35: 29 | BD35: 20215 | BE35: CENTERVILLE | BF35: 10158.87 | BG35: 10192.22
A36: CENTRAL KITSAP | B36: 18401 | C36: =CONCATENATE(B36," ",A36," SCHOOL DISTRICT") -> 18401 CENTRAL KITSAP SCHOOL DISTRICT | E36: 310293.61 | F36: 66732.27 | G36: 30517217 | H36: 4400262.5 | I36: 655506.8 | J36: 3591105.7 | K36: 1040268.3 | L36: 410216.98 | M36: 7526664.4 | N36: 0.037 | O36: 0.1433 | Y36: 8739.6 | Z36: 107393.22 | AA36: 568035.83 | AB36: 1319456.4 | AC36: 7492085.6 | AD36: 643.28 | AE36: 6920897.2 | AI36: 116.53 | AJ36: 1233151.8 | AN36: 18542.35 | AQ36: 338.31 | AR36: 1347084.5 | AU36: =+B36-AY36 -> 0 | AX36: 30 | AY36: 18401 | AZ36: CENTRAL KITSAP | BA36: =+AY36-BD36 -> 0 | BC36: 30 | BD36: 18401 | BE36: CENTRAL KITSAP | BF36: 338.31 | BG36: 1166653.3
A37: CENTRAL VALLEY | B37: 32356 | C37: =CONCATENATE(B37," ",A37," SCHOOL DISTRICT") -> 32356 CENTRAL VALLEY SCHOOL DISTRICT | E37: 89219.6 | F37: 20876.93 | G37: 32060062 | H37: 5236987.1 | I37: 1474291.7 | J37: 4594660.7 | K37: 1636098.4 | L37: 469981.19 | M37: 7800342.7 | N37: 0.0324 | O37: 0.1468 | Y37: 9224.68 | AB37: 4679485.1 | AC37: 7648146 | AD37: 728.66 | AE37: 6998676.5 | AI37: 461.26 | AJ37: 4347224.2 | AQ37: 1427049.1 | AR37: 1591229.1 | AU37: =+B37-AY37 -> 0 | AX37: 31 | AY37: 32356 | AZ37: CENTRAL VALLEY | BA37: =+AY37-BD37 -> 0 | BC37: 31 | BD37: 32356 | BE37: CENTRAL VALLEY | BF37: 1427049.1 | BG37: 1342636
A38: CENTRALIA | B38: 21401 | C38: =CONCATENATE(B38," ",A38," SCHOOL DISTRICT") -> 21401 CENTRALIA SCHOOL DISTRICT | E38: 164037.26 | G38: 7817091.2 | H38: 1154742.6 | I38: 1064878 | J38: 1670711.2 | K38: 944336 | L38: 103348.65 | M38: 2827281.3 | N38: 0.0241 | O38: 0.1139 | Y38: 2575.34 | Z38: 22350.81 | AA38: 52151.9 | AB38: 1091034.9 | AC38: 3146147.8 | AD38: 299.02 | AE38: 2816417 | AI38: 108.83 | AJ38: 1005373.2 | AQ38: 251875.45 | AR38: 371119.77 | AU38: =+B38-AY38 -> 0 | AX38: 32 | AY38: 21401 | AZ38: CENTRALIA | BA38: =+AY38-BD38 -> 0 | BC38: 32 | BD38: 21401 | BE38: CENTRALIA | BF38: 251875.45 | BG38: 324704.45
A39: CHEHALIS | B39: 21302 | C39: =CONCATENATE(B39," ",A39," SCHOOL DISTRICT") -> 21302 CHEHALIS SCHOOL DISTRICT | G39: 5689231.8 | H39: 950414.79 | I39: 551587.86 | J39: 1154837.1 | K39: 251811.5 | L39: 94979.19 | M39: 1911087.9 | N39: 0.0335 | O39: 0.1691 | P39: 181128.88 | Q39: 18086.82 | R39: 7545.73 | S39: 3520415.6 | T39: 154079.16 | U39: 114549.91 | Y39: 2463.08 | AC39: 2433961.9 | AD39: 224.32 | AE39: 2154591 | AQ39: 0 | AR39: 321247.73 | AU39: =+B39-AY39 -> 0 | AX39: 33 | AY39: 21302 | AZ39: CHEHALIS | BA39: =+AY39-BD39 -> 0 | BC39: 33 | BD39: 21302 | BE39: CHEHALIS | BF39: 0 | BG39: 279416.53
A40: CHENEY | B40: 32360 | C40: =CONCATENATE(B40," ",A40," SCHOOL DISTRICT") -> 32360 CHENEY SCHOOL DISTRICT | E40: 185377.92 | F40: 62212.76 | G40: 12221492 | H40: 1919316.7 | I40: 919637.25 | J40: 2080126.6 | K40: 938994.61 | L40: 173647.85 | M40: 4674781.4 | N40: 0.0279 | O40: 0.165 | Y40: 4232.14 | AB40: 1017263.4 | AC40: 2255150.8 | AD40: 212.19 | AE40: 1998666.9 | AI40: 101.87 | AJ40: 941175.4 | AQ40: 48586.83 | AR40: 589820.96 | AU40: =+B40-AY40 -> 0 | AX40: 34 | AY40: 32360 | AZ40: CHENEY | BA40: =+AY40-BD40 -> 0 | BC40: 34 | BD40: 32360 | BE40: CHENEY | BF40: 48586.83 | BG40: 497779.88
...

Sheet Indirects
A1: used for | D1: The Indirect Rates used for the 2025-2026 Financials are from 2023-24
A2: 2024-25 | C2: FY 2025-2026 Federal Indirect Rates and State Recovery Rates | F2: 619 | G2: 609 | H2: 620 | P2: Good 25-26
C3: INDIRECT COST LIMITS AND RECOVERIES | F3: Federal | G3: State | H3: Federal | M3: August Allocations | P3: 076A | Q3: 136A
F4: Restricted | G4: Recovery | H4: Unrestricted | M4: 330 | P4: FED RESTRICTED | Q4: STATE
A5: Alpha | B5: ccddd | C5: ESD | D5: CCDDD | E5: District | F5: Rate | G5: Rate | H5: Rate | P5: RATE | Q5: RATE
A6: sort | B6: sort | D6: OSPI | E6: Statewide Average | F6: 0.0387 | G6: 0.1535 | H6: 0.1535 | M6: Sort | N6: ccddd | O6: Select District => | P6: 0.035 | Q6: 0.1498141
A7: 1 | B7: 76 | C7: 101 | D7: 01109 | E7: Washtucna | F7: 0.0406 | G7: 0.3044 | H7: 0.3105 | M7: WASHTUCNA | N7: 01109 | O7: 01109 WASHTUCNA SCHOOL DISTRICT | P7: 0.0406 | Q7: 0.3044 | S7: =+F7-P7 -> 0 | T7: =+G7-Q7 -> 0
A8: 2 | B8: 154 | C8: 101 | D8: 01122 | E8: Benge | F8: 0.1432 | G8: 0.3435 | H8: 0.4921 | M8: BENGE | N8: 01122 | O8: 01122 BENGE SCHOOL DISTRICT | P8: 0.1432 | Q8: 0.3435 | S8: =+F8-P8 -> 0 | T8: =+G8-Q8 -> 0
A9: 3 | B9: 165 | C9: 123 | D9: 01147 | E9: Othello | F9: 0.0231 | G9: 0.1514 | H9: 0.1482 | M9: OTHELLO | N9: 01147 | O9: 01147 OTHELLO SCHOOL DISTRICT | P9: 0.0231 | Q9: 0.1514 | S9: =+F9-P9 -> 0 | T9: =+G9-Q9 -> 0
A10: 4 | B10: 221 | C10: 101 | D10: 01158 | E10: Lind | F10: 0.0521 | G10: 0.1874 | H10: 0.1266 | M10: LIND | N10: 01158 | O10: 01158 LIND SCHOOL DISTRICT | P10: 0.0521 | Q10: 0.1874 | S10: =+F10-P10 -> 0 | T10: =+G10-Q10 -> 0
A11: 5 | B11: 234 | C11: 101 | D11: 01160 | E11: Ritzville | F11: 0.0554 | G11: 0.2895 | H11: 0.3173 | M11: RITZVILLE | N11: 01160 | O11: 01160 RITZVILLE SCHOOL DISTRICT | P11: 0.0554 | Q11: 0.2895 | S11: =+F11-P11 -> 0 | T11: =+G11-Q11 -> 0
A12: 6 | B12: 7 | C12: 123 | D12: 02250 | E12: Clarkston | F12: 0.0516 | G12: 0.2124 | H12: 0.1967 | M12: CLARKSTON | N12: 02250 | O12: 02250 CLARKSTON SCHOOL DISTRICT | P12: 0.0516 | Q12: 0.2124 | S12: =+F12-P12 -> 0 | T12: =+G12-Q12 -> 0
A13: 7 | B13: 108 | C13: 123 | D13: 02420 | E13: Asotin-Anatone | F13: 0.0507 | G13: 0.2231 | H13: 0.2699 | M13: ASOTIN-ANATONE | N13: 02420 | O13: 02420 ASOTIN-ANATONE SCHOOL DISTRICT | P13: 0.0507 | Q13: 0.2231 | S13: =+F13-P13 -> 0 | T13: =+G13-Q13 -> 0
A14: 8 | B14: 127 | C14: 123 | D14: 03017 | E14: Kennewick | F14: 0.0329 | G14: 0.1117 | H14: 0.0984 | M14: KENNEWICK | N14: 03017 | O14: 03017 KENNEWICK SCHOOL DISTRICT | P14: 0.0329 | Q14: 0.1117 | S14: =+F14-P14 -> 0 | T14: =+G14-Q14 -> 0
A15: 9 | B15: 36 | C15: 123 | D15: 03050 | E15: Paterson | F15: 0 | G15: 0.2457 | H15: 0 | M15: PATERSON | N15: 03050 | O15: 03050 PATERSON SCHOOL DISTRICT | Q15: 0.2457 | S15: =+F15-P15 -> 0 | T15: =+G15-Q15 -> 0
A16: 10 | B16: 105 | C16: 123 | D16: 03052 | E16: Kiona Benton | F16: 0.0553 | G16: 0.2005 | H16: 0.1989 | M16: KIONA BENTON | N16: 03052 | O16: 03052 KIONA BENTON SCHOOL DISTRICT | P16: 0.0553 | Q16: 0.2005 | S16: =+F16-P16 -> 0 | T16: =+G16-Q16 -> 0
A17: 11 | B17: 292 | C17: 123 | D17: 03053 | E17: Finley | F17: 0.0277 | G17: 0.1941 | H17: 0.2039 | M17: FINLEY | N17: 03053 | O17: 03053 FINLEY SCHOOL DISTRICT | P17: 0.0277 | Q17: 0.1941 | S17: =+F17-P17 -> 0 | T17: =+G17-Q17 -> 0
A18: 12 | B18: 2 | C18: 123 | D18: 03116 | E18: Prosser | F18: 0.0416 | G18: 0.1775 | H18: 0.1779 | M18: PROSSER | N18: 03116 | O18: 03116 PROSSER SCHOOL DISTRICT | P18: 0.0416 | Q18: 0.1775 | S18: =+F18-P18 -> 0 | T18: =+G18-Q18 -> 0
A19: 13 | B19: 207 | C19: 123 | D19: 03400 | E19: Richland | F19: 0.0395 | G19: 0.1506 | H19: 0.153 | M19: RICHLAND | N19: 03400 | O19: 03400 RICHLAND SCHOOL DISTRICT | P19: 0.0395 | Q19: 0.1506 | S19: =+F19-P19 -> 0 | T19: =+G19-Q19 -> 0
A20: 14 | B20: 141 | C20: 171 | D20: 04019 | E20: Manson | F20: 0.0637 | G20: 0.1953 | H20: 0.2653 | M20: MANSON | N20: 04019 | O20: 04019 MANSON SCHOOL DISTRICT | P20: 0.0637 | Q20: 0.1953 | S20: =+F20-P20 -> 0 | T20: =+G20-Q20 -> 0
A21: 15 | B21: 294 | C21: 171 | D21: 04069 | E21: Stehekin | F21: 0.1666 | G21: 0.4045 | H21: 0.2523 | M21: STEHEKIN | N21: 04069 | O21: 04069 STEHEKIN SCHOOL DISTRICT | P21: 0.1666 | Q21: 0.4045 | S21: =+F21-P21 -> 0 | T21: =+G21-Q21 -> 0
A22: 16 | B22: 156 | C22: 171 | D22: 04127 | E22: Entiat | F22: 0.0842 | G22: 0.2015 | H22: 0.1738 | M22: ENTIAT | N22: 04127 | O22: 04127 ENTIAT SCHOOL DISTRICT | P22: 0.0842 | Q22: 0.2015 | S22: =+F22-P22 -> 0 | T22: =+G22-Q22 -> 0
A23: 17 | B23: 126 | C23: 171 | D23: 04129 | E23: Lake Chelan | F23: 0.0504 | G23: 0.2036 | H23: 0.1485 | M23: LAKE CHELAN | N23: 04129 | O23: 04129 LAKE CHELAN SCHOOL DISTRICT | P23: 0.0504 | Q23: 0.2036 | S23: =+F23-P23 -> 0 | T23: =+G23-Q23 -> 0
A24: 18 | B24: 181 | C24: 171 | D24: 04222 | E24: Cashmere | F24: 0.0347 | G24: 0.1572 | H24: 0.1626 | M24: CASHMERE | N24: 04222 | O24: 04222 CASHMERE SCHOOL DISTRICT | P24: 0.0347 | Q24: 0.1572 | S24: =+F24-P24 -> 0 | T24: =+G24-Q24 -> 0
A25: 19 | B25: 50 | C25: 171 | D25: 04228 | E25: Cascade | F25: 0 | G25: 0.1581 | H25: 0.038 | M25: CASCADE | N25: 04228 | O25: 04228 CASCADE SCHOOL DISTRICT | Q25: 0.1581 | S25: =+F25-P25 -> 0 | T25: =+G25-Q25 -> 0
A26: 20 | B26: 93 | C26: 171 | D26: 04246 | E26: Wenatchee | F26: 0.0287 | G26: 0.1293 | H26: 0.1302 | M26: WENATCHEE | N26: 04246 | O26: 04246 WENATCHEE SCHOOL DISTRICT | P26: 0.0287 | Q26: 0.1293 | S26: =+F26-P26 -> 0 | T26: =+G26-Q26 -> 0
A27: 21 | B27: 219 | D27: 04801 | E27: ESD 171 | F27: 0 | G27: 0.11 | H27: 0 | M27: ESD 171 | N27: 04801 | O27: 04801 ESD 171 | Q27: 0.11 | S27: =+F27-P27 -> 0 | T27: =+G27-Q27 -> 0
A28: 22 | B28: 35 | C28: 900 | D28: 04901 | E28: Pinnacle Prep Charter | F28: 0.0387 | G28: 0.1535 | H28: 0.1535 | M28: PINNACLES PREP | N28: 04901 | O28: 04901 PINNACLES PREP CHARTER | P28: 0.0387 | Q28: 0.1535 | S28: =+F28-P28 -> 0 | T28: =+G28-Q28 -> 0
A29: 23 | B29: 26 | C29: 114 | D29: 05121 | E29: Port Angeles | F29: 0.0801 | G29: 0.1622 | H29: 0.1853 | M29: PORT ANGELES | N29: 05121 | O29: 05121 PORT ANGELES SCHOOL DISTRICT | P29: 0.0801 | Q29: 0.1622 | S29: =+F29-P29 -> 0 | T29: =+G29-Q29 -> 0
A30: 24 | B30: 199 | C30: 114 | D30: 05313 | E30: Crescent | F30: 0.0657 | G30: 0.1973 | H30: 0.1742 | M30: CRESCENT | N30: 05313 | O30: 05313 CRESCENT SCHOOL DISTRICT | P30: 0.0657 | Q30: 0.1973 | S30: =+F30-P30 -> 0 | T30: =+G30-Q30 -> 0
A31: 25 | B31: 19 | C31: 114 | D31: 05323 | E31: Sequim | F31: 0.0618 | G31: 0.1959 | H31: 0.2323 | M31: SEQUIM | N31: 05323 | O31: 05323 SEQUIM SCHOOL DISTRICT | P31: 0.0618 | Q31: 0.1959 | S31: =+F31-P31 -> 0 | T31: =+G31-Q31 -> 0
A32: 26 | B32: 18 | C32: 114 | D32: 05401 | E32: Cape Flattery | F32: 0.0641 | G32: 0.23 | H32: 0.2448 | M32: CAPE FLATTERY | N32: 05401 | O32: 05401 CAPE FLATTERY SCHOOL DISTRICT | P32: 0.0641 | Q32: 0.23 | S32: =+F32-P32 -> 0 | T32: =+G32-Q32 -> 0
A33: 27 | B33: 45 | C33: 114 | D33: 05402 | E33: Quillayute Valley | F33: 0.0163 | G33: 0.0971 | H33: 0.0966 | M33: QUILLAYUTE VALLEY | N33: 05402 | O33: 05402 QUILLAYUTE VALLEY SCHOOL DISTRICT | P33: 0.0163 | Q33: 0.0971 | S33: =+F33-P33 -> 0 | T33: =+G33-Q33 -> 0
A34: 28 | B34: 132 | C34: 900 | D34: 05903 | E34: Quileute Tribal | F34: 0.0387 | G34: 0.1535 | H34: 0.1535 | M34: QUILEUTE | N34: 05903 | O34: 05903 QUILEUTE TRIBAL COMPACT | P34: 0.0387 | Q34: 0.1535 | S34: =+F34-P34 -> 0 | T34: =+G34-Q34 -> 0
A35: 29 | B35: 142 | C35: 112 | D35: 06037 | E35: Vancouver | F35: 0.0594 | G35: 0.1657 | H35: 0.1508 | M35: VANCOUVER | N35: 06037 | O35: 06037 VANCOUVER SCHOOL DISTRICT | P35: 0.0594 | Q35: 0.1657 | S35: =+F35-P35 -> 0 | T35: =+G35-Q35 -> 0
A36: 30 | B36: 129 | C36: 112 | D36: 06098 | E36: Hockinson | F36: 0.0423 | G36: 0.2041 | H36: 0.2144 | M36: HOCKINSON | N36: 06098 | O36: 06098 HOCKINSON SCHOOL DISTRICT | P36: 0.0423 | Q36: 0.2041 | S36: =+F36-P36 -> 0 | T36: =+G36-Q36 -> 0
A37: 31 | B37: 250 | C37: 112 | D37: 06101 | E37: Lacenter | F37: 0.0376 | G37: 0.1988 | H37: 0.1854 | M37: LACENTER | N37: 06101 | O37: 06101 LACENTER SCHOOL DISTRICT | P37: 0.0376 | Q37: 0.1988 | S37: =+F37-P37 -> 0 | T37: =+G37-Q37 -> 0
A38: 32 | B38: 162 | C38: 112 | D38: 06103 | E38: Green Mountain | F38: 0.0781 | G38: 0.2496 | H38: 0.2556 | M38: GREEN MOUNTAIN | N38: 06103 | O38: 06103 GREEN MOUNTAIN SCHOOL DISTRICT | P38: 0.0781 | Q38: 0.2496 | S38: =+F38-P38 -> 0 | T38: =+G38-Q38 -> 0
A39: 33 | B39: 160 | C39: 112 | D39: 06112 | E39: Washougal | F39: 0.0363 | G39: 0.1633 | H39: 0.1694 | M39: WASHOUGAL | N39: 06112 | O39: 06112 WASHOUGAL SCHOOL DISTRICT | P39: 0.0363 | Q39: 0.1633 | S39: =+F39-P39 -> 0 | T39: =+G39-Q39 -> 0
... A43: 37 | B43: 95 | C43: 112 | D43: 06122 | E43: Ridgefield | F43: 0.046 | G43: 0.1561 | H43: 0.1262 | M43: RIDGEFIELD | N43: 06122 | O43: 06122 RIDGEFIELD SCHOOL DISTRICT | P43: 0.046 | Q43: 0.1561 | S43: =+F43-P43 -> 0 | T43: =+G43-Q43 -> 0
...

Sheet GL 810 Restricted
A1: GL 810 Restricted for Other Items (GF, CPF, DSF, ASB, TVF, PF)
A2: (Return to sheet)
B4: General Fund | C4: Capital Projects Fund | D4: Debt Service Fund | E4: ASB Fund | F4: Transportation Vehicle Fund | G4: Permanent Fund
A5: Total | B5: =SUM(B6:B55) -> 0 | C5: =SUM(C6:C55) -> 0 | D5: =SUM(D6:D55) -> 0 | E5: =SUM(E6:E55) -> 0 | F5: =SUM(F6:F55) -> 0 | G5: =SUM(G6:G55) -> 0
A6: (Enter description of Restriction) | B6: 0
A7: (Enter description of Restriction)
A8: (Enter description of Restriction)
A9: (Enter description of Restriction)
A10: (Enter description of Restriction)
A11: (Enter description of Restriction)
A12: (Enter description of Restriction)
A13: (Enter description of Restriction)
A14: (Enter description of Restriction)
A15: (Enter description of Restriction)
A16: (Enter description of Restriction)
A17: (Enter description of Restriction)
A18: (Enter description of Restriction)
... A55: (Enter description of Restriction)

Sheet GL 815 Restricted
A1: GL 815 Restricted for Unequalized Deductible Revenues
A2: General Fund Only, Cash Basis Districts Only
A3: (Return to summary sheet)
A5: Beginning Balance (from prior year financial data) | C5: 0
A6: Deductible revenues reduced in fiscal year | C6: 0
A7: Net balance | C7: =C5-C6 -> 0
A8: Deductible revenues received but not equalized
A9: Revenue 1400 Local in Lieu of Taxes | B9: 0
A10: Revenue 1600 County-Administered Forests | B10: 0
A11: Revenue 3600 State Forests | B11: 0
A12: Revenue 5400 Federal in lieu of Taxes | B12: 0
A13: Revenue 5500 Federal Forests | B13: 0
A14: Total Deductible revenues received but not equalized | C14: =SUM(B9:B13,C7) -> 0

Sheet GL 819 Restricted

Sheet GL 821 Restricted
A1: GL 821 Restricted for Carryover of Restricted Revenues | F1: ='Fund Balance Summary'!$B$1 -> 14005
A2: General Fund
A3: (Return to summary sheet)
A5: State Recovery Rate | B5: =VLOOKUP($F$1,Indirects!$D$7:$I$342,4,FALSE) -> 0.1626
A6: Federal Restricted Indirect Rate | B6: =VLOOKUP($F$1,Indirects!$D$7:$I$342,3,FALSE) -> 0.0261
A7: Federal Unrestricted Indirect Rate | B7: =VLOOKUP($F$1,Indirects!$D$7:$I$342,5,FALSE) -> 0.164
A10: Activity 34 Professional Learning Days | E10: Activity 34: RCW 43.09.2856: School district audits: (3) The use of the state allocation provided for professional learning under RCW 28A.150.415 must be audited as part of the regular financial audits of school districts by the state auditor's office to ensure compliance with the limitations and conditions of RCW 28A.150.415.
A11: Beginning Balance (PY Carryover) | C11: =VLOOKUP($F$1,ALLOC!$B$7:$AR$338,42,FALSE) -> 0
A12: Add Current Year Activity 34 Allocation | C12: =VLOOKUP($F$1,ALLOC!$B$7:$AR$338,43,FALSE) -> 353454.04 | D12: 1191PLD
A13: Total Available | C13: =+C11+C12 -> 353454.04
A15: Direct Expenditures, Activity 34 | C15: 0
A16: Carryover | C16: =IF(C15>C13,0,MIN(C13*1,C13-C15)) -> 353454.04
A18: Special Education Program 21
A19: Beginning Balance (PY Carryover) | C19: =VLOOKUP($F$1,ALLOC!$B$7:$AR$338,3,FALSE) -> 0
A20: Add Current Year Allocation (from 1197) | C20: =VLOOKUP($F$1,ALLOC!$B$7:$AR$338,6,FALSE) -> 8037347.9
A21: Total Available | C21: =+C19+C20 -> 8037347.9
A22: Expenditures
A23: Direct Expenditures | B23: 0
A24: Revenue 3121 Allotment | B24: =VLOOKUP($F$1,ALLOC!$B$7:$AR$338,7,FALSE) -> 1291980.7
A25: Indirect Expenditures | B25: =(B23-B24)*(B5) -> -210076.06
A26: Subtotal | B26: =B23-B24+B25 -> -1502056.7
A27: Revenue 7121 | B27: 0
A28: Net | C28: =B26-B27 -> -1502056.7
A29: Carryover | C29: =IF(C28>C21,0,MIN(C20*0.1,C21-C28)) -> 803734.79
A30: Recovery | C30: =MIN(C20,(C28-C19))+C29-C20 -> -8735669.8
A32: State Institutions Program 26
A33: Beginning Balance (PY Carryover) | C33: =VLOOKUP($F$1,ALLOC!$B$7:$AR$338,22,FALSE) -> 0
A34: Add Current Year Allocation (from 1197) | C34: =VLOOKUP($F$1,ALLOC!$B$7:$AR$338,21,FALSE) -> 0
A35: Total Available | C35: =+C33+C34 -> 0
A36: Expenditures
A37: Direct Expenditures | B37: 0
A38: Indirect Expenditures | B38: =VLOOKUP($F$1,ALLOC!$B$7:$AR$338,23,FALSE) -> 0 | C38: =B37+B38 -> 0
A39: Carryover | C39: =IF(C38>C35,0,MIN(C34*0.1,C35-C38)) -> 0
A40: Recovery | C40: =MIN(C34,C38-C33)+C39-C34 -> 0
A42: Special Education–Other–Federal Program 29 | F42: REVENUE 5329 IMPACT AID Section 7003(d): Payments for Children with Disabilities provide additional assistance to school districts that educate federally connected children who are eligible for services under the Individuals with Disabilities Act (IDEA). These awards are in addition to Basic Support Payments and IDEA resources provided on behalf of these children. A school district that receives these specific Impact Aid resources MUST use them for the increased costs of educating federally connected children with disabilities.
A43: Beginning Balance (PY Carryover) | C43: 0
A44: Add Current Year Federal Award (Revenue 5329) | C44: 0
A45: Total Available | C45: =+C43+C44 -> 0
A46: Expenditures, Program 29
A47: Direct Expenditures | C47: 0
...

Sheet 1191 PLD 34 Annual Detail
C1: 2025–26
B2: from August Data Extract | C2: Calc TAB
B3: From Jackie McDonald August 27, 2026 | C3: 3100pd | D3: 3031pd | E3: 3034pd | F3: 3045pd | G3: 4120pd | H3: 4155rpd | I3: 4155hppd | J3: 4165pd | K3: 4174hp | L3: 09pd | R3: 2025-26
A4: CCDDD | B4: OrganizationName | C4: Rev 3100 PD Gen Apport | D4: CTE Prog 31 | E4: CTE Prog 34 | F4: Skill Ctr Prog 45 | G4: Rev 4121 PD SpEd | H4: Rev 4155 PD LAP | I4: 4155hppd Total LAP HiPov PD | J4: Rev 4165 PD TBIP | K4: Rev 4174 PD HiCap | L4: TK Prog 09 | N4: Activity 34 Total | R4: PLD Activity 34 Total
B5: STATE SUMMARY | C5: =SUM(C6:C335) -> 87623330 | D5: =SUM(D6:D335) -> 6002691.5 | E5: =SUM(E6:E335) -> 1416041.7 | F5: =SUM(F6:F335) -> 795623.06 | G5: =SUM(G6:G335) -> 29522.72 | H5: =SUM(H6:H335) -> 5490699.7 | I5: =SUM(I6:I335) -> 2339985.9 | J5: =SUM(J6:J335) -> 4305862.5 | ... L5: =SUM(L6:L335) -> 871020.85 | N5: =SUM(C5:M5) -> 1.0938461e+08 | R5: =SUM(R6:R335) -> 1.0938461e+08
A6: 14005 | B6: Aberdeen School District | C6: 207182.73 | D6: 20632.4 | E6: 10071.84 | F6: 6427.29 | G6: 86.75 | H6: 20863.65 | I6: 13750.31 | J6: 11500.99 | K6: 1338.19 | L6: 0 | N6: =SUM(C6:M6) -> 291854.15 | Q6: =TEXT(A6, "00000") -> 14005 | R6: =N6 -> 291854.15
A7: 21226 | B7: Adna School District | C7: 53598.55 | D7: 4287.37 | E7: 936.36 | F7: 0 | G7: 90.96 | H7: 1582.52 | I7: 0 | J7: 0 | K7: 293.41 | L7: 0 | N7: =SUM(C7:M7) -> 60789.17 | Q7: =TEXT(A7, "00000") -> 21226 | R7: =N7 -> 60789.17
A8: 22017 | B8: Almira School District | C8: 19918.6 | D8: 667.55 | E8: 81.71 | F8: 0 | G8: 86.02 | H8: 450.17 | I8: 0 | J8: 0 | K8: 46.25 | L8: 0 | N8: =SUM(C8:M8) -> 21250.3 | Q8: =TEXT(A8, "00000") -> 22017 | R8: =N8 -> 21250.3
A9: 29103 | B9: Anacortes School District | C9: 234047.68 | D9: 10689.01 | E9: 3265.54 | F9: 0 | G9: 101.35 | H9: 9102.74 | I9: 248.58 | J9: 1462.88 | K9: 1305.5 | L9: 0 | N9: =SUM(C9:M9) -> 260223.28 | Q9: =TEXT(A9, "00000") -> 29103 | R9: =N9 -> 260223.28
A10: 31016 | B10: Arlington School District | C10: 473920.05 | D10: 37331.95 | E10: 3548.1 | F10: 0 | G10: 101.05 | H10: 24716.88 | I10: 806.55 | J10: 10492.3 | K10: 2795.21 | L10: 0 | N10: =SUM(C10:M10) -> 553712.09 | Q10: =TEXT(A10, "00000") -> 31016 | R10: =N10 -> 553712.09
A11: 02420 | B11: Asotin-Anatone School District | C11: 54022.26 | D11: 4019.18 | E11: 132.58 | F11: 0 | G11: 89.14 | H11: 2378.82 | I11: 0 | J11: 0 | K11: 277.5 | L11: 3461.09 | N11: =SUM(C11:M11) -> 64380.57 | Q11: =TEXT(A11, "00000") -> 02420 | R11: =N11 -> 64380.57
A12: 17408 | B12: Auburn School District | C12: 1505143.4 | D12: 79463.99 | E12: 21823.63 | F12: 0 | G12: 99 | H12: 109508.4 | I12: 64792.3 | J12: 149716.09 | K12: 8495.31 | L12: 19625.55 | N12: =SUM(C12:M12) -> 1958667.7 | Q12: =TEXT(A12, "00000") -> 17408 | R12: =N12 -> 1958667.7
A13: 18303 | B13: Bainbridge Island School District | C13: 302688.44 | D13: 31124.44 | E13: 5392.42 | F13: 0 | G13: 105.14 | H13: 4623.15 | I13: 0 | J13: 1546.06 | K13: 1816.91 | L13: 0 | N13: =SUM(C13:M13) -> 347296.56 | Q13: =TEXT(A13, "00000") -> 18303 | R13: =N13 -> 347296.56
A14: 06119 | B14: Battle Ground School District | C14: 881444.93 | D14: 91092.9 | E14: 6413.72 | F14: 0 | G14: 95.69 | H14: 54063.9 | I14: 3702.06 | J14: 38836.8 | K14: 6038.95 | L14: 15793.51 | N14: =SUM(C14:M14) -> 1097482.5 | Q14: =TEXT(A14, "00000") -> 06119 | R14: =N14 -> 1097482.5
A15: 17405 | B15: Bellevue School District | C15: 1765950.6 | D15: 86380.65 | E15: 23300.19 | F15: 0 | G15: 99 | H15: 50826.38 | I15: 10105.6 | J15: 121842.14 | K15: 10389.4 | L15: 0 | N15: =SUM(C15:M15) -> 2068894 | Q15: =TEXT(A15, "00000") -> 17405 | R15: =N15 -> 2068894
A16: 37501 | B16: Bellingham School District | C16: 790141.61 | D16: 87442.16 | E16: 53060.46 | F16: 0 | G16: 92.42 | H16: 44033.22 | I16: 9105.7 | J16: 28555.81 | K16: 5034.94 | L16: 26911.82 | N16: =SUM(C16:M16) -> 1044378.1 | Q16: =TEXT(A16, "00000") -> 37501 | R16: =N16 -> 1044378.1
A17: 01122 | B17: Benge School District | C17: 2960.04 | D17: 0 | E17: 0 | F17: 0 | G17: 86.1 | H17: 0 | I17: 0 | J17: 0 | K17: 0 | L17: 0 | N17: =SUM(C17:M17) -> 3046.14 | Q17: =TEXT(A17, "00000") -> 01122 | R17: =N17 -> 3046.14
... A281: 17905 | B281: Summit Public School: Atlas | C281: 54066.35 | D281: 0 | E281: 0 | F281: 0 | G281: 91.22 | H281: 2797.92 | I281: 0 | J281: 3381.87 | K281: 322 | L281: 0 | N281: =SUM(C281:M281) -> 60659.36 | Q281: =TEXT(A281, "00000") -> 17905 | R281: =N281 -> 60659.36
A282: 27905 | B282: Summit Public School: Olympus
A283: 17902 | B283: Summit Public School: Sierra | C283: 19792.8 | D283: 0 | E283: 0 | F283: 0 | G283: 92.57 | H283: 967.81 | I283: 0 | J283: 727.67 | K283: 83.68 | L283: 0 | N283: =SUM(C283:M283) -> 21664.53 | Q283: =TEXT(A283, "00000") -> 17902 | R283: =N283 -> 21664.53
A284: 27320 | B284: Sumner-Bonney Lake School District | C284: 907769.18 | D284: 56920.33 | E284: 10605.33 | F284: 0 | G284: 98.01 | H284: 38166.75 | I284: 2189.44 | J284: 19157.62 | K284: 5205.97 | L284: 0 | N284: =SUM(C284:M284) -> 1040112.6 | Q284: =TEXT(A284, "00000") -> 27320 | R284: =N284 -> 1040112.6
A285: 39201 | B285: Sunnyside School District | C285: 458039.92 | D285: 30503.83 | E285: 3382.46 | F285: 0 | G285: 87.97 | H285: 55382.03 | I285: 27050.45 | J285: 46691.55 | K285: 2546.87 | L285: 3885.05 | N285: =SUM(C285:M285) -> 627570.13 | Q285: =TEXT(A285, "00000") -> 39201 | R285: =N285 -> 627570.13
A286: 18902 | B286: Suquamish Tribal Education Department | C286: 22865.42 | D286: 809.54 | E286: 125.52 | F286: 0 | G286: 91.45 | H286: 594.87 | I286: 403.87 | J286: 0 | K286: 41.84 | L286: 0 | N286: =SUM(C286:M286) -> 24932.51 | Q286: =TEXT(A286, "00000") -> 18902 | R286: =N286 -> 24932.51
A287: 27010 | B287: Tacoma School District | C287: 2255827 | D287: 141167.25 | E287: 29476.32 | F287: 4074.99 | G287: 97.19 | H287: 176365.83 | I287: 90792.8 | J287: 104014.07 | K287: 13254.08 | L287: 76233.35 | N287: =SUM(C287:M287) -> 2891302.9 | Q287: =TEXT(A287, "00000") -> 27010 | R287: =N287 -> 2891302.9
