Workbook

Sheet Threshold
A1: DistrictCode | B1: DistrictName | C1: Coop | D1: multiplier | E1: Threshold | F1: Notes
A2: 14005 | B2: Aberdeen School District | D2: 1.8 | E2: 35503
A3: 21226 | B3: Adna School District | D3: 1.8 | E3: 35503
A4: 22017 | B4: Almira School District | D4: 1.8 | E4: 35503
A5: 29103 | B5: Anacortes School District | D5: 2 | E5: 39448
A6: 31016 | B6: Arlington School District | D6: 2 | E6: 39448
A7: 02420 | B7: Asotin-Anatone School District | D7: 1.8 | E7: 35503
A8: 17408 | B8: Auburn School District | D8: 2 | E8: 39448
A9: 18303 | B9: Bainbridge Island School District | D9: 2 | E9: 39448
A10: 06119 | B10: Battle Ground School District | D10: 2 | E10: 39448
A11: 17405 | B11: Bellevue School District | D11: 2 | E11: 39448
A12: 37501 | B12: Bellingham School District | D12: 2 | E12: 39448
A13: 01122 | B13: Benge School District | D13: 1.8 | E13: 35503
A14: 27403 | B14: Bethel School District | D14: 2 | E14: 39448
A15: 20203 | B15: Bickleton School District | C15: ESA 112 | D15: 1.8 | E15: 35503
A16: 37503 | B16: Blaine School District | D16: 2 | E16: 39448
A17: 21234 | B17: Boistfort School District | D17: 1.8 | E17: 35503
A18: 18100 | B18: Bremerton School District | D18: 2 | E18: 39448
A19: 24111 | B19: Brewster School District | D19: 1.8 | E19: 35503
A20: 09075 | B20: Bridgeport School District | D20: 1.8 | E20: 35503
A21: 16046 | B21: Brinnon School District | D21: 1.8 | E21: 35503
A22: 29100 | B22: Burlington-Edison School District | D22: 2 | E22: 39448
A23: 06117 | B23: Camas School District | D23: 2 | E23: 39448
A24: 05401 | B24: Cape Flattery School District | D24: 1.8 | E24: 35503
A25: 27019 | B25: Carbonado School District | D25: 1.8 | E25: 35503
A26: 04228 | B26: Cascade School District | D26: 2 | E26: 39448
A27: 04222 | B27: Cashmere School District | D27: 2 | E27: 39448
... A29: 18901 | B29: Catalyst Public Schools | D29: 1.8 | E29: 35503
A30: 20215 | B30: Centerville School District | C30: ESA 112 | D30: 1.8 | E30: 35503
A31: 18401 | B31: Central Kitsap School District | D31: 2 | E31: 39448
A32: 32356 | B32: Central Valley School District | D32: 2 | E32: 39448
A33: 21401 | B33: Centralia School District | D33: 1.8 | E33: 35503
A34: 21302 | B34: Chehalis School District | D34: 2 | E34: 39448
A35: 32360 | B35: Cheney School District | D35: 2 | E35: 39448
A36: 33036 | B36: Chewelah School District | D36: 1.8 | E36: 35503
A37: 27901 | B37: Chief Leschi Schools | D37: 1.8 | E37: 35503
A38: 16049 | B38: Chimacum School District | D38: 1.8 | E38: 35503
A39: 02250 | B39: Clarkston School District | D39: 2 | E39: 39448
A40: 19404 | B40: Cle Elum-Roslyn School District | D40: 1.8 | E40: 35503
A41: 27400 | B41: Clover Park School District | D41: 2 | E41: 39448
...

Sheet Pathway A - Out of State
A1: CoDist | B1: LEA | C1: SSID | D1: Projected Annual Cost for 2026–27 | E1: Threshold | F1: Potential Amount Eligible for Quarterly Payment
E2: =IFERROR(VLOOKUP(Table3[[#This Row],[CoDist]],Threshold!$A$2:$E$329,5,0),"0") -> 0 | F2: =ROUND(Table3[[#This Row],[Projected Annual Cost for 2026–27]]-Table3[[#This Row],[Threshold]],0) -> 0
E3: =IFERROR(VLOOKUP(Table3[[#This Row],[CoDist]],Threshold!$A$2:$E$329,5,0),"0") -> 0 | F3: =ROUND(Table3[[#This Row],[Projected Annual Cost for 2026–27]]-Table3[[#This Row],[Threshold]],0) -> 0
E4: =IFERROR(VLOOKUP(Table3[[#This Row],[CoDist]],Threshold!$A$2:$E$329,5,0),"0") -> 0 | F4: =ROUND(Table3[[#This Row],[Projected Annual Cost for 2026–27]]-Table3[[#This Row],[Threshold]],0) -> 0
E5: =IFERROR(VLOOKUP(Table3[[#This Row],[CoDist]],Threshold!$A$2:$E$329,5,0),"0") -> 0 | F5: =ROUND(Table3[[#This Row],[Projected Annual Cost for 2026–27]]-Table3[[#This Row],[Threshold]],0) -> 0
E6: =IFERROR(VLOOKUP(Table3[[#This Row],[CoDist]],Threshold!$A$2:$E$329,5,0),"0") -> 0 | F6: =ROUND(Table3[[#This Row],[Projected Annual Cost for 2026–27]]-Table3[[#This Row],[Threshold]],0) -> 0
E7: =IFERROR(VLOOKUP(Table3[[#This Row],[CoDist]],Threshold!$A$2:$E$329,5,0),"0") -> 0 | F7: =ROUND(Table3[[#This Row],[Projected Annual Cost for 2026–27]]-Table3[[#This Row],[Threshold]],0) -> 0
E8: =IFERROR(VLOOKUP(Table3[[#This Row],[CoDist]],Threshold!$A$2:$E$329,5,0),"0") -> 0 | F8: =ROUND(Table3[[#This Row],[Projected Annual Cost for 2026–27]]-Table3[[#This Row],[Threshold]],0) -> 0
E9: =IFERROR(VLOOKUP(Table3[[#This Row],[CoDist]],Threshold!$A$2:$E$329,5,0),"0") -> 0 | F9: =ROUND(Table3[[#This Row],[Projected Annual Cost for 2026–27]]-Table3[[#This Row],[Threshold]],0) -> 0
E10: =IFERROR(VLOOKUP(Table3[[#This Row],[CoDist]],Threshold!$A$2:$E$329,5,0),"0") -> 0 | F10: =ROUND(Table3[[#This Row],[Projected Annual Cost for 2026–27]]-Table3[[#This Row],[Threshold]],0) -> 0
E11: =IFERROR(VLOOKUP(Table3[[#This Row],[CoDist]],Threshold!$A$2:$E$329,5,0),"0") -> 0 | F11: =ROUND(Table3[[#This Row],[Projected Annual Cost for 2026–27]]-Table3[[#This Row],[Threshold]],0) -> 0
E12: =IFERROR(VLOOKUP(Table3[[#This Row],[CoDist]],Threshold!$A$2:$E$329,5,0),"0") -> 0 | F12: =ROUND(Table3[[#This Row],[Projected Annual Cost for 2026–27]]-Table3[[#This Row],[Threshold]],0) -> 0
E13: =IFERROR(VLOOKUP(Table3[[#This Row],[CoDist]],Threshold!$A$2:$E$329,5,0),"0") -> 0 | F13: =ROUND(Table3[[#This Row],[Projected Annual Cost for 2026–27]]-Table3[[#This Row],[Threshold]],0) -> 0
... E25: =IFERROR(VLOOKUP(Table3[[#This Row],[CoDist]],Threshold!$A$2:$E$329,5,0),"0") -> 0 | F25: =ROUND(Table3[[#This Row],[Projected Annual Cost for 2026–27]]-Table3[[#This Row],[Threshold]],0) -> 0

Sheet Pathway B-Previously Submitted
A1: CoDist | B1: LEA | C1: SSID | D1: Projected Annual Cost for 2026–27 | E1: Threshold | F1: Potential Amount Eligible for Quarterly Payment
E2: =IFERROR(VLOOKUP(Table2[[#This Row],[CoDist]],Threshold!$A$2:$E$329,5,0),"0") -> 0 | F2: =ROUND(Table2[[#This Row],[Projected Annual Cost for 2026–27]]-Table2[[#This Row],[Threshold]],0) -> 0 | K2: Yes
E3: =IFERROR(VLOOKUP(Table2[[#This Row],[CoDist]],Threshold!$A$2:$E$329,5,0),"0") -> 0 | F3: =ROUND(Table2[[#This Row],[Projected Annual Cost for 2026–27]]-Table2[[#This Row],[Threshold]],0) -> 0 | K3: No
E4: =IFERROR(VLOOKUP(Table2[[#This Row],[CoDist]],Threshold!$A$2:$E$329,5,0),"0") -> 0 | F4: =ROUND(Table2[[#This Row],[Projected Annual Cost for 2026–27]]-Table2[[#This Row],[Threshold]],0) -> 0
E5: =IFERROR(VLOOKUP(Table2[[#This Row],[CoDist]],Threshold!$A$2:$E$329,5,0),"0") -> 0 | F5: =ROUND(Table2[[#This Row],[Projected Annual Cost for 2026–27]]-Table2[[#This Row],[Threshold]],0) -> 0
E6: =IFERROR(VLOOKUP(Table2[[#This Row],[CoDist]],Threshold!$A$2:$E$329,5,0),"0") -> 0 | F6: =ROUND(Table2[[#This Row],[Projected Annual Cost for 2026–27]]-Table2[[#This Row],[Threshold]],0) -> 0
E7: =IFERROR(VLOOKUP(Table2[[#This Row],[CoDist]],Threshold!$A$2:$E$329,5,0),"0") -> 0 | F7: =ROUND(Table2[[#This Row],[Projected Annual Cost for 2026–27]]-Table2[[#This Row],[Threshold]],0) -> 0
E8: =IFERROR(VLOOKUP(Table2[[#This Row],[CoDist]],Threshold!$A$2:$E$329,5,0),"0") -> 0 | F8: =ROUND(Table2[[#This Row],[Projected Annual Cost for 2026–27]]-Table2[[#This Row],[Threshold]],0) -> 0
E9: =IFERROR(VLOOKUP(Table2[[#This Row],[CoDist]],Threshold!$A$2:$E$329,5,0),"0") -> 0 | F9: =ROUND(Table2[[#This Row],[Projected Annual Cost for 2026–27]]-Table2[[#This Row],[Threshold]],0) -> 0
E10: =IFERROR(VLOOKUP(Table2[[#This Row],[CoDist]],Threshold!$A$2:$E$329,5,0),"0") -> 0 | F10: =ROUND(Table2[[#This Row],[Projected Annual Cost for 2026–27]]-Table2[[#This Row],[Threshold]],0) -> 0
E11: =IFERROR(VLOOKUP(Table2[[#This Row],[CoDist]],Threshold!$A$2:$E$329,5,0),"0") -> 0 | F11: =ROUND(Table2[[#This Row],[Projected Annual Cost for 2026–27]]-Table2[[#This Row],[Threshold]],0) -> 0
E12: =IFERROR(VLOOKUP(Table2[[#This Row],[CoDist]],Threshold!$A$2:$E$329,5,0),"0") -> 0 | F12: =ROUND(Table2[[#This Row],[Projected Annual Cost for 2026–27]]-Table2[[#This Row],[Threshold]],0) -> 0
E13: =IFERROR(VLOOKUP(Table2[[#This Row],[CoDist]],Threshold!$A$2:$E$329,5,0),"0") -> 0 | F13: =ROUND(Table2[[#This Row],[Projected Annual Cost for 2026–27]]-Table2[[#This Row],[Threshold]],0) -> 0
E14: =IFERROR(VLOOKUP(Table2[[#This Row],[CoDist]],Threshold!$A$2:$E$329,5,0),"0") -> 0 | F14: =ROUND(Table2[[#This Row],[Projected Annual Cost for 2026–27]]-Table2[[#This Row],[Threshold]],0) -> 0
E15: =IFERROR(VLOOKUP(Table2[[#This Row],[CoDist]],Threshold!$A$2:$E$329,5,0),"0") -> 0 | F15: =ROUND(Table2[[#This Row],[Projected Annual Cost for 2026–27]]-Table2[[#This Row],[Threshold]],0) -> 0
... E23: =IFERROR(VLOOKUP(Table2[[#This Row],[CoDist]],Threshold!$A$2:$E$329,5,0),"0") -> 0 | F23: =ROUND(Table2[[#This Row],[Projected Annual Cost for 2026–27]]-Table2[[#This Row],[Threshold]],0) -> 0

Sheet Pathway B-New Applications
A1: CoDist | B1: LEA | C1: SSID | D1: Projected Annual Cost for 2026–27 | E1: Brief Summary of Services Provided | F1: Threshold | G1: Potential Amount Eligible for Quarterly Payment
F2: =IFERROR(VLOOKUP(Table1[[#This Row],[CoDist]],Threshold!$A$2:$E$329,5,0),"0") -> 0 | G2: =Table1[[#This Row],[Projected Annual Cost for 2026–27]]-Table1[[#This Row],[Threshold]] -> 0
F3: =IFERROR(VLOOKUP(Table1[[#This Row],[CoDist]],Threshold!$A$2:$E$329,5,0),"0") -> 0 | G3: =Table1[[#This Row],[Projected Annual Cost for 2026–27]]-Table1[[#This Row],[Threshold]] -> 0
F4: =IFERROR(VLOOKUP(Table1[[#This Row],[CoDist]],Threshold!$A$2:$E$329,5,0),"0") -> 0 | G4: =Table1[[#This Row],[Projected Annual Cost for 2026–27]]-Table1[[#This Row],[Threshold]] -> 0
F5: =IFERROR(VLOOKUP(Table1[[#This Row],[CoDist]],Threshold!$A$2:$E$329,5,0),"0") -> 0 | G5: =Table1[[#This Row],[Projected Annual Cost for 2026–27]]-Table1[[#This Row],[Threshold]] -> 0
F6: =IFERROR(VLOOKUP(Table1[[#This Row],[CoDist]],Threshold!$A$2:$E$329,5,0),"0") -> 0 | G6: =Table1[[#This Row],[Projected Annual Cost for 2026–27]]-Table1[[#This Row],[Threshold]] -> 0
F7: =IFERROR(VLOOKUP(Table1[[#This Row],[CoDist]],Threshold!$A$2:$E$329,5,0),"0") -> 0 | G7: =Table1[[#This Row],[Projected Annual Cost for 2026–27]]-Table1[[#This Row],[Threshold]] -> 0
F8: =IFERROR(VLOOKUP(Table1[[#This Row],[CoDist]],Threshold!$A$2:$E$329,5,0),"0") -> 0 | G8: =Table1[[#This Row],[Projected Annual Cost for 2026–27]]-Table1[[#This Row],[Threshold]] -> 0
F9: =IFERROR(VLOOKUP(Table1[[#This Row],[CoDist]],Threshold!$A$2:$E$329,5,0),"0") -> 0 | G9: =Table1[[#This Row],[Projected Annual Cost for 2026–27]]-Table1[[#This Row],[Threshold]] -> 0
F10: =IFERROR(VLOOKUP(Table1[[#This Row],[CoDist]],Threshold!$A$2:$E$329,5,0),"0") -> 0 | G10: =Table1[[#This Row],[Projected Annual Cost for 2026–27]]-Table1[[#This Row],[Threshold]] -> 0
F11: =IFERROR(VLOOKUP(Table1[[#This Row],[CoDist]],Threshold!$A$2:$E$329,5,0),"0") -> 0 | G11: =Table1[[#This Row],[Projected Annual Cost for 2026–27]]-Table1[[#This Row],[Threshold]] -> 0
F12: =IFERROR(VLOOKUP(Table1[[#This Row],[CoDist]],Threshold!$A$2:$E$329,5,0),"0") -> 0 | G12: =Table1[[#This Row],[Projected Annual Cost for 2026–27]]-Table1[[#This Row],[Threshold]] -> 0
F13: =IFERROR(VLOOKUP(Table1[[#This Row],[CoDist]],Threshold!$A$2:$E$329,5,0),"0") -> 0 | G13: =Table1[[#This Row],[Projected Annual Cost for 2026–27]]-Table1[[#This Row],[Threshold]] -> 0
... F27: =IFERROR(VLOOKUP(Table1[[#This Row],[CoDist]],Threshold!$A$2:$E$329,5,0),"0") -> 0 | G27: =Table1[[#This Row],[Projected Annual Cost for 2026–27]]-Table1[[#This Row],[Threshold]] -> 0
