Workbook

Sheet Threshold
A1: DistrictCode | B1: DistrictName | C1: Coop | D1: multiplier | E1: Threshold | F1: Notes
A2: 14005 | B2: Aberdeen School District | D2: 1.8 | E2: 35503
A3: 21226 | B3: Adna School District | D3: 1.8 | E3: 35503
A4: 22017 | B4: Almira School District | D4: 1.8 | E4: 35503
A5: 29103 | B5: Anacortes School District | D5: 2 | E5: 39448
A6: 31016 | B6: Arlington School District | D6: 2 | E6: 39448
A7: 02420 | B7: Asotin-Anatone School District | D7: 1.8 | E7: 35503
A8: 17408 | B8: Auburn School District | D8: 2 | E8: 39448
A9: 18303 | B9: Bainbridge Island School District | D9: 2 | E9: 39448
A10: 06119 | B10: Battle Ground School District | D10: 2 | E10: 39448
A11: 17405 | B11: Bellevue School District | D11: 2 | E11: 39448
A12: 37501 | B12: Bellingham School District | D12: 2 | E12: 39448
A13: 01122 | B13: Benge School District | D13: 1.8 | E13: 35503
A14: 27403 | B14: Bethel School District | D14: 2 | E14: 39448
A15: 20203 | B15: Bickleton School District | C15: ESA 112 | D15: 1.8 | E15: 35503
A16: 37503 | B16: Blaine School District | D16: 2 | E16: 39448
A17: 21234 | B17: Boistfort School District | D17: 1.8 | E17: 35503
A18: 18100 | B18: Bremerton School District | D18: 2 | E18: 39448
A19: 24111 | B19: Brewster School District | D19: 1.8 | E19: 35503
A20: 09075 | B20: Bridgeport School District | D20: 1.8 | E20: 35503
A21: 16046 | B21: Brinnon School District | D21: 1.8 | E21: 35503
A22: 29100 | B22: Burlington-Edison School District | D22: 2 | E22: 39448
A23: 06117 | B23: Camas School District | D23: 2 | E23: 39448
A24: 05401 | B24: Cape Flattery School District | D24: 1.8 | E24: 35503
A25: 27019 | B25: Carbonado School District | D25: 1.8 | E25: 35503
A26: 04228 | B26: Cascade School District | D26: 2 | E26: 39448
A27: 04222 | B27: Cashmere School District | D27: 2 | E27: 39448
... A29: 18901 | B29: Catalyst Public Schools | D29: 1.8 | E29: 35503
A30: 20215 | B30: Centerville School District | C30: ESA 112 | D30: 1.8 | E30: 35503
A31: 18401 | B31: Central Kitsap School District | D31: 2 | E31: 39448
A32: 32356 | B32: Central Valley School District | D32: 2 | E32: 39448
A33: 21401 | B33: Centralia School District | D33: 1.8 | E33: 35503
A34: 21302 | B34: Chehalis School District | D34: 2 | E34: 39448
A35: 32360 | B35: Cheney School District | D35: 2 | E35: 39448
A36: 33036 | B36: Chewelah School District | D36: 1.8 | E36: 35503
A37: 27901 | B37: Chief Leschi Schools | D37: 1.8 | E37: 35503
A38: 16049 | B38: Chimacum School District | D38: 1.8 | E38: 35503
A39: 02250 | B39: Clarkston School District | D39: 2 | E39: 39448
A40: 19404 | B40: Cle Elum-Roslyn School District | D40: 1.8 | E40: 35503
A41: 27400 | B41: Clover Park School District | D41: 2 | E41: 39448
A42: 38300 | B42: Colfax School District | D42: 1.8 | E42: 35503
... A59: 22207 | B59: Davenport School District | D59: 1.8 | E59: 35503
A60: 07002 | B60: Dayton School District | C60: ESA 112 | D60: 1.8 | E60: 35503
A61: 32414 | B61: Deer Park School District | D61: 2 | E61: 39448
A62: 27343 | B62: Dieringer School District | D62: 2 | E62: 39448
A63: 36101 | B63: Dixie School District | C63: ESA 112 | D63: 1.8 | E63: 35503
A64: 32361 | B64: East Valley School District (Spokane) | D64: 2 | E64: 39448
A65: 39090 | B65: East Valley School District (Yakima) | D65: 2 | E65: 39448
A66: 09206 | B66: Eastmont School District | D66: 2 | E66: 39448
A67: 19028 | B67: Easton School District | D67: 1.8 | E67: 35503
A68: 27404 | B68: Eatonville School District | D68: 2 | E68: 39448
A69: 31015 | B69: Edmonds School District | D69: 2 | E69: 39448
A70: 19401 | B70: Ellensburg School District | D70: 2 | E70: 39448
A71: 14068 | B71: Elma School District | D71: 2 | E71: 39448
A72: 38308 | B72: Endicott School District | D72: 1.8 | E72: 35503
A73: 04127 | B73: Entiat School District | D73: 1.8 | E73: 35503
A74: 17216 | B74: Enumclaw School District | D74: 2 | E74: 39448
A75: 13165 | B75: Ephrata School District | D75: 2 | E75: 39448
... A77: 39801 | B77: ESD 105 acting as a school district | D77: 1.8 | E77: 35503
A78: 06801 | B78: ESD 112 (ESA 112 for Safety Net purposes) | D78: 1.8 | E78: 35503 | F78: The average enrollment of member districts was used. The average enrollment was 430. Two times the APPE was used for ESA 112.
A79: 34801 | B79: ESD 113 acting as a school district | D79: 1.8 | E79: 35503
A80: 18801 | B80: ESD 114 acting as a school district | D80: 1.8 | E80: 35503
A81: 11801 | B81: ESD 123 acting as a school district | D81: 1.8 | E81: 35503
A82: 29801 | B82: ESD 189 acting as a school district | D82: 1.8 | E82: 35503
A83: 21036 | B83: Evaline School District | D83: 1.8 | E83: 35503
A84: 31002 | B84: Everett School District | D84: 2 | E84: 39448
A85: 06114 | B85: Evergreen School District (Clark) | D85: 2 | E85: 39448
A86: 33205 | B86: Evergreen School District (Stevens) | D86: 1.8 | E86: 35503
A87: 17210 | B87: Federal Way School District | D87: 2 | E87: 39448
A88: 37502 | B88: Ferndale School District | D88: 2 | E88: 39448
A89: 27417 | B89: Fife School District | D89: 2 | E89: 39448
A90: 03053 | B90: Finley School District | D90: 1.8 | E90: 35503
... A93: 38302 | B93: Garfield School District | D93: 1.8 | E93: 35503
A94: 20401 | B94: Glenwood School District | C94: ESA 112 | D94: 1.8 | E94: 35503
A95: 20404 | B95: Goldendale School District | C95: ESA 112 | D95: 2 | E95: 39448
A96: 13301 | B96: Grand Coulee Dam School District | D96: 1.8 | E96: 35503
A97: 39200 | B97: Grandview School District | D97: 1.8 | E97: 35503
A98: 39204 | B98: Granger School District | D98: 1.8 | E98: 35503
A99: 31332 | B99: Granite Falls School District | D99: 2 | E99: 39448
A100: 23054 | B100: Grapeview School District | D100: 1.8 | E100: 35503
A101: 32312 | B101: Great Northern School District | D101: 1.8 | E101: 35503
A102: 06103 | B102: Green Mountain School District | C102: ESA 112 | D102: 1.8 | E102: 35503
A103: 34324 | B103: Griffin School District | D103: 1.8 | E103: 35503
A104: 22204 | B104: Harrington School District | D104: 1.8 | E104: 35503
A105: 39203 | B105: Highland School District | D105: 2 | E105: 39448
A106: 17401 | B106: Highline School District | D106: 2 | E106: 39448
A107: 06098 | B107: Hockinson School District | D107: 2 | E107: 39448
A108: 23404 | B108: Hood Canal School District | D108: 1.8 | E108: 35503
A109: 14028 | B109: Hoquiam School District | D109: 2 | E109: 39448
A110: 27902 | B110: Impact | Commencement Bay Elementary | D110: 1.8 | E110: 35503
A111: 17911 | B111: Impact | Puget Sound Elementary | D111: 1.8 | E111: 35503
A112: 17916 | B112: Impact | Salish Sea Elementary | D112: 1.8 | E112: 35503
A113: 10070 | B113: Inchelium School District | D113: 1.8 | E113: 35503
A114: 31063 | B114: Index Elementary School District 63 | D114: 1.8 | E114: 35503
... A116: 17411 | B116: Issaquah School District | D116: 2 | E116: 39448
A117: 11056 | B117: Kahlotus School District | C117: ESA 112 | D117: 1.8 | E117: 35503
A118: 08402 | B118: Kalama School District | C118: ESA 112 | D118: 2 | E118: 39448
A119: 10003 | B119: Keller School District | D119: 1.8 | E119: 35503
A120: 08458 | B120: Kelso School District | D120: 2 | E120: 39448
A121: 03017 | B121: Kennewick School District | D121: 2 | E121: 39448
...

Sheet Pathway A - Out of State
A1: CoDist | B1: LEA | C1: SSID | D1: Projected Annual Cost for 2026–27 | E1: Threshold | F1: Potential Amount Eligible for Quarterly Payment
E2: =IFERROR(VLOOKUP(Table3[[#This Row],[CoDist]],Threshold!$A$2:$E$329,5,0),"0") -> 0 | F2: =ROUND(Table3[[#This Row],[Projected Annual Cost for 2026–27]]-Table3[[#This Row],[Threshold]],0) -> 0
E3: =IFERROR(VLOOKUP(Table3[[#This Row],[CoDist]],Threshold!$A$2:$E$329,5,0),"0") -> 0 | F3: =ROUND(Table3[[#This Row],[Projected Annual Cost for 2026–27]]-Table3[[#This Row],[Threshold]],0) -> 0
E4: =IFERROR(VLOOKUP(Table3[[#This Row],[CoDist]],Threshold!$A$2:$E$329,5,0),"0") -> 0 | F4: =ROUND(Table3[[#This Row],[Projected Annual Cost for 2026–27]]-Table3[[#This Row],[Threshold]],0) -> 0
E5: =IFERROR(VLOOKUP(Table3[[#This Row],[CoDist]],Threshold!$A$2:$E$329,5,0),"0") -> 0 | F5: =ROUND(Table3[[#This Row],[Projected Annual Cost for 2026–27]]-Table3[[#This Row],[Threshold]],0) -> 0
E6: =IFERROR(VLOOKUP(Table3[[#This Row],[CoDist]],Threshold!$A$2:$E$329,5,0),"0") -> 0 | F6: =ROUND(Table3[[#This Row],[Projected Annual Cost for 2026–27]]-Table3[[#This Row],[Threshold]],0) -> 0
E7: =IFERROR(VLOOKUP(Table3[[#This Row],[CoDist]],Threshold!$A$2:$E$329,5,0),"0") -> 0 | F7: =ROUND(Table3[[#This Row],[Projected Annual Cost for 2026–27]]-Table3[[#This Row],[Threshold]],0) -> 0
E8: =IFERROR(VLOOKUP(Table3[[#This Row],[CoDist]],Threshold!$A$2:$E$329,5,0),"0") -> 0 | F8: =ROUND(Table3[[#This Row],[Projected Annual Cost for 2026–27]]-Table3[[#This Row],[Threshold]],0) -> 0
E9: =IFERROR(VLOOKUP(Table3[[#This Row],[CoDist]],Threshold!$A$2:$E$329,5,0),"0") -> 0 | F9: =ROUND(Table3[[#This Row],[Projected Annual Cost for 2026–27]]-Table3[[#This Row],[Threshold]],0) -> 0
E10: =IFERROR(VLOOKUP(Table3[[#This Row],[CoDist]],Threshold!$A$2:$E$329,5,0),"0") -> 0 | F10: =ROUND(Table3[[#This Row],[Projected Annual Cost for 2026–27]]-Table3[[#This Row],[Threshold]],0) -> 0
E11: =IFERROR(VLOOKUP(Table3[[#This Row],[CoDist]],Threshold!$A$2:$E$329,5,0),"0") -> 0 | F11: =ROUND(Table3[[#This Row],[Projected Annual Cost for 2026–27]]-Table3[[#This Row],[Threshold]],0) -> 0
E12: =IFERROR(VLOOKUP(Table3[[#This Row],[CoDist]],Threshold!$A$2:$E$329,5,0),"0") -> 0 | F12: =ROUND(Table3[[#This Row],[Projected Annual Cost for 2026–27]]-Table3[[#This Row],[Threshold]],0) -> 0
E13: =IFERROR(VLOOKUP(Table3[[#This Row],[CoDist]],Threshold!$A$2:$E$329,5,0),"0") -> 0 | F13: =ROUND(Table3[[#This Row],[Projected Annual Cost for 2026–27]]-Table3[[#This Row],[Threshold]],0) -> 0
... E25: =IFERROR(VLOOKUP(Table3[[#This Row],[CoDist]],Threshold!$A$2:$E$329,5,0),"0") -> 0 | F25: =ROUND(Table3[[#This Row],[Projected Annual Cost for 2026–27]]-Table3[[#This Row],[Threshold]],0) -> 0

Sheet Pathway B-Previously Submitted
A1: CoDist | B1: LEA | C1: SSID | D1: Projected Annual Cost for 2026–27 | E1: Threshold | F1: Potential Amount Eligible for Quarterly Payment
E2: =IFERROR(VLOOKUP(Table2[[#This Row],[CoDist]],Threshold!$A$2:$E$329,5,0),"0") -> 0 | F2: =ROUND(Table2[[#This Row],[Projected Annual Cost for 2026–27]]-Table2[[#This Row],[Threshold]],0) -> 0 | K2: Yes
E3: =IFERROR(VLOOKUP(Table2[[#This Row],[CoDist]],Threshold!$A$2:$E$329,5,0),"0") -> 0 | F3: =ROUND(Table2[[#This Row],[Projected Annual Cost for 2026–27]]-Table2[[#This Row],[Threshold]],0) -> 0 | K3: No
E4: =IFERROR(VLOOKUP(Table2[[#This Row],[CoDist]],Threshold!$A$2:$E$329,5,0),"0") -> 0 | F4: =ROUND(Table2[[#This Row],[Projected Annual Cost for 2026–27]]-Table2[[#This Row],[Threshold]],0) -> 0
E5: =IFERROR(VLOOKUP(Table2[[#This Row],[CoDist]],Threshold!$A$2:$E$329,5,0),"0") -> 0 | F5: =ROUND(Table2[[#This Row],[Projected Annual Cost for 2026–27]]-Table2[[#This Row],[Threshold]],0) -> 0
E6: =IFERROR(VLOOKUP(Table2[[#This Row],[CoDist]],Threshold!$A$2:$E$329,5,0),"0") -> 0 | F6: =ROUND(Table2[[#This Row],[Projected Annual Cost for 2026–27]]-Table2[[#This Row],[Threshold]],0) -> 0
E7: =IFERROR(VLOOKUP(Table2[[#This Row],[CoDist]],Threshold!$A$2:$E$329,5,0),"0") -> 0 | F7: =ROUND(Table2[[#This Row],[Projected Annual Cost for 2026–27]]-Table2[[#This Row],[Threshold]],0) -> 0
E8: =IFERROR(VLOOKUP(Table2[[#This Row],[CoDist]],Threshold!$A$2:$E$329,5,0),"0") -> 0 | F8: =ROUND(Table2[[#This Row],[Projected Annual Cost for 2026–27]]-Table2[[#This Row],[Threshold]],0) -> 0
E9: =IFERROR(VLOOKUP(Table2[[#This Row],[CoDist]],Threshold!$A$2:$E$329,5,0),"0") -> 0 | F9: =ROUND(Table2[[#This Row],[Projected Annual Cost for 2026–27]]-Table2[[#This Row],[Threshold]],0) -> 0
E10: =IFERROR(VLOOKUP(Table2[[#This Row],[CoDist]],Threshold!$A$2:$E$329,5,0),"0") -> 0 | F10: =ROUND(Table2[[#This Row],[Projected Annual Cost for 2026–27]]-Table2[[#This Row],[Threshold]],0) -> 0
E11: =IFERROR(VLOOKUP(Table2[[#This Row],[CoDist]],Threshold!$A$2:$E$329,5,0),"0") -> 0 | F11: =ROUND(Table2[[#This Row],[Projected Annual Cost for 2026–27]]-Table2[[#This Row],[Threshold]],0) -> 0
E12: =IFERROR(VLOOKUP(Table2[[#This Row],[CoDist]],Threshold!$A$2:$E$329,5,0),"0") -> 0 | F12: =ROUND(Table2[[#This Row],[Projected Annual Cost for 2026–27]]-Table2[[#This Row],[Threshold]],0) -> 0
E13: =IFERROR(VLOOKUP(Table2[[#This Row],[CoDist]],Threshold!$A$2:$E$329,5,0),"0") -> 0 | F13: =ROUND(Table2[[#This Row],[Projected Annual Cost for 2026–27]]-Table2[[#This Row],[Threshold]],0) -> 0
E14: =IFERROR(VLOOKUP(Table2[[#This Row],[CoDist]],Threshold!$A$2:$E$329,5,0),"0") -> 0 | F14: =ROUND(Table2[[#This Row],[Projected Annual Cost for 2026–27]]-Table2[[#This Row],[Threshold]],0) -> 0
E15: =IFERROR(VLOOKUP(Table2[[#This Row],[CoDist]],Threshold!$A$2:$E$329,5,0),"0") -> 0 | F15: =ROUND(Table2[[#This Row],[Projected Annual Cost for 2026–27]]-Table2[[#This Row],[Threshold]],0) -> 0
... E23: =IFERROR(VLOOKUP(Table2[[#This Row],[CoDist]],Threshold!$A$2:$E$329,5,0),"0") -> 0 | F23: =ROUND(Table2[[#This Row],[Projected Annual Cost for 2026–27]]-Table2[[#This Row],[Threshold]],0) -> 0

Sheet Pathway B-New Applications
A1: CoDist | B1: LEA | C1: SSID | D1: Projected Annual Cost for 2026–27 | E1: Brief Summary of Services Provided | F1: Threshold | G1: Potential Amount Eligible for Quarterly Payment
F2: =IFERROR(VLOOKUP(Table1[[#This Row],[CoDist]],Threshold!$A$2:$E$329,5,0),"0") -> 0 | G2: =Table1[[#This Row],[Projected Annual Cost for 2026–27]]-Table1[[#This Row],[Threshold]] -> 0
F3: =IFERROR(VLOOKUP(Table1[[#This Row],[CoDist]],Threshold!$A$2:$E$329,5,0),"0") -> 0 | G3: =Table1[[#This Row],[Projected Annual Cost for 2026–27]]-Table1[[#This Row],[Threshold]] -> 0
F4: =IFERROR(VLOOKUP(Table1[[#This Row],[CoDist]],Threshold!$A$2:$E$329,5,0),"0") -> 0 | G4: =Table1[[#This Row],[Projected Annual Cost for 2026–27]]-Table1[[#This Row],[Threshold]] -> 0
F5: =IFERROR(VLOOKUP(Table1[[#This Row],[CoDist]],Threshold!$A$2:$E$329,5,0),"0") -> 0 | G5: =Table1[[#This Row],[Projected Annual Cost for 2026–27]]-Table1[[#This Row],[Threshold]] -> 0
F6: =IFERROR(VLOOKUP(Table1[[#This Row],[CoDist]],Threshold!$A$2:$E$329,5,0),"0") -> 0 | G6: =Table1[[#This Row],[Projected Annual Cost for 2026–27]]-Table1[[#This Row],[Threshold]] -> 0
F7: =IFERROR(VLOOKUP(Table1[[#This Row],[CoDist]],Threshold!$A$2:$E$329,5,0),"0") -> 0 | G7: =Table1[[#This Row],[Projected Annual Cost for 2026–27]]-Table1[[#This Row],[Threshold]] -> 0
F8: =IFERROR(VLOOKUP(Table1[[#This Row],[CoDist]],Threshold!$A$2:$E$329,5,0),"0") -> 0 | G8: =Table1[[#This Row],[Projected Annual Cost for 2026–27]]-Table1[[#This Row],[Threshold]] -> 0
F9: =IFERROR(VLOOKUP(Table1[[#This Row],[CoDist]],Threshold!$A$2:$E$329,5,0),"0") -> 0 | G9: =Table1[[#This Row],[Projected Annual Cost for 2026–27]]-Table1[[#This Row],[Threshold]] -> 0
F10: =IFERROR(VLOOKUP(Table1[[#This Row],[CoDist]],Threshold!$A$2:$E$329,5,0),"0") -> 0 | G10: =Table1[[#This Row],[Projected Annual Cost for 2026–27]]-Table1[[#This Row],[Threshold]] -> 0
F11: =IFERROR(VLOOKUP(Table1[[#This Row],[CoDist]],Threshold!$A$2:$E$329,5,0),"0") -> 0 | G11: =Table1[[#This Row],[Projected Annual Cost for 2026–27]]-Table1[[#This Row],[Threshold]] -> 0
F12: =IFERROR(VLOOKUP(Table1[[#This Row],[CoDist]],Threshold!$A$2:$E$329,5,0),"0") -> 0 | G12: =Table1[[#This Row],[Projected Annual Cost for 2026–27]]-Table1[[#This Row],[Threshold]] -> 0
F13: =IFERROR(VLOOKUP(Table1[[#This Row],[CoDist]],Threshold!$A$2:$E$329,5,0),"0") -> 0 | G13: =Table1[[#This Row],[Projected Annual Cost for 2026–27]]-Table1[[#This Row],[Threshold]] -> 0
... F27: =IFERROR(VLOOKUP(Table1[[#This Row],[CoDist]],Threshold!$A$2:$E$329,5,0),"0") -> 0 | G27: =Table1[[#This Row],[Projected Annual Cost for 2026–27]]-Table1[[#This Row],[Threshold]] -> 0
