Workbook
Name CurrentYear: PRT!$C$2
Name PriorYear: PRT!$C$3

Sheet Instructions
B1: F-196 Pension Reporting Tool (PRT)
B2: (Print Instructions)
B3: This tool is provided for district use to report on Pension data in compliance with GASBS 68, Accounting and Financial Reporting for Pensions.
B4: This tool incorporates pension information obtained from the Department of Retirement Systems (DRS) Participating Employers Financial Information (PEFI). This tool's purpose is to calculate pension information in a uniform manner for all districts and act as an aid to financial reporting. This tool's intent is to minimize the potential for error by any individual district.
B5: The Pension Reporting Tool is not an official document.
B6: The School District Business Official will need to provide assurance that district-specific annual contribution amounts presented in DRS-provided schedules are reasonably accurate.
B7: A school district is solely responsible for its financial statements and in evaluating the district-specific pension information presented.
B8: If your district does not have reportable values for a particular plan, do not report the plan in the Schedule of Long-Term Liabilities or TABLES included in the Notes to the Financial Statements
B10: INSTRUCTIONS AND DESCRIPTIONS
B11: TAB | C11: TABLES & DATA RANGES
B12: PRT | C12: Enter your district's CCDDD in the space provide in cell A9. District-specific pension information is brought forth from the various spreadsheets embedded in the tool. The number entered here is linked to all other worksheets in the TOOL.
C13: F-196 Schedule of Debt and Liabilitities | E13: A table is provided for inclusion in the district's Schedule of Long-Term Liabilities. The table in the cell range [C14:F18] are reportable amounts.
C14: The District's Proportionate of the Net Pension Liability | E14: Data in cell range A26 to F43: This information is entered into the Notes to the Financial Statements in the tables left blank for your district-specific information.
C15: The District's Sensitivity of the Net Pension Liability to changes in the Discount Rate | E15: Data in cell range A47 to E68: This information is entered into the Notes to the Financial Statements in the tables left blank for your district-specific information.
B19: Comp& Contr | C19: This worksheet breaksdown contributions as reported by DRS. The employer contributions to pension plans are reported by the DRS PROCESS DATE.
C20: Independent Employer Verification
C21: •Go to the | E21: DRS Employer Webpage
C22: •Find the link at | E22: GASB Standards and FAQ
C23: •Review information on the Employer Reporting Application (ERA) guide.
E24: Employer Reporting Application Portal
C25: •The Employer Reporting Application guide is for DRS employers who use the DRS Employer Reporting Application (ERA). Employers who have not adopted ERA should continue to access DRS reports through eServices. Employers using the ERA guide should have registered through Secure Access Washington (SAW).
C27: Timing Challenges to Contribution Verification
C28: •Your monthly contributions are most likely processed by DRS with a one-month lag.
C29: •DRS could process only eleven monthly amounts in the plan fiscal period.
C30: •DRS could process thirteen monthly amounts in the plan fiscal period.
C31: Focus your reconciliation on the DRS Process Dates.
C32: •The contributions processed by DRS for the Plan Fiscal Year (July of the Prior Year through June of the Current Year) are most likely the contributions you processed for payment to DRS during June of the Prior Year through May of the current Year.
B36: Basic Elements of Pension Plans
B37: Total Plan Contributions: This is obtained from the DRS PEFI. The pension tool compiles annual PEFI Contribution information.
B38: District's Annual Contributions: This information is obtained from DRS at the close of the Plan fiscal year and it is also included in the PEFI. The amounts represent the district's annual contributions for the Plan fiscal year ending June 30. Embedded in the PRT, annual contributions files are stored in separate tabs for certain districts needing RSI schedules for Full-Accrual ACFR reporting. Districts are encouraged to independently verify the contribution amounts with the tool provided by DRS for this purpose. The DRS tool is located on the DRS website under: eServices Contribution Reconciliation.
B39: Employer Allocation Percentage: This information is obtained from DRS at the close of the Plan fiscal year and it is also included in the PEFI. The allocation percentage divides the district's contributions by the total plan contributions. This allocation percentage is used to calculate employer proportionate shares of the Plan's Net Pension Liability and is used to determine employer-specific factors used to reconcile the liability from beginning to ending amounts.
B40: District's Reportable Compensation: This information is obtained from DRS at the close of the Plan fiscal year.
B41: Proportionate Share of the Net Pension Liability: This information is the district-specific share of the Pension Plan Net Liability. The calculation is the Employer's Allocation Percentage multiplied by the Total Pension Plan Net Liability. The amounts represented are transferred to the Schedule of Debt and Liabilities for annual financial statement (F-196) reporting and recognizes on the balance sheet on Government-wide ACFRs and the ESD F-185 Annual Financial Statements.

Sheet PRT
A2: Current Year | C2: 2025-2026 | D2: Manual input
A3: Prior Year | C3: =TEXT(_xlfn.NUMBERVALUE(LEFT(CurrentYear,4)-1),0)&"-"&TEXT(_xlfn.NUMBERVALUE(RIGHT(CurrentYear,4)-1),0) -> 2024-2025
A6: =RIGHT(CurrentYear,4)& " Pension Reporting Tool" -> 2026 Pension Reporting Tool
A7: Enter CCDDD number in cell A4 | C7: =VLOOKUP($A$9,LU_Org!$B$1:$D$339,2,FALSE) -> Washtucna School District | H7: ESD
A9: 01109 | H9: =VLOOKUP($A$9,LU_Org!$B$1:$D$339,3,FALSE) -> Educational Service District 101
A11: Include in the Schedule of Long-Term Liabilities:
A12: Proportionate share of the Net Pension Liabilities, by plan:
C13: Beginning Liability (Asset) | D13: Amount Increased | E13: Amount Decreased | F13: Ending Liability (Asset) | G13: Amt due in one YR: N/A
A14: Net Pension Liabilities TRS 1 | B14: TRS 1 | C14: {=_xlfn._xlws.FILTER(Collective_NPL[NPL],(Collective_NPL[CCDDD]=$A$9)*(Collective_NPL[PlanKey]=B14)*(Collective_NPL[PensionYear]=$C$3),0)} -> 110540.32 | D14: =IF(+F14>+C14,+F14-C14,0) -> 0 | E14: =IF(+F14<+C14,+C14-F14,0) -> 85667.324 | F14: {=_xlfn._xlws.FILTER(Collective_NPL[NPL],(Collective_NPL[CCDDD]=$A$9)*(Collective_NPL[PlanKey]=B14)*(Collective_NPL[PensionYear]=$C$2),0)} -> 24872.993 | G14: N/A
A15: Net Pension Liabilities TRS 2/3 | B15: TRS 2/3 | C15: {=_xlfn._xlws.FILTER(Collective_NPL[NPL],(Collective_NPL[CCDDD]=$A$9)*(Collective_NPL[PlanKey]=B15)*(Collective_NPL[PensionYear]=$C$3),0)} -> -32235.523 | D15: =IF(+F15>+C15,+F15-C15,0) -> 0 | E15: =IF(+F15<+C15,+C15-F15,0) -> 308752.96 | F15: {=_xlfn._xlws.FILTER(Collective_NPL[NPL],(Collective_NPL[CCDDD]=$A$9)*(Collective_NPL[PlanKey]=B15)*(Collective_NPL[PensionYear]=$C$2),0)} -> -340988.49 | G15: N/A
A16: Net Pension Liabilities SERS 2/3 | B16: SERS 2/3 | C16: {=_xlfn._xlws.FILTER(Collective_NPL[NPL],(Collective_NPL[CCDDD]=$A$9)*(Collective_NPL[PlanKey]=B16)*(Collective_NPL[PensionYear]=$C$3),0)} -> -25236.779 | D16: =IF(+F16>+C16,+F16-C16,0) -> 0 | E16: =IF(+F16<+C16,+C16-F16,0) -> 81985.575 | F16: {=_xlfn._xlws.FILTER(Collective_NPL[NPL],(Collective_NPL[CCDDD]=$A$9)*(Collective_NPL[PlanKey]=B16)*(Collective_NPL[PensionYear]=$C$2),0)} -> -107222.35 | G16: N/A
A17: Net Pension Liabilities PERS 1 | B17: PERS 1 | C17: {=_xlfn._xlws.FILTER(Collective_NPL[NPL],(Collective_NPL[CCDDD]=$A$9)*(Collective_NPL[PlanKey]=B17)*(Collective_NPL[PensionYear]=$C$3),0)} -> 20722.687 | D17: =IF(+F17>+C17,+F17-C17,0) -> 0 | E17: =IF(+F17<+C17,+C17-F17,0) -> 13564.622 | F17: {=_xlfn._xlws.FILTER(Collective_NPL[NPL],(Collective_NPL[CCDDD]=$A$9)*(Collective_NPL[PlanKey]=B17)*(Collective_NPL[PensionYear]=$C$2),0)} -> 7158.0653 | G17: N/A
A18: Net Pension Liabilities PERS 2/3 | B18: PERS 2/3 | C18: {=_xlfn._xlws.FILTER(Collective_NPL[NPL],(Collective_NPL[CCDDD]=$A$9)*(Collective_NPL[PlanKey]=B18)*(Collective_NPL[PensionYear]=$C$3),0)} -> 0 | D18: =IF(+F18>+C18,+F18-C18,0) -> 0 | E18: =IF(+F18<+C18,+C18-F18,0) -> 0 | F18: {=_xlfn._xlws.FILTER(Collective_NPL[NPL],(Collective_NPL[CCDDD]=$A$9)*(Collective_NPL[PlanKey]=B18)*(Collective_NPL[PensionYear]=$C$2),0)} -> 0 | G18: N/A
A20: The Pension Total is informational only. Report the pension Liability amounts, by plan, on the Schedule of Long-Term Liabilities.
A21: Net Pension Liability Amounts | C21: =SUMIF(C14:C18,">0") -> 131263 | D21: =IF(+F21>+C21,+F21-C21,0) -> 0 | E21: =IF(+F21<+C21,+C21-F21,0) -> 99231.946 | F21: =SUMIF(F14:F18,">0") -> 32031.058
A22: Net Pension Asset Amounts | C22: =SUMIF(C14:C18,"<0") -> -57472.301 | D22: =IF(+F22>+C22,+F22-C22,0) -> 0 | E22: =IF(+F22<+C22,+C22-F22,0) -> 390738.54 | F22: =SUMIF(F15:F19,"<0") -> -448210.84
A23: Pension Total | C23: =SUM(C14:C18) -> 73790.702 | D23: =SUM(D14:D18) -> 0 | E23: =SUM(E14:E18) -> 489970.49 | F23: =SUM(F14:F18) -> -416179.78 | G23: N/A
A25: The tables below present district-specific pension information to be included in the pension note to the financial statements. The values should be reviewed for accuracy.
A26: The District's Proportionate Share of the Net Pension Liability (NPL)
A27: ="At June 30, " & RIGHT(CurrentYear,4)& ", the district reported a total liability (asset) of" -> At June 30, 2026, the district reported a total liability (asset) of | E27: =+F21 -> 32031.058 | G27: =+F23 -> -416179.78
A28: for its proportionate shares of the individual plans' collective net pension liabilities and
A29: the district reported a total pension assets of | E29: =-F22 -> 448210.84
A30: for its proportionalte shares of the individual plans' collective net pension assets.
A31: The district's proportionate share of the collective net pension liability or asset is based on annual contributions for each of the employers participating in the DRS administered plans. The district's proportionate share of each plan's collective net pension liability or asset is reported below.
G32: WSIPC only
C34: PERS 1 | D34: SERS 2/3 | E34: TRS 1 | F34: TRS 2/3 | G34: PERS 2/3
A35: District’s Annual Contributions | C35: {=_xlfn._xlws.FILTER(PensionSummaryView_2[EmployerContributions],(PensionSummaryView_2[CCDDD]=$A$9)*(PensionSummaryView_2[PlanKey]=$C$34)*(PensionSummaryView_2[PensionYear]=$C$2),0)+ _xlfn._xlws.FILTER(PensionSummaryView_2[UAALEmployerContributions],(PensionSummaryView_2[CCDDD]=$A$9)*(PensionSummaryView_2[PlanKey]=$C$34)*(PensionSummaryView_2[PensionYear]=$C$2),0)} -> 2600.78 | D35: {=_xlfn._xlws.FILTER(PensionSummaryView_2[EmployerContributions],(PensionSummaryView_2[CCDDD]=$A$9)*(PensionSummaryView_2[PlanKey]=$D$34)*(PensionSummaryView_2[PensionYear]=$C$2),0)+ _xlfn._xlws.FILTER(PensionSummaryView_2[UAALEmployerContributions],(PensionSummaryView_2[CCDDD]=$A$9)*(PensionSummaryView_2[PlanKey]=$D$34)*(PensionSummaryView_2[PensionYear]=$C$2),0)} -> 27789.17 | E35: {=_xlfn._xlws.FILTER(PensionSummaryView_2[EmployerContributions],(PensionSummaryView_2[CCDDD]=$A$9)*(PensionSummaryView_2[PlanKey]=$E$34)*(PensionSummaryView_2[PensionYear]=$C$2),0)+ _xlfn._xlws.FILTER(PensionSummaryView_2[UAALEmployerContributions],(PensionSummaryView_2[CCDDD]=$A$9)*(PensionSummaryView_2[PlanKey]=$E$34)*(PensionSummaryView_2[PensionYear]=$C$2),0)} -> 5452.04 | F35: {=_xlfn._xlws.FILTER(PensionSummaryView_2[EmployerContributions],(PensionSummaryView_2[CCDDD]=$A$9)*(PensionSummaryView_2[PlanKey]=$F$34)*(PensionSummaryView_2[PensionYear]=$C$2),0)+ _xlfn._xlws.FILTER(PensionSummaryView_2[UAALEmployerContributions],(PensionSummaryView_2[CCDDD]=$A$9)*(PensionSummaryView_2[PlanKey]=$F$34)*(PensionSummaryView_2[PensionYear]=$C$2),0)} -> 88262.27 | G35: {=_xlfn._xlws.FILTER(PensionSummaryView_2[EmployerContributions],(PensionSummaryView_2[CCDDD]=$A$9)*(PensionSummaryView_2[PlanKey]=$G$34)*(PensionSummaryView_2[PensionYear]=$C$2),0)+ _xlfn._xlws.FILTER(PensionSummaryView_2[UAALEmployerContributions],(PensionSummaryView_2[CCDDD]=$A$9)*(PensionSummaryView_2[PlanKey]=$G$34)*(PensionSummaryView_2[PensionYear]=$C$2),0)} -> 0
A36: Proportionate Share of the Net Pension Liability or (Asset) | C36: {=_xlfn._xlws.FILTER(Collective_NPL[NPL],(Collective_NPL[CCDDD]=$A$9)*(Collective_NPL[PlanKey]=$C$34)*(Collective_NPL[PensionYear]=$C$2),0)} -> 7158.0653 | D36: {=_xlfn._xlws.FILTER(Collective_NPL[NPL],(Collective_NPL[CCDDD]=$A$9)*(Collective_NPL[PlanKey]=$D$34)*(Collective_NPL[PensionYear]=$C$2),0)} -> -107222.35 | E36: {=_xlfn._xlws.FILTER(Collective_NPL[NPL],(Collective_NPL[CCDDD]=$A$9)*(Collective_NPL[PlanKey]=$E$34)*(Collective_NPL[PensionYear]=$C$2),0)} -> 24872.993 | F36: {=_xlfn._xlws.FILTER(Collective_NPL[NPL],(Collective_NPL[CCDDD]=$A$9)*(Collective_NPL[PlanKey]=$F$34)*(Collective_NPL[PensionYear]=$C$2),0)} -> -340988.49 | G36: {=_xlfn._xlws.FILTER(Collective_NPL[NPL],(Collective_NPL[CCDDD]=$A$9)*(Collective_NPL[PlanKey]=$G$34)*(Collective_NPL[PensionYear]=$C$2),0)} -> 0
A38: ="At June 30,"&RIGHT(CurrentYear,4)&" the district's percentage of the proportionate share of the collective net pension liability was as follows and in the allocation percentage from the prior period is illustrated below:" -> At June 30,2026 the district's percentage of the proportionate share of the collective net pension liability was as follows and in the allocation percentage from the prior period is illustrated below:
G39: WSIPC only
A40: Allocation percentages | C40: PERS 1 | D40: SERS 2/3 | E40: TRS 1 | F40: TRS 2/3 | G40: PERS 2/3
A41: Current year proportionate share of the Net Pension Liability | C41: {=_xlfn._xlws.FILTER(PensionSummaryView_2[Compensation percentage],(PensionSummaryView_2[CCDDD]=$A$9)*(PensionSummaryView_2[PlanKey]=$C$40)*(PensionSummaryView_2[PensionYear]=$C$2),0)+ _xlfn._xlws.FILTER(PensionSummaryView_2[UAAAL compensation percentage],(PensionSummaryView_2[CCDDD]=$A$9)*(PensionSummaryView_2[PlanKey]=$C$40)*(PensionSummaryView_2[PensionYear]=$C$2),0)} -> 1.7297951e-05 | D41: {=_xlfn._xlws.FILTER(PensionSummaryView_2[AllocationPercent],(PensionSummaryView_2[CCDDD]=$A$9)*(PensionSummaryView_2[PlanKey]=$D$40)*(PensionSummaryView_2[PensionYear]=$C$2),0)+ _xlfn._xlws.FILTER(PensionSummaryView_2[UAALAllocationPercent],(PensionSummaryView_2[CCDDD]=$A$9)*(PensionSummaryView_2[PlanKey]=$D$40)*(PensionSummaryView_2[PensionYear]=$C$2),0)} -> 0.00010746619 | E41: {=_xlfn._xlws.FILTER(PensionSummaryView_2[Compensation percentage],(PensionSummaryView_2[CCDDD]=$A$9)*(PensionSummaryView_2[PlanKey]=$E$40)*(PensionSummaryView_2[PensionYear]=$C$2),0)+ _xlfn._xlws.FILTER(PensionSummaryView_2[UAAAL compensation percentage],(PensionSummaryView_2[CCDDD]=$A$9)*(PensionSummaryView_2[PlanKey]=$E$40)*(PensionSummaryView_2[PensionYear]=$C$2),0)} -> 0.00012155343 | F41: {=_xlfn._xlws.FILTER(PensionSummaryView_2[AllocationPercent],(PensionSummaryView_2[CCDDD]=$A$9)*(PensionSummaryView_2[PlanKey]=$F$40)*(PensionSummaryView_2[PensionYear]=$C$2),0)+ _xlfn._xlws.FILTER(PensionSummaryView_2[UAALAllocationPercent],(PensionSummaryView_2[CCDDD]=$A$9)*(PensionSummaryView_2[PlanKey]=$F$40)*(PensionSummaryView_2[PensionYear]=$C$2),0)} -> 0.00012229871 | G41: {=_xlfn._xlws.FILTER(PensionSummaryView_2[AllocationPercent],(PensionSummaryView_2[CCDDD]=$A$9)*(PensionSummaryView_2[PlanKey]=$G$40)*(PensionSummaryView_2[PensionYear]=$C$2),0)+ _xlfn._xlws.FILTER(PensionSummaryView_2[UAALAllocationPercent],(PensionSummaryView_2[CCDDD]=$A$9)*(PensionSummaryView_2[PlanKey]=$G$40)*(PensionSummaryView_2[PensionYear]=$C$2),0)} -> 0
A42: Prior year proportionate share of the Net Pension Liability | C42: {=_xlfn._xlws.FILTER(PensionSummaryView_2[AllocationPercent],(PensionSummaryView_2[CCDDD]=$A$9)*(PensionSummaryView_2[PlanKey]=$C$40)*(PensionSummaryView_2[PensionYear]=$C$3),0)+ _xlfn._xlws.FILTER(PensionSummaryView_2[UAALAllocationPercent],(PensionSummaryView_2[CCDDD]=$A$9)*(PensionSummaryView_2[PlanKey]=$C$40)*(PensionSummaryView_2[PensionYear]=$C$3),0)} -> 1.7576554e-05 | D42: {=_xlfn._xlws.FILTER(PensionSummaryView_2[AllocationPercent],(PensionSummaryView_2[CCDDD]=$A$9)*(PensionSummaryView_2[PlanKey]=$D$40)*(PensionSummaryView_2[PensionYear]=$C$3),0)+ _xlfn._xlws.FILTER(PensionSummaryView_2[UAALAllocationPercent],(PensionSummaryView_2[CCDDD]=$A$9)*(PensionSummaryView_2[PlanKey]=$D$40)*(PensionSummaryView_2[PensionYear]=$C$3),0)} -> 0.00010315505 | E42: {=_xlfn._xlws.FILTER(PensionSummaryView_2[AllocationPercent],(PensionSummaryView_2[CCDDD]=$A$9)*(PensionSummaryView_2[PlanKey]=$E$40)*(PensionSummaryView_2[PensionYear]=$C$3),0)+ _xlfn._xlws.FILTER(PensionSummaryView_2[UAALAllocationPercent],(PensionSummaryView_2[CCDDD]=$A$9)*(PensionSummaryView_2[PlanKey]=$E$40)*(PensionSummaryView_2[PensionYear]=$C$3),0)} -> 0.000116357 | F42: {=_xlfn._xlws.FILTER(PensionSummaryView_2[AllocationPercent],(PensionSummaryView_2[CCDDD]=$A$9)*(PensionSummaryView_2[PlanKey]=$F$40)*(PensionSummaryView_2[PensionYear]=$C$3),0)+ _xlfn._xlws.FILTER(PensionSummaryView_2[UAALAllocationPercent],(PensionSummaryView_2[CCDDD]=$A$9)*(PensionSummaryView_2[PlanKey]=$F$40)*(PensionSummaryView_2[PensionYear]=$C$3),0)} -> 0.00011798937 | G42: {=_xlfn._xlws.FILTER(PensionSummaryView_2[AllocationPercent],(PensionSummaryView_2[CCDDD]=$A$9)*(PensionSummaryView_2[PlanKey]=$G$40)*(PensionSummaryView_2[PensionYear]=$C$3),0)+ _xlfn._xlws.FILTER(PensionSummaryView_2[UAALAllocationPercent],(PensionSummaryView_2[CCDDD]=$A$9)*(PensionSummaryView_2[PlanKey]=$G$40)*(PensionSummaryView_2[PensionYear]=$C$3),0)} -> 0
A43: Net difference percentage | C43: =+C41-C42 -> -2.7860279e-07 | D43: =+D41-D42 -> 4.3111489e-06 | E43: =+E41-E42 -> 5.1964282e-06 | F43: =+F41-F42 -> 4.3093347e-06 | G43: =+G41-G42 -> 0
A47: Sensitivity of the net pension liability to changes in the discount rate:
A48: Participating Plans for TRS, PERS, and SERS
C49: 1% Decrease | D49: Current Discount Rate | E49: 1% Increase
A50: PERS 1 | C50: {=_xlfn._xlws.FILTER(Plan_Data[1% Decrease],(Plan_Data[FY]=CurrentYear)*(Plan_Data[Plan]=A50))} -> 1095680000 | D50: {=_xlfn._xlws.FILTER(Plan_Data[Current Discount Rate],(Plan_Data[FY]=CurrentYear)*(Plan_Data[Plan]=A50))} -> 413810000 | E50: {=_xlfn._xlws.FILTER(Plan_Data[1% Increase],(Plan_Data[FY]=CurrentYear)*(Plan_Data[Plan]=A50))} -> -189935000
A51: %NPL | C51: =$C$41 -> 1.7297951e-05 | D51: =+C51 -> 1.7297951e-05 | E51: =+C51 -> 1.7297951e-05
A52: District’s PERS1 | C52: =+C50*C51 -> 18953.019 | D52: =+D50*D51 -> 7158.0653 | E52: =+E50*E51 -> -3285.4864
...

Sheet Comp&cont
A2: Current Year | C2: =CurrentYear -> 2025-2026
A3: Prior Year | C3: =PriorYear -> 2024-2025
A6: =RIGHT(CurrentYear,4)& " Pension Reporting Tool" -> 2026 Pension Reporting Tool
A7: Enter CCDDD number in cell A4 | C7: =VLOOKUP($A$9,LU_Org!$B$1:$D$339,2,FALSE) -> Washtucna School District | H7: ESD
A9: =PRT!A9 -> 01109 | H9: =VLOOKUP($A$9,LU_Org!$B$1:$D$339,3,FALSE) -> Educational Service District 101
A11: Basic Elements of the Pension Plans | I11: UAAL Compensation for Pension Note
B13: TRS 1 | C13: TRS 2/3 | D13: SERS 2/3 | E13: PERS 1 | F13: PERS 2/3 | G13: Totals | I13: TRS 1 UAAL Compensation | J13: PERS 1 UAAL Compensation | K13: SERS 2/3 Compenation | L13: TRS 2/3 Compenation
A14: Total Plan Contributions | B14: {=_xlfn.UNIQUE(_xlfn._xlws.FILTER(Collective_NPL[Plan State Total],(Collective_NPL[PensionYear]=$C$2)*(Collective_NPL[PlanKey]=$B$13),0))} -> 9.4368658e+09 | C14: {=_xlfn.UNIQUE(_xlfn._xlws.FILTER(Collective_NPL[Plan State Total],(Collective_NPL[PensionYear]=$C$2)*(Collective_NPL[PlanKey]=$C$13),0))} -> 7.2169422e+08 | D14: {=_xlfn.UNIQUE(_xlfn._xlws.FILTER(Collective_NPL[Plan State Total],(Collective_NPL[PensionYear]=$C$2)*(Collective_NPL[PlanKey]=$D$13),0))} -> 2.5858522e+08 | E14: {=_xlfn.UNIQUE(_xlfn._xlws.FILTER(Collective_NPL[Plan State Total],(Collective_NPL[PensionYear]=$C$2)*(Collective_NPL[PlanKey]=$E$13),0))} -> 2.2620232e+10 | F14: {=_xlfn.UNIQUE(_xlfn._xlws.FILTER(Collective_NPL[Plan State Total],(Collective_NPL[PensionYear]=$C$2)*(Collective_NPL[PlanKey]=$F$13),0))} -> 9.5601297e+08 | I14: =+B18+C18 -> 1147083.4 | J14: =+D18+E18+F18 -> 391283.67 | K14: =+D18 -> 391283.67 | L14: =+C18 -> 1147083.4
A15: District’s Annual Contributions | B15: {=_xlfn._xlws.FILTER(PensionSummaryView_2[EmployerContributions],(PensionSummaryView_2[CCDDD]=$A$9)*(PensionSummaryView_2[PlanKey]=$B$13)*(PensionSummaryView_2[PensionYear]=$C$2),0)+ _xlfn._xlws.FILTER(PensionSummaryView_2[UAALEmployerContributions],(PensionSummaryView_2[CCDDD]=$A$9)*(PensionSummaryView_2[PlanKey]=$B$13)*(PensionSummaryView_2[PensionYear]=$C$2),0)} -> 5452.04 | C15: {=_xlfn._xlws.FILTER(PensionSummaryView_2[EmployerContributions],(PensionSummaryView_2[CCDDD]=$A$9)*(PensionSummaryView_2[PlanKey]=$C$13)*(PensionSummaryView_2[PensionYear]=$C$2),0)+ _xlfn._xlws.FILTER(PensionSummaryView_2[UAALEmployerContributions],(PensionSummaryView_2[CCDDD]=$A$9)*(PensionSummaryView_2[PlanKey]=$C$13)*(PensionSummaryView_2[PensionYear]=$C$2),0)} -> 88262.27 | D15: {=_xlfn._xlws.FILTER(PensionSummaryView_2[EmployerContributions],(PensionSummaryView_2[CCDDD]=$A$9)*(PensionSummaryView_2[PlanKey]=$D$13)*(PensionSummaryView_2[PensionYear]=$C$2),0)+ _xlfn._xlws.FILTER(PensionSummaryView_2[UAALEmployerContributions],(PensionSummaryView_2[CCDDD]=$A$9)*(PensionSummaryView_2[PlanKey]=$D$13)*(PensionSummaryView_2[PensionYear]=$C$2),0)} -> 27789.17 | E15: {=_xlfn._xlws.FILTER(PensionSummaryView_2[EmployerContributions],(PensionSummaryView_2[CCDDD]=$A$9)*(PensionSummaryView_2[PlanKey]=$E$13)*(PensionSummaryView_2[PensionYear]=$C$2),0)+ _xlfn._xlws.FILTER(PensionSummaryView_2[UAALEmployerContributions],(PensionSummaryView_2[CCDDD]=$A$9)*(PensionSummaryView_2[PlanKey]=E13)*(PensionSummaryView_2[PensionYear]=$C$2),0)} -> 2600.78 | F15: {=_xlfn._xlws.FILTER(PensionSummaryView_2[EmployerContributions],(PensionSummaryView_2[CCDDD]=$A$9)*(PensionSummaryView_2[PlanKey]=$F$13)*(PensionSummaryView_2[PensionYear]=$C$2),0)+ _xlfn._xlws.FILTER(PensionSummaryView_2[UAALEmployerContributions],(PensionSummaryView_2[CCDDD]=$A$9)*(PensionSummaryView_2[PlanKey]=$F$13)*(PensionSummaryView_2[PensionYear]=$C$2),0)} -> 0 | G15: =SUM(B15:F15) -> 124104.26
A16: Employer Allocation Percentage | B16: {=_xlfn._xlws.FILTER(PensionSummaryView_2[AllocationPercent],(PensionSummaryView_2[CCDDD]=$A$9)*(PensionSummaryView_2[PlanKey]=$B$13)*(PensionSummaryView_2[PensionYear]=$C$2),0)+ _xlfn._xlws.FILTER(PensionSummaryView_2[UAALAllocationPercent],(PensionSummaryView_2[CCDDD]=$A$9)*(PensionSummaryView_2[PlanKey]=$B$13)*(PensionSummaryView_2[PensionYear]=$C$2),0)} -> 5.7773843e-07 | C16: {=_xlfn._xlws.FILTER(PensionSummaryView_2[AllocationPercent],(PensionSummaryView_2[CCDDD]=$A$9)*(PensionSummaryView_2[PlanKey]=$C$13)*(PensionSummaryView_2[PensionYear]=$C$2),0)+ _xlfn._xlws.FILTER(PensionSummaryView_2[UAALAllocationPercent],(PensionSummaryView_2[CCDDD]=$A$9)*(PensionSummaryView_2[PlanKey]=$C$13)*(PensionSummaryView_2[PensionYear]=$C$2),0)} -> 0.00012229871 | D16: {=_xlfn._xlws.FILTER(PensionSummaryView_2[AllocationPercent],(PensionSummaryView_2[CCDDD]=$A$9)*(PensionSummaryView_2[PlanKey]=$D$13)*(PensionSummaryView_2[PensionYear]=$C$2),0)+ _xlfn._xlws.FILTER(PensionSummaryView_2[UAALAllocationPercent],(PensionSummaryView_2[CCDDD]=$A$9)*(PensionSummaryView_2[PlanKey]=$D$13)*(PensionSummaryView_2[PensionYear]=$C$2),0)} -> 0.00010746619 | E16: {=_xlfn._xlws.FILTER(PensionSummaryView_2[AllocationPercent],(PensionSummaryView_2[CCDDD]=$A$9)*(PensionSummaryView_2[PlanKey]=$E$13)*(PensionSummaryView_2[PensionYear]=$C$2),0)+ _xlfn._xlws.FILTER(PensionSummaryView_2[UAALAllocationPercent],(PensionSummaryView_2[CCDDD]=$A$9)*(PensionSummaryView_2[PlanKey]=$E$13)*(PensionSummaryView_2[PensionYear]=$C$2),0)} -> 1.1497583e-07 | F16: {=_xlfn._xlws.FILTER(PensionSummaryView_2[AllocationPercent],(PensionSummaryView_2[CCDDD]=$A$9)*(PensionSummaryView_2[PlanKey]=$F$13)*(PensionSummaryView_2[PensionYear]=$C$2),0)+ _xlfn._xlws.FILTER(PensionSummaryView_2[UAALAllocationPercent],(PensionSummaryView_2[CCDDD]=$A$9)*(PensionSummaryView_2[PlanKey]=$F$13)*(PensionSummaryView_2[PensionYear]=$C$2),0)} -> 0 | I16: =+I14/B14 -> 0.00012155343 | J16: =+J14/E14 -> 1.7297951e-05 | K16: Math Check
A17: check amount | B17: =+B15/B14 -> 5.7773843e-07 | C17: =+C15/C14 -> 0.00012229871 | D17: =+D15/D14 -> 0.00010746619 | E17: =+E15/E14 -> 1.1497583e-07 | F17: =+F15/F14 -> 0 | I17: =+PRT!E41 -> 0.00012155343 | J17: =+PRT!C41 -> 1.7297951e-05 | K17: From PRT worksheet
A18: District’s Reportable Compensation | B18: {=_xlfn._xlws.FILTER(PensionSummaryView_2[Compensation],(PensionSummaryView_2[PlanKey]='Comp&cont'!$B$13)*(PensionSummaryView_2[CCDDD]='Comp&cont'!$A$9)*( PensionSummaryView_2[PensionYear]=$C$2),0)} -> 0 | C18: {=_xlfn._xlws.FILTER(PensionSummaryView_2[Compensation],(PensionSummaryView_2[PlanKey]='Comp&cont'!$C$13)*(PensionSummaryView_2[CCDDD]='Comp&cont'!$A$9)*( PensionSummaryView_2[PensionYear]=$C$2),0)} -> 1147083.4 | D18: {=_xlfn._xlws.FILTER(PensionSummaryView_2[Compensation],(PensionSummaryView_2[PlanKey]='Comp&cont'!$D$13)*(PensionSummaryView_2[CCDDD]='Comp&cont'!$A$9)*( PensionSummaryView_2[PensionYear]=$C$2),0)} -> 391283.67 | E18: {=_xlfn._xlws.FILTER(PensionSummaryView_2[Compensation],(PensionSummaryView_2[PlanKey]='Comp&cont'!$E$13)*(PensionSummaryView_2[CCDDD]='Comp&cont'!$A$9)*( PensionSummaryView_2[PensionYear]=$C$2),0)} -> 0 | F18: {=_xlfn._xlws.FILTER(PensionSummaryView_2[Compensation],(PensionSummaryView_2[PlanKey]='Comp&cont'!$F$13)*(PensionSummaryView_2[CCDDD]='Comp&cont'!$A$9)*( PensionSummaryView_2[PensionYear]=$C$2),0)} -> 0 | G18: =SUM(B18:F18) -> 1538367.1
B20: TRS 1 | C20: TRS 2/3 | D20: SERS 2/3 | E20: PERS 1 | F20: PERS 2/3
A21: Compensation by Plan | B21: =$B$18 -> 0 | C21: =$C$18 -> 1147083.4 | D21: =$D$18 -> 391283.67 | E21: =$E$18 -> 0 | F21: =$F$18 -> 0 | G21: =SUM(B21:F21) -> 1538367.1
A22: RTW/SUB Comp by Plan | B22: {=_xlfn._xlws.FILTER(PensionSummaryView_2[RTWSUB_Comp],(PensionSummaryView_2[PlanKey]='Comp&cont'!$B$13)*(PensionSummaryView_2[CCDDD]='Comp&cont'!$A$9)*( PensionSummaryView_2[PensionYear]=$C$2),0)} -> 0 | C22: {=_xlfn._xlws.FILTER(PensionSummaryView_2[RTWSUB_Comp],(PensionSummaryView_2[PlanKey]='Comp&cont'!$C$13)*(PensionSummaryView_2[CCDDD]='Comp&cont'!$A$9)*( PensionSummaryView_2[PensionYear]=$C$2),0)} -> 11725.05 | D22: {=_xlfn._xlws.FILTER(PensionSummaryView_2[RTWSUB_Comp],(PensionSummaryView_2[PlanKey]='Comp&cont'!$D$13)*(PensionSummaryView_2[CCDDD]='Comp&cont'!$A$9)*( PensionSummaryView_2[PensionYear]=$C$2),0)} -> 27473.26 | E22: {=_xlfn._xlws.FILTER(PensionSummaryView_2[RTWSUB_Comp],(PensionSummaryView_2[PlanKey]='Comp&cont'!$E$13)*(PensionSummaryView_2[CCDDD]='Comp&cont'!$A$9)*( PensionSummaryView_2[PensionYear]=$C$2),0)} -> 0 | F22: {=_xlfn._xlws.FILTER(PensionSummaryView_2[RTWSUB_Comp],(PensionSummaryView_2[PlanKey]='Comp&cont'!$F$13)*(PensionSummaryView_2[CCDDD]='Comp&cont'!$A$9)*( PensionSummaryView_2[PensionYear]=$C$2),0)} -> 0 | G22: =SUM(B22:F22) -> 39198.31
A24: Employer Contributions | B24: {=IFERROR(_xlfn.CHOOSECOLS(_xlfn._xlws.FILTER(PensionSummaryView_2[],(PensionSummaryView_2[PlanKey]='Comp&cont'!$B$13)*(PensionSummaryView_2[CCDDD]='Comp&cont'!$A$9)*( PensionSummaryView_2[PensionYear]=$C$2)),8),0)} -> 0 | C24: {=_xlfn._xlws.FILTER(PensionSummaryView_2[EmployerContributions],(PensionSummaryView_2[CCDDD]=$A$9)*(PensionSummaryView_2[PlanKey]=$C$13)*(PensionSummaryView_2[PensionYear]=$C$2),0)} -> 88262.27 | D24: {=_xlfn._xlws.FILTER(PensionSummaryView_2[EmployerContributions],(PensionSummaryView_2[CCDDD]=$A$9)*(PensionSummaryView_2[PlanKey]=$D$13)*(PensionSummaryView_2[PensionYear]=$C$2),0)} -> 27789.17 | E24: {=IFERROR(_xlfn.CHOOSECOLS(_xlfn._xlws.FILTER(PensionSummaryView_2[],(PensionSummaryView_2[PlanKey]='Comp&cont'!$E$13)*(PensionSummaryView_2[CCDDD]='Comp&cont'!$A$9)*( PensionSummaryView_2[PensionYear]=$C$2)),8),0)} -> 0 | F24: {=IFERROR(_xlfn.CHOOSECOLS(_xlfn._xlws.FILTER(PensionSummaryView_2[],(PensionSummaryView_2[PlanKey]='Comp&cont'!$F$13)*(PensionSummaryView_2[CCDDD]='Comp&cont'!$A$9)*( PensionSummaryView_2[PensionYear]=$C$2)),8),0)} -> 0 | G24: =SUM(B24:F24) -> 116051.44
A25: Employer UAAL Contributions | C25: =B15-B24 -> 5452.04 | D25: =E15-E24 -> 2600.78 | G25: =SUM(B25:F25) -> 8052.82
A27: Member Contributions | B27: {=_xlfn._xlws.FILTER(PensionSummaryView_2[MemberContributions],(PensionSummaryView_2[PlanKey]='Comp&cont'!$B$13)*(PensionSummaryView_2[CCDDD]='Comp&cont'!$A$9)*( PensionSummaryView_2[PensionYear]=$C$2),0)} -> 0 | C27: {=_xlfn._xlws.FILTER(PensionSummaryView_2[MemberContributions],(PensionSummaryView_2[PlanKey]='Comp&cont'!$C$13)*(PensionSummaryView_2[CCDDD]='Comp&cont'!$A$9)*( PensionSummaryView_2[PensionYear]=$C$2),0)} -> 108736.63 | D27: {=_xlfn._xlws.FILTER(PensionSummaryView_2[MemberContributions],(PensionSummaryView_2[PlanKey]='Comp&cont'!$D$13)*(PensionSummaryView_2[CCDDD]='Comp&cont'!$A$9)*( PensionSummaryView_2[PensionYear]=$C$2),0)} -> 26403.35 | E27: {=_xlfn._xlws.FILTER(PensionSummaryView_2[MemberContributions],(PensionSummaryView_2[PlanKey]='Comp&cont'!$E$13)*(PensionSummaryView_2[CCDDD]='Comp&cont'!$A$9)*( PensionSummaryView_2[PensionYear]=$C$2),0)} -> 0 | F27: {=_xlfn._xlws.FILTER(PensionSummaryView_2[MemberContributions],(PensionSummaryView_2[PlanKey]='Comp&cont'!$F$13)*(PensionSummaryView_2[CCDDD]='Comp&cont'!$A$9)*( PensionSummaryView_2[PensionYear]=$C$2),0)} -> 0 | G27: =SUM(B27:F27) -> 135139.98
A28: Admin Fees to DRS | B28: {=_xlfn._xlws.FILTER(PensionSummaryView_2[AdminFee],(PensionSummaryView_2[PlanKey]='Comp&cont'!$B$13)*(PensionSummaryView_2[CCDDD]='Comp&cont'!$A$9)*( PensionSummaryView_2[PensionYear]=$C$2),0)} -> 0 | C28: {=_xlfn._xlws.FILTER(PensionSummaryView_2[AdminFee],(PensionSummaryView_2[PlanKey]='Comp&cont'!$C$13)*(PensionSummaryView_2[CCDDD]='Comp&cont'!$A$9)*( PensionSummaryView_2[PensionYear]=$C$2),0)} -> 2294.02 | D28: {=_xlfn._xlws.FILTER(PensionSummaryView_2[AdminFee],(PensionSummaryView_2[PlanKey]='Comp&cont'!$D$13)*(PensionSummaryView_2[CCDDD]='Comp&cont'!$A$9)*( PensionSummaryView_2[PensionYear]=$C$2),0)} -> 782.44 | E28: {=_xlfn._xlws.FILTER(PensionSummaryView_2[AdminFee],(PensionSummaryView_2[PlanKey]='Comp&cont'!$E$13)*(PensionSummaryView_2[CCDDD]='Comp&cont'!$A$9)*( PensionSummaryView_2[PensionYear]=$C$2),0)} -> 0 | F28: {=_xlfn._xlws.FILTER(PensionSummaryView_2[AdminFee],(PensionSummaryView_2[PlanKey]='Comp&cont'!$F$13)*(PensionSummaryView_2[CCDDD]='Comp&cont'!$A$9)*( PensionSummaryView_2[PensionYear]=$C$2),0)} -> 0 | G28: =SUM(B28:F28) -> 3076.46
A29: Other Employer Contributions | G29: =SUM(B29:F29) -> 0
A30: Other Admin Fees to DRS | G30: =SUM(B30:F30) -> 0
A32: Payments to DRS by Plan | B32: =SUM(B24:B30) -> 0 | C32: =SUM(C24:C30) -> 204744.96 | D32: =SUM(D24:D30) -> 57575.74 | E32: =SUM(E24:E30) -> 0 | F32: =SUM(F24:F30) -> 0 | G32: =SUM(B32:F32) -> 262320.7
B35: TRS 1 | C35: TRS 2/3 | D35: SERS 2/3 | E35: PERS 1 | F35: PERS 2/3 | G35: Totals
A36: Employer Contributions + Admin | B36: =+B24+B25+B28+B29+B30 -> 0 | C36: =+C24+C25+C28+C29+C30 -> 96008.33 | D36: =+D24+D25+D28+D29+D30 -> 31172.39 | E36: =+E24+E25+E28+E29+E30 -> 0 | F36: =+F24+F25+F28+F29+F30 -> 0 | G36: =SUM(B36:F36) -> 127180.72
A37: Member Contributions | B37: =+B27 -> 0 | C37: =+C27 -> 108736.63 | D37: =+D27 -> 26403.35 | E37: =+E27 -> 0 | F37: =+F27 -> 0 | G37: =+G27 -> 135139.98
A38: Payments to DRS by Plan | B38: =+B36+B37 -> 0 | C38: =+C36+C37 -> 204744.96 | D38: =+D36+D37 -> 57575.74 | E38: =+E36+E37 -> 0 | F38: =+F36+F37 -> 0 | G38: =+G36+G37 -> 262320.7

Sheet Collective NPL
A1: DRS_ID | B1: CCDDD | C1: OrganizationName | D1: PlanKey | E1: AllocationPercent | F1: UAALAllocationPercent | G1: PensionYear | H1: Plan Data.State Total | I1: self join match | J1: UAAL.Compensation | K1: Compensation percentage | L1: UAAAL compensation percentage | M1: Plan NPL | N1: NPL | O1: Plan State Total
A2: 0002 | B2: 14005 | C2: Aberdeen School District | D2: SERS 2/3 | E2: 0.0034848504 | F2: 0 | G2: 2024-2025 | H2: 2.7321708e+08 | K2: 0 | L2: 0 | M2: -244649000 | N2: -852565.17 | O2: 2.7321708e+08
A3: 0010 | B3: 21226 | C3: Adna School District | D3: SERS 2/3 | E3: 0.00040312865 | F3: 0 | G3: 2024-2025 | H3: 2.7321708e+08 | K3: 0 | L3: 0 | M3: -244649000 | N3: -98625.02 | O3: 2.7321708e+08
A4: 0017 | B4: 22017 | C4: Almira School District | D4: SERS 2/3 | E4: 0.00012857088 | F4: 0 | G4: 2024-2025 | H4: 2.7321708e+08 | K4: 0 | L4: 0 | M4: -244649000 | N4: -31454.737 | O4: 2.7321708e+08
A5: 0020 | B5: 29103 | C5: Anacortes School District | D5: SERS 2/3 | E5: 0.0022965681 | F5: 0 | G5: 2024-2025 | H5: 2.7321708e+08 | K5: 0 | L5: 0 | M5: -244649000 | N5: -561853.08 | O5: 2.7321708e+08
A6: 0026 | B6: 31016 | C6: Arlington School District | D6: SERS 2/3 | E6: 0.0048220339 | F6: 0 | G6: 2024-2025 | H6: 2.7321708e+08 | K6: 0 | L6: 0 | M6: -244649000 | N6: -1179705.8 | O6: 2.7321708e+08
A7: 0029 | B7: 02420 | C7: Asotin-Anatone School District | D7: SERS 2/3 | E7: 0.00046879244 | F7: 0 | G7: 2024-2025 | H7: 2.7321708e+08 | K7: 0 | L7: 0 | M7: -244649000 | N7: -114689.6 | O7: 2.7321708e+08
A8: 0039 | B8: 17408 | C8: Auburn School District | D8: SERS 2/3 | E8: 0.017114976 | F8: 0 | G8: 2024-2025 | H8: 2.7321708e+08 | K8: 0 | L8: 0 | M8: -244649000 | N8: -4187161.8 | O8: 2.7321708e+08
A9: 0042 | B9: 18303 | C9: Bainbridge Island School District | D9: SERS 2/3 | E9: 0.0033768026 | F9: 0 | G9: 2024-2025 | H9: 2.7321708e+08 | K9: 0 | L9: 0 | M9: -244649000 | N9: -826131.38 | O9: 2.7321708e+08
A10: 0045 | B10: 06119 | C10: Battle Ground School District | D10: SERS 2/3 | E10: 0.0095978134 | F10: 0 | G10: 2024-2025 | H10: 2.7321708e+08 | K10: 0 | L10: 0 | M10: -244649000 | N10: -2348095.4 | O10: 2.7321708e+08
A11: 0050 | B11: 17405 | C11: Bellevue School District | D11: SERS 2/3 | E11: 0.019641635 | F11: 0 | G11: 2024-2025 | H11: 2.7321708e+08 | K11: 0 | L11: 0 | M11: -244649000 | N11: -4805306.4 | O11: 2.7321708e+08
A12: 0054 | B12: 37501 | C12: Bellingham School District | D12: SERS 2/3 | E12: 0.010976285 | F12: 0 | G12: 2024-2025 | H12: 2.7321708e+08 | K12: 0 | L12: 0 | M12: -244649000 | N12: -2685337.3 | O12: 2.7321708e+08
A13: 0057 | B13: 01122 | C13: Benge School District | D13: SERS 2/3 | E13: 2.0027372e-05 | F13: 0 | G13: 2024-2025 | H13: 2.7321708e+08 | K13: 0 | L13: 0 | M13: -244649000 | N13: -4899.6765 | O13: 2.7321708e+08
... A331: 4281 | B331: 04901 | C331: Pinnacles Prep Charter School | D331: SERS 2/3 | E331: 0.00018133501 | F331: 0 | G331: 2024-2025 | H331: 2.7321708e+08 | K331: 0 | L331: 0 | M331: -244649000 | N331: -44363.428 | O331: 2.7321708e+08
A332: 4309 | D332: SERS 2/3 | E332: 8.2377245e-05 | F332: 0 | G332: 2024-2025 | H332: 2.7321708e+08 | K332: 0 | L332: 0 | M332: -244649000 | N332: -20153.511 | O332: 2.7321708e+08
A333: 0002 | B333: 14005 | C333: Aberdeen School District | D333: TRS 2/3 | E333: 0.0027309325 | F333: 0 | G333: 2024-2025 | H333: 7.3858804e+08 | K333: 0 | L333: 0 | M333: -273207000 | N333: -746109.87 | O333: 7.3858804e+08
A334: 0010 | B334: 21226 | C334: Adna School District | D334: TRS 2/3 | E334: 0.00043344105 | F334: 0 | G334: 2024-2025 | H334: 7.3858804e+08 | K334: 0 | L334: 0 | M334: -273207000 | N334: -118419.13 | O334: 7.3858804e+08
A335: 0017 | B335: 22017 | C335: Almira School District | D335: TRS 2/3 | E335: 0.00011950103 | F335: 0 | G335: 2024-2025 | H335: 7.3858804e+08 | K335: 0 | L335: 0 | M335: -273207000 | N335: -32648.517 | O335: 7.3858804e+08
A336: 0020 | B336: 29103 | C336: Anacortes School District | D336: TRS 2/3 | E336: 0.0024305294 | F336: 0 | G336: 2024-2025 | H336: 7.3858804e+08 | K336: 0 | L336: 0 | M336: -273207000 | N336: -664037.63 | O336: 7.3858804e+08
A337: 0026 | B337: 31016 | C337: Arlington School District | D337: TRS 2/3 | E337: 0.0052164771 | F337: 0 | G337: 2024-2025 | H337: 7.3858804e+08 | K337: 0 | L337: 0 | M337: -273207000 | N337: -1425178.1 | O337: 7.3858804e+08
A338: 0029 | B338: 02420 | C338: Asotin-Anatone School District | D338: TRS 2/3 | E338: 0.00049553804 | F338: 0 | G338: 2024-2025 | H338: 7.3858804e+08 | K338: 0 | L338: 0 | M338: -273207000 | N338: -135384.46 | O338: 7.3858804e+08
A339: 0039 | B339: 17408 | C339: Auburn School District | D339: TRS 2/3 | E339: 0.017632651 | F339: 0 | G339: 2024-2025 | H339: 7.3858804e+08 | K339: 0 | L339: 0 | M339: -273207000 | N339: -4817363.7 | O339: 7.3858804e+08
A340: 0042 | B340: 18303 | C340: Bainbridge Island School District | D340: TRS 2/3 | E340: 0.0032912228 | F340: 0 | G340: 2024-2025 | H340: 7.3858804e+08 | K340: 0 | L340: 0 | M340: -273207000 | N340: -899185.11 | O340: 7.3858804e+08
A341: 0045 | B341: 06119 | C341: Battle Ground School District | D341: TRS 2/3 | E341: 0.010595492 | F341: 0 | G341: 2024-2025 | H341: 7.3858804e+08 | K341: 0 | L341: 0 | M341: -273207000 | N341: -2894762.5 | O341: 7.3858804e+08
A342: 0050 | B342: 17405 | C342: Bellevue School District | D342: TRS 2/3 | E342: 0.02080174 | F342: 0 | G342: 2024-2025 | H342: 7.3858804e+08 | K342: 0 | L342: 0 | M342: -273207000 | N342: -5683181 | O342: 7.3858804e+08
A343: 0054 | B343: 37501 | C343: Bellingham School District | D343: TRS 2/3 | E343: 0.011392727 | F343: 0 | G343: 2024-2025 | H343: 7.3858804e+08 | K343: 0 | L343: 0 | M343: -273207000 | N343: -3112572.7 | O343: 7.3858804e+08
A344: 0057 | B344: 01122 | C344: Benge School District | D344: TRS 2/3 | E344: 1.7003471e-05 | F344: 0 | G344: 2024-2025 | H344: 7.3858804e+08 | K344: 0 | L344: 0 | M344: -273207000 | N344: -4645.4672 | O344: 7.3858804e+08
... A661: 4281 | B661: 04901 | C661: Pinnacles Prep Charter School | D661: TRS 2/3 | E661: 0.00016116209 | F661: 0 | G661: 2024-2025 | H661: 7.3858804e+08 | K661: 0 | L661: 0 | M661: -273207000 | N661: -44030.61 | O661: 7.3858804e+08
A662: 4309 | D662: TRS 2/3 | E662: 6.5070875e-05 | F662: 0 | G662: 2024-2025 | H662: 7.3858804e+08 | K662: 0 | L662: 0 | M662: -273207000 | N662: -17777.819 | O662: 7.3858804e+08
A663: 1597 | B663: 31801 | C663: WA School Info Processing Cooperative | D663: PERS 2/3 | E663: 0.00061315164 | F663: 0 | G663: 2024-2025 | H663: 1.061299e+09 | K663: 0 | L663: 0 | M663: -3816176000 | N663: -2339894.6 | O663: 1.061299e+09
A664: 1412 | B664: 04069 | C664: Stehekin School District | D664: PERS 1 | E664: 0 | F664: 0 | G664: 2024-2025 | H664: 5.5138566e+08 | I664: SERS 2/3 | J664: 0 | K664: 0 | L664: 0 | M664: 1178996000 | N664: 0 | O664: 5.5138566e+08
A665: 0002 | B665: 14005 | C665: Aberdeen School District | D665: PERS 1 | E665: 0 | F665: 0.00059007176 | G665: 2024-2025 | H665: 5.5138566e+08 | I665: SERS 2/3 | J665: 12269582 | K665: 0 | L665: 0.022252269 | M665: 1178996000 | N665: 695692.25 | O665: 5.5138566e+08
A666: 0017 | B666: 22017 | C666: Almira School District | D666: PERS 1 | E666: 0 | F666: 2.1814677e-05 | G666: 2024-2025 | H666: 5.5138566e+08 | I666: SERS 2/3 | J666: 452674.12 | K666: 0 | L666: 0.0008209755 | M666: 1178996000 | N666: 25719.416 | O666: 5.5138566e+08
A667: 0020 | B667: 29103 | C667: Anacortes School District | D667: PERS 1 | E667: 0 | F667: 0.00038674074 | G667: 2024-2025 | H667: 5.5138566e+08 | I667: SERS 2/3 | J667: 8085834.7 | K667: 0 | L667: 0.014664572 | M667: 1178996000 | N667: 455965.79 | O667: 5.5138566e+08
A668: 0029 | B668: 02420 | C668: Asotin-Anatone School District | D668: PERS 1 | E668: 0 | F668: 7.8666844e-05 | G668: 2024-2025 | H668: 5.5138566e+08 | I668: SERS 2/3 | J668: 1650535.3 | K668: 0 | L668: 0.0029934316 | M668: 1178996000 | N668: 92747.894 | O668: 5.5138566e+08
A669: 0039 | B669: 17408 | C669: Auburn School District | D669: PERS 1 | E669: 0 | F669: 0.0028603583 | G669: 2024-2025 | H669: 5.5138566e+08 | I669: SERS 2/3 | J669: 60259352 | K669: 0 | L669: 0.10928712 | M669: 1178996000 | N669: 3372351.1 | O669: 5.5138566e+08
A670: 0042 | B670: 18303 | C670: Bainbridge Island School District | D670: PERS 1 | E670: 0 | F670: 0.0005660623 | G670: 2024-2025 | H670: 5.5138566e+08 | I670: SERS 2/3 | J670: 11889174 | K670: 0 | L670: 0.021562357 | M670: 1178996000 | N670: 667385.19 | O670: 5.5138566e+08
A671: 0045 | B671: 06119 | C671: Battle Ground School District | D671: PERS 1 | E671: 0 | F671: 0.0016056339 | G671: 2024-2025 | H671: 5.5138566e+08 | I671: SERS 2/3 | J671: 33792168 | K671: 0 | L671: 0.061285902 | M671: 1178996000 | N671: 1893035.9 | O671: 5.5138566e+08
A672: 0054 | B672: 37501 | C672: Bellingham School District | D672: PERS 1 | E672: 0 | F672: 0.0018369612 | G672: 2024-2025 | H672: 5.5138566e+08 | I672: SERS 2/3 | J672: 38645707 | K672: 0 | L672: 0.070088342 | M672: 1178996000 | N672: 2165770 | O672: 5.5138566e+08
A673: 0057 | B673: 01122 | C673: Benge School District | D673: PERS 1 | E673: 0 | F673: 3.3646504e-06 | G673: 2024-2025 | H673: 5.5138566e+08 | I673: SERS 2/3 | J673: 70511.64 | K673: 0 | L673: 0.0001278808 | M673: 1178996000 | N673: 3966.9094 | O673: 5.5138566e+08
...

Sheet PensionSummaryView
A1: DRS_ID | B1: CCDDD | C1: OrganizationName | D1: PlanKey | E1: Compensation | F1: RTWSUB_Comp | G1: MemberContributions | H1: EmployerContributions | I1: AllocationPercent | J1: AdminFee | K1: UAALEmployerContributions | L1: UAALAllocationPercent | M1: PensionYear | N1: Plan Data.State Total | O1: self join match | P1: UAAL.Compensation | Q1: Compensation percentage | R1: UAAAL compensation percentage
A2: 0099 | B2: 27019 | C2: Carbonado School District | D2: TRS 2/3 | E2: 1377361.9 | F2: 0 | G2: 124384.87 | H2: 111026.45 | I2: 0.00015032257 | J2: 2744.77 | K2: 0 | L2: 0 | M2: 2024-2025 | N2: 7.3858804e+08 | Q2: 0 | R2: 0
A3: 0218 | B3: 19007 | C3: Damman School District | D3: SERS 2/3 | E3: 87183.34 | F3: 0 | G3: 10090.85 | H3: 6765.6 | I3: 2.4762728e-05 | J3: 174.3 | K3: 0 | L3: 0 | M3: 2024-2025 | N3: 2.7321708e+08 | Q3: 0 | R3: 0
A4: 0218 | B4: 19007 | C4: Damman School District | D4: TRS 2/3 | E4: 298397.99 | F4: 0 | G4: 20419.66 | H4: 24051.08 | I4: 3.2563592e-05 | J4: 596.66 | K4: 0 | L4: 0 | M4: 2024-2025 | N4: 7.3858804e+08 | Q4: 0 | R4: 0
A5: 0232 | B5: 36101 | C5: Dixie School District | D5: TRS 2/3 | E5: 187981.17 | F5: 0 | G5: 12400.72 | H5: 15151.46 | I5: 2.0514088e-05 | J5: 375.89 | K5: 0 | L5: 0 | M5: 2024-2025 | N5: 7.3858804e+08 | Q5: 0 | R5: 0
A6: 0263 | B6: 18801 | C6: ESD 114 acting as a school district | D6: TRS 2/3 | E6: 6025304.2 | F6: 0 | G6: 477814.23 | H6: 485639.89 | I6: 0.00065752471 | J6: 12050.46 | K6: 0 | L6: 0 | M6: 2024-2025 | N6: 7.3858804e+08 | Q6: 0 | R6: 0
A7: 0264 | B7: 17801 | C7: ESD 121 acting as a school district | D7: TRS 2/3 | E7: 800168.34 | F7: 0 | G7: 53206.95 | H7: 64493.7 | I7: 8.732026e-05 | J7: 1600.25 | K7: 0 | L7: 0 | M7: 2024-2025 | N7: 7.3858804e+08 | Q7: 0 | R7: 0
A8: 0285 | B8: 21036 | C8: Evaline School District | D8: TRS 2/3 | E8: 350316.67 | F8: 0 | G8: 28757.72 | H8: 28235.76 | I8: 3.8229376e-05 | J8: 700.58 | K8: 0 | L8: 0 | M8: 2024-2025 | N8: 7.3858804e+08 | Q8: 0 | R8: 0
A9: 0425 | B9: 10003 | C9: Keller School District | D9: TRS 2/3 | E9: 249376.21 | F9: 0 | G9: 16515.12 | H9: 20100.04 | I9: 2.7214142e-05 | J9: 498.62 | K9: 0 | L9: 0 | M9: 2024-2025 | N9: 7.3858804e+08 | Q9: 0 | R9: 0
A10: 0637 | B10: 24014 | C10: Nespelem School District | D10: TRS 2/3 | E10: 1408771.4 | F10: 0 | G10: 103911.07 | H10: 113547.21 | I10: 0.00015373551 | J10: 2816.92 | K10: 0 | L10: 0 | M10: 2024-2025 | N10: 7.3858804e+08 | Q10: 0 | R10: 0
A11: 0680 | B11: 21300 | C11: Onalaska School District | D11: TRS 2/3 | E11: 4936652.7 | F11: 0 | G11: 390292.49 | H11: 397894.08 | I11: 0.00053872261 | J11: 9873.13 | K11: 0 | L11: 0 | M11: 2024-2025 | N11: 7.3858804e+08 | Q11: 0 | R11: 0
A12: 0684 | B12: 32123 | C12: Orchard Prairie School District | D12: SERS 2/3 | E12: 109645.96 | F12: 0 | G12: 9511.29 | H12: 8508.73 | I12: 3.1142746e-05 | J12: 219.58 | K12: 0 | L12: 0 | M12: 2024-2025 | N12: 2.7321708e+08 | Q12: 0 | R12: 0
A13: 0785 | B13: 16020 | C13: Queets-Clearwater School District | D13: TRS 2/3 | E13: 312308.51 | F13: 0 | G13: 19412.68 | H13: 25172.23 | I13: 3.4081556e-05 | J13: 624.49 | K13: 0 | L13: 0 | M13: 2024-2025 | N13: 7.3858804e+08 | Q13: 0 | R13: 0
... A42: 4279 | B42: 99999 | C42: WA Schools Risk Management Pool | D42: SERS 2/3 | E42: 4273241.2 | F42: 0 | G42: 348525.6 | H42: 331603.72 | I42: 0.0012137006 | J42: 8546.33 | K42: 0 | L42: 0 | M42: 2024-2025 | N42: 2.7321708e+08 | Q42: 0 | R42: 0
A43: 4309 | D43: SERS 2/3 | E43: 290034.39 | F43: 0 | G43: 22331.99 | H43: 22506.87 | I43: 8.2377245e-05 | J43: 579.94 | K43: 0 | L43: 0 | M43: 2024-2025 | N43: 2.7321708e+08 | Q43: 0 | R43: 0
A44: 0002 | B44: 14005 | C44: Aberdeen School District | D44: TRS 2/3 | E44: 25025217 | F44: 659153.76 | G44: 1989995.9 | H44: 2017034.1 | I44: 0.0027309325 | J44: 50049.5 | K44: 0 | L44: 0 | M44: 2024-2025 | N44: 7.3858804e+08 | Q44: 0 | R44: 0
A45: 0010 | B45: 21226 | C45: Adna School District | D45: TRS 2/3 | E45: 3971882.7 | F45: 456 | G45: 300718.03 | H45: 320134.38 | I45: 0.00043344105 | J45: 7943.6 | K45: 0 | L45: 0 | M45: 2024-2025 | N45: 7.3858804e+08 | Q45: 0 | R45: 0
A46: 0017 | B46: 22017 | C46: Almira School District | D46: TRS 2/3 | E46: 1095056.7 | F46: 28923.9 | G46: 77537.19 | H46: 88262.03 | I46: 0.00011950103 | J46: 2190.38 | K46: 0 | L46: 0 | M46: 2024-2025 | N46: 7.3858804e+08 | Q46: 0 | R46: 0
A47: 0020 | B47: 29103 | C47: Anacortes School District | D47: TRS 2/3 | E47: 22272369 | F47: 501127.4 | G47: 1886428.5 | H47: 1795159.9 | I47: 0.0024305294 | J47: 44544.47 | K47: 0 | L47: 0 | M47: 2024-2025 | N47: 7.3858804e+08 | Q47: 0 | R47: 0
A48: 0026 | B48: 31016 | C48: Arlington School District | D48: TRS 2/3 | E48: 47799858 | F48: 880958.19 | G48: 3731450.2 | H48: 3852827.6 | I48: 0.0052164771 | J48: 95468.42 | K48: 0 | L48: 0 | M48: 2024-2025 | N48: 7.3858804e+08 | Q48: 0 | R48: 0
A49: 0029 | B49: 02420 | C49: Asotin-Anatone School District | D49: TRS 2/3 | E49: 4540943.6 | F49: 80001.19 | G49: 356898.49 | H49: 365998.47 | I49: 0.00049553804 | J49: 9081.75 | K49: 0 | L49: 0 | M49: 2024-2025 | N49: 7.3858804e+08 | Q49: 0 | R49: 0
A50: 0039 | B50: 17408 | C50: Auburn School District | D50: TRS 2/3 | E50: 1.6158391e+08 | F50: 4184772.1 | G50: 12442921 | H50: 13023265 | I50: 0.017632651 | J50: 323164.94 | K50: 0 | L50: 0 | M50: 2024-2025 | N50: 7.3858804e+08 | Q50: 0 | R50: 0
A51: 0042 | B51: 18303 | C51: Bainbridge Island School District | D51: TRS 2/3 | E51: 30159576 | F51: 795981.73 | G51: 2270518.9 | H51: 2430857.8 | I51: 0.0032912228 | J51: 60317.72 | K51: 0 | L51: 0 | M51: 2024-2025 | N51: 7.3858804e+08 | Q51: 0 | R51: 0
A52: 0045 | B52: 06119 | C52: Battle Ground School District | D52: TRS 2/3 | E52: 97093197 | F52: 2668777 | G52: 7607635.3 | H52: 7825703.6 | I52: 0.010595492 | J52: 194184.18 | K52: 0 | L52: 0 | M52: 2024-2025 | N52: 7.3858804e+08 | Q52: 0 | R52: 0
A53: 0050 | B53: 17405 | C53: Bellevue School District | D53: TRS 2/3 | E53: 1.9061268e+08 | F53: 4288394.1 | G53: 14377871 | H53: 15363916 | I53: 0.02080174 | J53: 381181.43 | K53: 0 | L53: 0 | M53: 2024-2025 | N53: 7.3858804e+08 | Q53: 0 | R53: 0
A54: 0054 | B54: 37501 | C54: Bellingham School District | D54: TRS 2/3 | E54: 1.0439866e+08 | F54: 2308211.9 | G54: 8620568.9 | H54: 8414531.8 | I54: 0.011392727 | J54: 208773.8 | K54: 0 | L54: 0 | M54: 2024-2025 | N54: 7.3858804e+08 | Q54: 0 | R54: 0
A55: 0057 | B55: 01122 | C55: Benge School District | D55: TRS 2/3 | E55: 155812.25 | F55: 21481.15 | G55: 11700.57 | H55: 12558.56 | I55: 1.7003471e-05 | J55: 311.57 | K55: 0 | L55: 0 | M55: 2024-2025 | N55: 7.3858804e+08 | Q55: 0 | R55: 0
... A349: 4281 | B349: 04901 | C349: Pinnacles Prep Charter School | D349: TRS 2/3 | E349: 1476824.4 | F349: 117218.77 | G349: 123970.12 | H349: 119032.39 | I349: 0.00016116209 | J349: 2953.51 | K349: 0 | L349: 0 | M349: 2024-2025 | N349: 7.3858804e+08 | Q349: 0 | R349: 0
A350: 4309 | D350: TRS 2/3 | E350: 596280.71 | F350: 2966.44 | G350: 54684.67 | H350: 48060.57 | I350: 6.5070875e-05 | J350: 1192.41 | K350: 0 | L350: 0 | M350: 2024-2025 | N350: 7.3858804e+08 | Q350: 0 | R350: 0
A351: 0002 | B351: 14005 | C351: Aberdeen School District | D351: SERS 2/3 | E351: 12269582 | F351: 877649.97 | G351: 885554.7 | H351: 952120.64 | I351: 0.0034848504 | J351: 24539.29 | K351: 0 | L351: 0 | M351: 2024-2025 | N351: 2.7321708e+08 | Q351: 0 | R351: 0
A352: 0010 | B352: 21226 | C352: Adna School District | D352: SERS 2/3 | E352: 1419345.2 | F352: 216617.62 | G352: 105191.13 | H352: 110141.63 | I352: 0.00040312865 | J352: 2838.57 | K352: 0 | L352: 0 | M352: 2024-2025 | N352: 2.7321708e+08 | Q352: 0 | R352: 0
A353: 0017 | B353: 22017 | C353: Almira School District | D353: SERS 2/3 | E353: 452674.12 | F353: 30536.38 | G353: 37587.24 | H353: 35127.76 | I353: 0.00012857088 | J353: 905.24 | K353: 0 | L353: 0 | M353: 2024-2025 | N353: 2.7321708e+08 | Q353: 0 | R353: 0
A354: 0020 | B354: 29103 | C354: Anacortes School District | D354: SERS 2/3 | E354: 8085834.7 | F354: 746142.46 | G354: 577130 | H354: 627461.61 | I354: 0.0022965681 | J354: 16162.05 | K354: 0 | L354: 0 | M354: 2024-2025 | N354: 2.7321708e+08 | Q354: 0 | R354: 0
A355: 0026 | B355: 31016 | C355: Arlington School District | D355: SERS 2/3 | E355: 16948551 | F355: 1587335.7 | G355: 1249396.8 | H355: 1317462 | I355: 0.0048220339 | J355: 33846.28 | K355: 0 | L355: 0 | M355: 2024-2025 | N355: 2.7321708e+08 | Q355: 0 | R355: 0
A356: 0029 | B356: 02420 | C356: Asotin-Anatone School District | D356: SERS 2/3 | E356: 1650535.3 | F356: 257490.74 | G356: 125709.71 | H356: 128082.1 | I356: 0.00046879244 | J356: 3300.94 | K356: 0 | L356: 0 | M356: 2024-2025 | N356: 2.7321708e+08 | Q356: 0 | R356: 0
A357: 0039 | B357: 17408 | C357: Auburn School District | D357: SERS 2/3 | E357: 60259352 | F357: 3302966.2 | G357: 4286290.5 | H357: 4676103.7 | I357: 0.017114976 | J357: 120518.73 | K357: 0 | L357: 0 | M357: 2024-2025 | N357: 2.7321708e+08 | Q357: 0 | R357: 0
A358: 0042 | B358: 18303 | C358: Bainbridge Island School District | D358: SERS 2/3 | E358: 11889174 | F358: 1261619.1 | G358: 890273.19 | H358: 922600.13 | I358: 0.0033768026 | J358: 23768.76 | K358: 0 | L358: 0 | M358: 2024-2025 | N358: 2.7321708e+08 | Q358: 0 | R358: 0
A359: 0045 | B359: 06119 | C359: Battle Ground School District | D359: SERS 2/3 | E359: 33792168 | F359: 2007057 | G359: 2537615 | H359: 2622286.5 | I359: 0.0095978134 | J359: 67583.05 | K359: 0 | L359: 0 | M359: 2024-2025 | N359: 2.7321708e+08 | Q359: 0 | R359: 0
A360: 0050 | B360: 17405 | C360: Bellevue School District | D360: SERS 2/3 | E360: 69155300 | F360: 5259435.3 | G360: 5033611.1 | H360: 5366430.2 | I360: 0.019641635 | J360: 138307.15 | K360: 0 | L360: 0 | M360: 2024-2025 | N360: 2.7321708e+08 | Q360: 0 | R360: 0
A361: 0054 | B361: 37501 | C361: Bellingham School District | D361: SERS 2/3 | E361: 38645707 | F361: 3776478.8 | G361: 3029323.3 | H361: 2998908.6 | I361: 0.010976285 | J361: 77291.09 | K361: 0 | L361: 0 | M361: 2024-2025 | N361: 2.7321708e+08 | Q361: 0 | R361: 0
...

Sheet Plan Data
A1: FY | B1: Plan | C1: Net Pention Liability | D1: Diffence between Projected and actual Experience OUTFLOWS | E1: Net Difference Between Projected and Actual Investment Earnings on Pension Plan Investments - OUTFLO | F1: Change in assumptions OUTFLOWS | G1: Diffence between Projected and actual Experience INFLOWS | H1: Net Difference Between Projected and Actual Investment Earnings on Pension Plan Investments - INFLOW | I1: Change in assumptions INFLOWS | J1: Pension Expense | K1: Recognition Period | L1: 1% Decrease | M1: Current Discount Rate | N1: 1% Increase | O1: Fiduciary Net Position | P1: Audited?
A2: 2025-2026 | B2: SERS 2/3 | C2: -997731000 | D2: 388105455 | E2: 0 | F2: 114583612 | G2: 0 | H2: 588469318 | I2: 246883709 | J2: 319644000 | K2: 5.6 | L2: 572002000 | M2: -997731000 | N2: -2295028000 | O2: 1.0868
A3: 2025-2026 | B3: PERS 1 | C3: 413810000 | D3: 0 | E3: 0 | F3: 0 | G3: 0 | H3: 465201867 | I3: 0 | J3: -359843000 | K3: 1 | L3: 1095680000 | M3: 413810000 | N3: -189935000 | O3: 0.9584
A4: 2025-2026 | B4: PERS 2/3 | C4: -8684764000 | D4: 2679088297 | E4: 0 | F4: 1043517277 | G4: 0 | H4: 3786827840 | I4: 1816686270 | J4: 1281354000 | K4: 6.8 | L4: 1389888000 | M4: -8684764000 | N4: -17001095000 | O4: 1.1212
A5: 2025-2026 | B5: TRS 1 | C5: 204626000 | D5: 0 | E5: 0 | F5: 0 | G5: 0 | H5: 343048928 | I5: 0 | J5: -432417000 | K5: 1 | L5: 681025000 | M5: 204626000 | N5: -218814000 | O5: 0.9715
A6: 2025-2026 | B6: TRS 2/3 | C6: -2788161000 | D6: 1289300212 | E6: 0 | F6: 739860543 | G6: 9887808 | H6: 1581832582 | I6: 1076687887 | J6: 758458000 | K6: 8.8 | L6: 2072827000 | M6: -2788161000 | N6: -6763499000 | O6: 1.0994
A7: 2024-2025 | B7: SERS 2/3 | C7: -244649000 | D7: 430609202 | E7: 0 | F7: 188901444 | G7: 0 | H7: 138807673 | I7: 977300 | J7: 133850000 | K7: 6 | L7: 1301271000 | M7: -244649000 | N7: -1517029000 | O7: 1.0222 | P7: 1
A8: 2024-2025 | B8: PERS 1 | C8: 1178996000 | D8: 0 | E8: 0 | F8: 0 | G8: 0 | H8: 81051762 | I8: 0 | J8: -108872000 | K8: 1 | L8: 1989440000 | M8: 1178996000 | N8: 468217000 | O8: 0.8907 | P8: 1
A9: 2024-2025 | B9: PERS 2/3 | C9: -3816176000 | D9: 2790160380 | E9: 0 | F9: 1474808406 | G9: 0 | H9: 859373552 | I9: 105379409 | J9: -220702000 | K9: 7 | L9: 6192716000 | M9: -3816176000 | N9: -12036270000 | O9: 1.0553 | P9: 1
A10: 2024-2025 | B10: TRS 1 | C10: 950010000 | D10: 0 | E10: 0 | F10: 0 | G10: 0 | H10: 58771933 | I10: 0 | J10: -68491000 | K10: 1 | L10: 1539720000 | M10: 950010000 | N10: 431512000 | O10: 0.8811 | P10: 1
A11: 2024-2025 | B11: TRS 2/3 | C11: -273207000 | D11: 1449338889 | E11: 0 | F11: 896830897 | G11: 12359760 | H11: 377195693 | I11: 48933472 | J11: 299856000 | K11: 9.4 | L11: 4593068000 | M11: -273207000 | N11: -4227395000 | O11: 1.0091 | P11: 1
A12: 2023-2024 | B12: SERS 2/3 | C12: -33837000 | D12: 444615311 | E12: 0 | F12: 249226508 | G12: 0 | H12: 140528863 | I12: 2931894 | J12: 188234000 | K12: 6.1 | L12: 1399115000 | M12: -33837000 | N12: -1213237000 | O12: 1.0033 | P12: 1
A13: 2023-2024 | B13: PERS 1 | C13: 1776838000 | D13: 0 | E13: 0 | F13: 0 | G13: 0 | H13: 142177918 | I13: 0 | J13: -23482000 | K13: 1 | L13: 2613684000 | M13: 1776838000 | N13: 1042904000 | O13: 0.8405 | P13: 1
A14: 2023-2024 | B14: PERS 2/3 | C14: -3296573000 | D14: 1873183131 | E14: 0 | F14: 1820373913 | G14: 7632481 | H14: 944703881 | I14: 208870273 | J14: -144572000 | K14: 6.9 | L14: 5942702000 | M14: -3296573000 | N14: -10884597000 | O14: 1.0517 | P14: 1
A15: 2023-2024 | B15: TRS 1 | C15: 1109297000 | D15: 0 | E15: 0 | F15: 0 | G15: 0 | H15: 104470048 | I15: 0 | J15: -18038000 | K15: 1 | L15: 1717438000 | M15: 1109297000 | N15: 574595000 | O15: 0.8653 | P15: 1
A16: 2023-2024 | B16: TRS 2/3 | C16: 200390000 | D16: 1370325261 | E16: 0 | F16: 1022859845 | G16: 14831712 | H16: 373086490 | I16: 72813039 | J16: 449759000 | K16: 9.7 | L16: 4682796000 | M16: 200390000 | N16: -3441878000 | O16: 0.9927 | P16: 1
A17: 2022-2023 | B17: SERS 2/3 | C17: -143144000 | D17: 357199593 | E17: 0 | F17: 243436897 | G17: 0 | H17: 223536767 | I17: 8361271 | J17: 108385000 | K17: 6.1 | L17: 1168408000 | M17: -143144000 | N17: -1224160000 | O17: 1.0154 | P17: 1
A18: 2022-2023 | B18: PERS 1 | C18: 2282732000 | D18: 0 | E18: 0 | F18: 0 | G18: 0 | H18: 257502075 | I18: 0 | J18: -19513000 | K18: 1 | L18: 3189149000 | M18: 2282732000 | N18: 1491643000 | O18: 0.8016 | P18: 1
... A57: 2014-2015 | B57: SERS 2/3 | C57: 406151000 | D57: 49537000 | E57: 0 | F57: 450000 | G57: 0 | H57: 129543000 | I57: 0 | J57: 80567000 | K57: 4 | L57: 1282039000 | M57: 406151000 | N57: -273474000 | O57: 0.9092 | P57: 1
A58: 2014-2015 | B58: PERS 1 | C58: 5230930000 | D58: 0 | E58: 0 | F58: 0 | G58: 0 | H58: 286189000 | J58: 311755000 | K58: 1 | L58: 6368671000 | M58: 5230930000 | N58: 4252577000 | O58: 0.591 | P58: 1
A59: 2014-2015 | B59: PERS 2/3 | C59: 3573057000 | D59: 379817000 | E59: 0 | F59: 5757000 | G59: 0 | H59: 953837000 | I59: 0 | J59: 423424000 | K59: 4.4 | L59: 10447804000 | M59: 3573057000 | N59: -1690679000 | O59: 0.892 | P59: 1
A60: 2014-2015 | B60: TRS 1 | C60: 3168142000 | D60: 0 | E60: 0 | F60: 0 | G60: 0 | H60: 234494000 | I60: 0 | J60: 159868000 | K60: 1 | L60: 3982571000 | M60: 3168142000 | N60: 2467801000 | O60: 0.657 | P60: 1
A61: 2014-2015 | B61: TRS 2/3 | C61: 843802000 | D61: 133569000 | E61: 0 | F61: 733000 | G61: 0 | H61: 327370000 | I61: 0 | J61: 239721000 | K61: 5.5 | L61: 3570229000 | M61: 843802000 | N61: -1183066000 | O61: 0.9248 | P61: 1

Sheet LU_Org
A1: DRS_Id | B1: CCDDD | C1: District Name | D1: ESD
A2: 1064 | B2: 01109 | C2: Washtucna School District | D2: Educational Service District 101
A3: 0057 | B3: 01122 | C3: Benge School District | D3: Educational Service District 101
A4: 0695 | B4: 01147 | C4: Othello School District | D4: Educational Service District 123
A5: 0543 | B5: 01158 | C5: Lind School District | D5: Educational Service District 101
A6: 0814 | B6: 01160 | C6: Ritzville School District | D6: Educational Service District 101
A7: 0156 | B7: 02250 | C7: Clarkston School District | D7: Educational Service District 123
A8: 0029 | B8: 02420 | C8: Asotin-Anatone School District | D8: Educational Service District 123
A9: 0433 | B9: 03017 | C9: Kennewick School District | D9: Educational Service District 123
A10: 0712 | B10: 03050 | C10: Paterson School District | D10: Educational Service District 123
A11: 0483 | B11: 03052 | C11: Kiona-Benton City School District | D11: Educational Service District 123
A12: 0305 | B12: 03053 | C12: Finley School District | D12: Educational Service District 123
... A339: 4279 | B339: 99999 | C339: WA Schools Risk Management Pool | D339: WA Schools Risk Management Pool
