Workbook
Name Districts: 'District LAP Calculation'!$A$5:$V$322
Name Schools: 'HP Schools Calculation'!$C$10:$X$2336
Name Schools: 'HP Schools Calculation'!$C$10:$X$23812:'HP Schools Calculation'!$X$2338
Name TK: AAFTE!$A$3:$D$321

Sheet Instructions and about the data
B1: LAP Allocation Tracker Instructions
B3: Purpose
B4: This tool shows how your district's 2026-27 LAP allocation is distributed across eligible schools. It is intended for planning and allocation review purposes only.
B5: Note: This is not the LAP Recovery/Carryover Tool. An updated Recovery/Carryover Tool will be released in January 2027 once prior-year carryover data is finalized.
B7: Data Included
B8: Final 2025-26 AAFTE by school from the P223 report.
B9: LAP-eligible AAFTE in Column E.
B10: 2026-27 LAP allocations by school in Column G (yellow).
B11: Some schools may still qualify for HP LAP funding even if their current poverty percentage is below 50%. Schools that were previously identified as High Poverty eligible before implementing the Community Eligibility Provision (CEP) remain eligible under a hold-harmless provision, provided they continue offering free meals through CEP.
B13: Using the Tracker
B15: 1. Go to the Summary tab.
B16: 2. Select your district from the yellow drop-down box.
... B35: Updated with August 2026 AAFTE Data & September 2026 Approvals

Sheet Summary
B1: 2026-27 LAP Allocation Tracker
B2: (click on the yellow box to activate the dropdown menu) | F2: Program Total | I2: =SUM(I9,I15) -> 2481825.2
B3: ↓ District Dropdown ↓ | C3: TK LAP | D3: TK Enroll | E3: Per Pupil | F3: TK Funded
B4: Aberdeen School District | C4: LAP Base | D4: =E9 -> 0 | E4: =IF(D4=0,0,IFERROR(ROUND(I9/(F9),2),0)) -> 0 | F4: =ROUND(D4*E4,2) -> 0
B5: =VLOOKUP(B9, 'download file'!A3:D320,4,0) -> Funded: Complete | C5: Lap High Poverty | D5: =E15 -> 0 | E5: =IF(D5=0,0,IFERROR(ROUND(I15/(F15),2),0)) -> 0 | F5: =ROUND(D5*E5,2) -> 0
B7: LAP Base Calculation | G7: Enter if Changes
B8: District Code | C8: District Name | D8: % Used for 2026-27 LAP Funding | E8: TK AAFTE 2025-26 as of August 2026 | F8: AAFTE w/TK 2025-26 as of August 2026 | G8: Final 2025-26 AAFTE w/TK (Should match F-203) | I8: LAP Base Allocation
B9: =VLOOKUP($B$4,AAFTE!$B:$G,6,0) -> 14005 | C9: =$B$4 -> Aberdeen School District | D9: =IFERROR(VLOOKUP(B9,'CEDARS District FRPL'!A:C,3,FALSE),"No Data") -> 0.6818 | E9: =VLOOKUP($B$9,AAFTE!$A$3:$E$321,4,FALSE) -> 0 | F9: =VLOOKUP($B$9,Districts,4,0) -> 3015.64 | I9: =VLOOKUP($B$9,Districts,'District LAP Calculation'!V$1,0) -> 1495877.5
B13: LAP High Poverty Schools Calculation | G13: Enter if Changes for the schools. Enter No if not accepting funding for an eligible school.
B14: School Code | C14: School Name | D14: High Poverty Eligible | E14: =E8 -> TK AAFTE 2025-26 as of August 2026 | F14: =F8 -> AAFTE w/TK 2025-26 as of August 2026 | G14: Adjusted 2025-26 AAFTE w/TK | H14: Reported 2025-26 AAFTE w/TK for LAP High Poverty Schools Allocation (For F-203) | I14: Allocation for Eligible High Poverty Schools
C15: School Level Average | E15: =SUMIFS(E16:E122,D16:D122,"Yes") -> 0 | F15: =SUMIFS(F16:F122,$D$16:$D$122,"Yes") -> 2953.78 | G15: =SUMIFS(G16:G122,$D$16:$D$122,"Yes") -> 0 | H15: =SUM(H16:H122) -> 2953.78 | I15: =SUMIF($D$16:$D$122,"<>0",I16:I122) -> 985947.7
B16: {=IFERROR(INDEX('HP Schools Calculation'!$C$10:$C$2338,SMALL(IF('HP Schools Calculation'!$A$10:$A$2338=Summary!$B$9,ROW('HP Schools Calculation'!$C$10:$C$2338)-ROW('HP Schools Calculation'!C$10)+1),ROWS('HP Schools Calculation'!C$10:C10))),"")} -> 2834 | C16: {=_xlfn.IFNA(VLOOKUP($B16,Schools,'HP Schools Calculation'!D$1,0),"")} -> A J West Elementary | D16: =_xlfn.IFNA(VLOOKUP($B16,Schools,'HP Schools Calculation'!E$1,0),"") -> Yes | E16: =_xlfn.IFNA(VLOOKUP($B16,'2025-26 School Level AAFTE'!$C$5:$L$2349,'2025-26 School Level AAFTE'!$F$1,0),"") -> 0 | F16: =IF($D16="No",0,_xlfn.IFNA(VLOOKUP($B16,Schools,'HP Schools Calculation'!F$1,FALSE),"")) -> 262.65 | H16: =_xlfn.IFNA(VLOOKUP($B16,Schools,'HP Schools Calculation'!K$1,0),"") -> 262.65 | I16: =IF($F16=0,0,_xlfn.IFNA(VLOOKUP($B16,Schools,'HP Schools Calculation'!X$1,0),"")) -> 87624.62
B17: {=IFERROR(INDEX('HP Schools Calculation'!$C$10:$C$2338,SMALL(IF('HP Schools Calculation'!$A$10:$A$2338=Summary!$B$9,ROW('HP Schools Calculation'!$C$10:$C$2338)-ROW('HP Schools Calculation'!C$10)+1),ROWS('HP Schools Calculation'!C$10:C11))),"")} -> 3216 | C17: {=_xlfn.IFNA(VLOOKUP($B17,Schools,'HP Schools Calculation'!D$1,0),"")} -> Central Park Elementary | D17: =_xlfn.IFNA(VLOOKUP($B17,Schools,'HP Schools Calculation'!E$1,0),"") -> Yes | E17: =_xlfn.IFNA(VLOOKUP($B17,'2025-26 School Level AAFTE'!$C$5:$L$2349,'2025-26 School Level AAFTE'!$F$1,0),"") -> 0 | F17: =IF($D17="No",0,_xlfn.IFNA(VLOOKUP($B17,Schools,'HP Schools Calculation'!F$1,FALSE),"")) -> 117.54 | H17: =_xlfn.IFNA(VLOOKUP($B17,Schools,'HP Schools Calculation'!K$1,0),"") -> 117.54 | I17: =IF($F17=0,0,_xlfn.IFNA(VLOOKUP($B17,Schools,'HP Schools Calculation'!X$1,0),"")) -> 39260.38
B18: {=IFERROR(INDEX('HP Schools Calculation'!$C$10:$C$2338,SMALL(IF('HP Schools Calculation'!$A$10:$A$2338=Summary!$B$9,ROW('HP Schools Calculation'!$C$10:$C$2338)-ROW('HP Schools Calculation'!C$10)+1),ROWS('HP Schools Calculation'!C$10:C12))),"")} -> 5514 | C18: {=_xlfn.IFNA(VLOOKUP($B18,Schools,'HP Schools Calculation'!D$1,0),"")} -> Grays Harbor Academy | D18: =_xlfn.IFNA(VLOOKUP($B18,Schools,'HP Schools Calculation'!E$1,0),"") -> Yes | E18: =_xlfn.IFNA(VLOOKUP($B18,'2025-26 School Level AAFTE'!$C$5:$L$2349,'2025-26 School Level AAFTE'!$F$1,0),"") -> 0 | F18: =IF($D18="No",0,_xlfn.IFNA(VLOOKUP($B18,Schools,'HP Schools Calculation'!F$1,FALSE),"")) -> 85.97 | H18: =_xlfn.IFNA(VLOOKUP($B18,Schools,'HP Schools Calculation'!K$1,0),"") -> 85.97 | I18: =IF($F18=0,0,_xlfn.IFNA(VLOOKUP($B18,Schools,'HP Schools Calculation'!X$1,0),"")) -> 28677.15
B19: {=IFERROR(INDEX('HP Schools Calculation'!$C$10:$C$2338,SMALL(IF('HP Schools Calculation'!$A$10:$A$2338=Summary!$B$9,ROW('HP Schools Calculation'!$C$10:$C$2338)-ROW('HP Schools Calculation'!C$10)+1),ROWS('HP Schools Calculation'!C$10:C13))),"")} -> 3857 | C19: {=_xlfn.IFNA(VLOOKUP($B19,Schools,'HP Schools Calculation'!D$1,0),"")} -> Harbor Junior/Senior High School | D19: =_xlfn.IFNA(VLOOKUP($B19,Schools,'HP Schools Calculation'!E$1,0),"") -> Yes | E19: =_xlfn.IFNA(VLOOKUP($B19,'2025-26 School Level AAFTE'!$C$5:$L$2349,'2025-26 School Level AAFTE'!$F$1,0),"") -> 0 | F19: =IF($D19="No",0,_xlfn.IFNA(VLOOKUP($B19,Schools,'HP Schools Calculation'!F$1,FALSE),"")) -> 108.67 | H19: =_xlfn.IFNA(VLOOKUP($B19,Schools,'HP Schools Calculation'!K$1,0),"") -> 108.67 | I19: =IF($F19=0,0,_xlfn.IFNA(VLOOKUP($B19,Schools,'HP Schools Calculation'!X$1,0),"")) -> 36301.63
B20: {=IFERROR(INDEX('HP Schools Calculation'!$C$10:$C$2338,SMALL(IF('HP Schools Calculation'!$A$10:$A$2338=Summary!$B$9,ROW('HP Schools Calculation'!$C$10:$C$2338)-ROW('HP Schools Calculation'!C$10)+1),ROWS('HP Schools Calculation'!C$10:C14))),"")} -> 5663 | C20: {=_xlfn.IFNA(VLOOKUP($B20,Schools,'HP Schools Calculation'!D$1,0),"")} -> Harbor Open Doors | D20: =_xlfn.IFNA(VLOOKUP($B20,Schools,'HP Schools Calculation'!E$1,0),"") -> Yes | E20: =_xlfn.IFNA(VLOOKUP($B20,'2025-26 School Level AAFTE'!$C$5:$L$2349,'2025-26 School Level AAFTE'!$F$1,0),"") -> 0 | F20: =IF($D20="No",0,_xlfn.IFNA(VLOOKUP($B20,Schools,'HP Schools Calculation'!F$1,FALSE),"")) -> 91.49 | H20: =_xlfn.IFNA(VLOOKUP($B20,Schools,'HP Schools Calculation'!K$1,0),"") -> 91.49 | I20: =IF($F20=0,0,_xlfn.IFNA(VLOOKUP($B20,Schools,'HP Schools Calculation'!X$1,0),"")) -> 30497.91
B21: {=IFERROR(INDEX('HP Schools Calculation'!$C$10:$C$2338,SMALL(IF('HP Schools Calculation'!$A$10:$A$2338=Summary!$B$9,ROW('HP Schools Calculation'!$C$10:$C$2338)-ROW('HP Schools Calculation'!C$10)+1),ROWS('HP Schools Calculation'!C$10:C15))),"")} -> 3476 | C21: {=_xlfn.IFNA(VLOOKUP($B21,Schools,'HP Schools Calculation'!D$1,0),"")} -> J M Weatherwax High School | D21: =_xlfn.IFNA(VLOOKUP($B21,Schools,'HP Schools Calculation'!E$1,0),"") -> Yes | E21: =_xlfn.IFNA(VLOOKUP($B21,'2025-26 School Level AAFTE'!$C$5:$L$2349,'2025-26 School Level AAFTE'!$F$1,0),"") -> 0 | F21: =IF($D21="No",0,_xlfn.IFNA(VLOOKUP($B21,Schools,'HP Schools Calculation'!F$1,FALSE),"")) -> 874.79 | H21: =_xlfn.IFNA(VLOOKUP($B21,Schools,'HP Schools Calculation'!K$1,0),"") -> 874.79 | I21: =IF($F21=0,0,_xlfn.IFNA(VLOOKUP($B21,Schools,'HP Schools Calculation'!X$1,0),"")) -> 292006.21
B22: {=IFERROR(INDEX('HP Schools Calculation'!$C$10:$C$2338,SMALL(IF('HP Schools Calculation'!$A$10:$A$2338=Summary!$B$9,ROW('HP Schools Calculation'!$C$10:$C$2338)-ROW('HP Schools Calculation'!C$10)+1),ROWS('HP Schools Calculation'!C$10:C16))),"")} -> 2449 | C22: {=_xlfn.IFNA(VLOOKUP($B22,Schools,'HP Schools Calculation'!D$1,0),"")} -> McDermoth Elementary | D22: =_xlfn.IFNA(VLOOKUP($B22,Schools,'HP Schools Calculation'!E$1,0),"") -> Yes | E22: =_xlfn.IFNA(VLOOKUP($B22,'2025-26 School Level AAFTE'!$C$5:$L$2349,'2025-26 School Level AAFTE'!$F$1,0),"") -> 0 | F22: =IF($D22="No",0,_xlfn.IFNA(VLOOKUP($B22,Schools,'HP Schools Calculation'!F$1,FALSE),"")) -> 280.1 | H22: =_xlfn.IFNA(VLOOKUP($B22,Schools,'HP Schools Calculation'!K$1,0),"") -> 280.1 | I22: =IF($F22=0,0,_xlfn.IFNA(VLOOKUP($B22,Schools,'HP Schools Calculation'!X$1,0),"")) -> 93542.13
B23: {=IFERROR(INDEX('HP Schools Calculation'!$C$10:$C$2338,SMALL(IF('HP Schools Calculation'!$A$10:$A$2338=Summary!$B$9,ROW('HP Schools Calculation'!$C$10:$C$2338)-ROW('HP Schools Calculation'!C$10)+1),ROWS('HP Schools Calculation'!C$10:C17))),"")} -> 2305 | C23: {=_xlfn.IFNA(VLOOKUP($B23,Schools,'HP Schools Calculation'!D$1,0),"")} -> Miller Junior High | D23: =_xlfn.IFNA(VLOOKUP($B23,Schools,'HP Schools Calculation'!E$1,0),"") -> Yes | E23: =_xlfn.IFNA(VLOOKUP($B23,'2025-26 School Level AAFTE'!$C$5:$L$2349,'2025-26 School Level AAFTE'!$F$1,0),"") -> 0 | F23: =IF($D23="No",0,_xlfn.IFNA(VLOOKUP($B23,Schools,'HP Schools Calculation'!F$1,FALSE),"")) -> 618.59 | H23: =_xlfn.IFNA(VLOOKUP($B23,Schools,'HP Schools Calculation'!K$1,0),"") -> 618.59 | I23: =IF($F23=0,0,_xlfn.IFNA(VLOOKUP($B23,Schools,'HP Schools Calculation'!X$1,0),"")) -> 206543.75
B24: {=IFERROR(INDEX('HP Schools Calculation'!$C$10:$C$2338,SMALL(IF('HP Schools Calculation'!$A$10:$A$2338=Summary!$B$9,ROW('HP Schools Calculation'!$C$10:$C$2338)-ROW('HP Schools Calculation'!C$10)+1),ROWS('HP Schools Calculation'!C$10:C18))),"")} -> 2763 | C24: {=_xlfn.IFNA(VLOOKUP($B24,Schools,'HP Schools Calculation'!D$1,0),"")} -> Robert Gray Elementary | D24: =_xlfn.IFNA(VLOOKUP($B24,Schools,'HP Schools Calculation'!E$1,0),"") -> Yes | E24: =_xlfn.IFNA(VLOOKUP($B24,'2025-26 School Level AAFTE'!$C$5:$L$2349,'2025-26 School Level AAFTE'!$F$1,0),"") -> 0 | F24: =IF($D24="No",0,_xlfn.IFNA(VLOOKUP($B24,Schools,'HP Schools Calculation'!F$1,FALSE),"")) -> 211.48 | H24: =_xlfn.IFNA(VLOOKUP($B24,Schools,'HP Schools Calculation'!K$1,0),"") -> 211.48 | I24: =IF($F24=0,0,_xlfn.IFNA(VLOOKUP($B24,Schools,'HP Schools Calculation'!X$1,0),"")) -> 70554.9
B25: {=IFERROR(INDEX('HP Schools Calculation'!$C$10:$C$2338,SMALL(IF('HP Schools Calculation'!$A$10:$A$2338=Summary!$B$9,ROW('HP Schools Calculation'!$C$10:$C$2338)-ROW('HP Schools Calculation'!C$10)+1),ROWS('HP Schools Calculation'!C$10:C19))),"")} -> 2971 | C25: {=_xlfn.IFNA(VLOOKUP($B25,Schools,'HP Schools Calculation'!D$1,0),"")} -> Stevens Elementary School | D25: =_xlfn.IFNA(VLOOKUP($B25,Schools,'HP Schools Calculation'!E$1,0),"") -> Yes | E25: =_xlfn.IFNA(VLOOKUP($B25,'2025-26 School Level AAFTE'!$C$5:$L$2349,'2025-26 School Level AAFTE'!$F$1,0),"") -> 0 | F25: =IF($D25="No",0,_xlfn.IFNA(VLOOKUP($B25,Schools,'HP Schools Calculation'!F$1,FALSE),"")) -> 302.5 | H25: =_xlfn.IFNA(VLOOKUP($B25,Schools,'HP Schools Calculation'!K$1,0),"") -> 302.5 | I25: =IF($F25=0,0,_xlfn.IFNA(VLOOKUP($B25,Schools,'HP Schools Calculation'!X$1,0),"")) -> 100939.02
B26: {=IFERROR(INDEX('HP Schools Calculation'!$C$10:$C$2338,SMALL(IF('HP Schools Calculation'!$A$10:$A$2338=Summary!$B$9,ROW('HP Schools Calculation'!$C$10:$C$2338)-ROW('HP Schools Calculation'!C$10)+1),ROWS('HP Schools Calculation'!C$10:C20))),"")} -> 5208 | C26: {=_xlfn.IFNA(VLOOKUP($B26,Schools,'HP Schools Calculation'!D$1,0),"")} -> Twin Harbors - A Branch of New Market Skills Center | D26: =_xlfn.IFNA(VLOOKUP($B26,Schools,'HP Schools Calculation'!E$1,0),"") -> No | E26: =_xlfn.IFNA(VLOOKUP($B26,'2025-26 School Level AAFTE'!$C$5:$L$2349,'2025-26 School Level AAFTE'!$F$1,0),"") -> 0 | F26: =IF($D26="No",0,_xlfn.IFNA(VLOOKUP($B26,Schools,'HP Schools Calculation'!F$1,FALSE),"")) -> 0 | H26: =_xlfn.IFNA(VLOOKUP($B26,Schools,'HP Schools Calculation'!K$1,0),"") -> 0 | I26: =IF($F26=0,0,_xlfn.IFNA(VLOOKUP($B26,Schools,'HP Schools Calculation'!X$1,0),"")) -> 0
B27: {=IFERROR(INDEX('HP Schools Calculation'!$C$10:$C$2338,SMALL(IF('HP Schools Calculation'!$A$10:$A$2338=Summary!$B$9,ROW('HP Schools Calculation'!$C$10:$C$2338)-ROW('HP Schools Calculation'!C$10)+1),ROWS('HP Schools Calculation'!C$10:C21))),"")} | C27: {=_xlfn.IFNA(VLOOKUP($B27,Schools,'HP Schools Calculation'!D$1,0),"")} | D27: =_xlfn.IFNA(VLOOKUP($B27,Schools,'HP Schools Calculation'!E$1,0),"") | E27: =_xlfn.IFNA(VLOOKUP($B27,'2025-26 School Level AAFTE'!$C$5:$L$2349,'2025-26 School Level AAFTE'!$F$1,0),"") | F27: =IF($D27="No",0,_xlfn.IFNA(VLOOKUP($B27,Schools,'HP Schools Calculation'!F$1,FALSE),"")) | H27: =_xlfn.IFNA(VLOOKUP($B27,Schools,'HP Schools Calculation'!K$1,0),"") | I27: =IF($F27=0,0,_xlfn.IFNA(VLOOKUP($B27,Schools,'HP Schools Calculation'!X$1,0),""))
... B122: {=IFERROR(INDEX('HP Schools Calculation'!$C$10:$C$2338,SMALL(IF('HP Schools Calculation'!$A$10:$A$2338=Summary!$B$9,ROW('HP Schools Calculation'!$C$10:$C$2338)-ROW('HP Schools Calculation'!C$10)+1),ROWS('HP Schools Calculation'!C$10:C116))),"")} | C122: {=_xlfn.IFNA(VLOOKUP($B122,Schools,'HP Schools Calculation'!D$1,0),"")} | D122: =_xlfn.IFNA(VLOOKUP($B122,Schools,'HP Schools Calculation'!E$1,0),"") | E122: =_xlfn.IFNA(VLOOKUP($B122,'2025-26 School Level AAFTE'!$C$5:$L$2349,'2025-26 School Level AAFTE'!$F$1,0),"") | F122: =IF($D122="No",0,_xlfn.IFNA(VLOOKUP($B122,Schools,'HP Schools Calculation'!F$1,FALSE),"")) | H122: =_xlfn.IFNA(VLOOKUP($B122,Schools,'HP Schools Calculation'!K$1,0),"") | I122: =IF($F122=0,0,_xlfn.IFNA(VLOOKUP($B122,Schools,'HP Schools Calculation'!X$1,0),""))

Sheet HP Schools Calculation
C1: =COLUMN(A1) -> 1 | D1: =COLUMN(B1) -> 2 | E1: =COLUMN(C1) -> 3 | F1: =COLUMN(D1) -> 4 | G1: =COLUMN(E1) -> 5 | H1: =COLUMN(F1) -> 6 | I1: =COLUMN(G1) -> 7 | J1: =COLUMN(H1) -> 8 | ... X1: =COLUMN(V1) -> 22
D8: =COUNTA(D10:D2338) -> 2327
A9: District Code | B9: District Name | C9: School Code | D9: School Name | E9: Eligible for High Poverty Schools Allocation | F9: =Summary!F14 -> AAFTE w/TK 2025-26 as of August 2026 | G9: =Summary!G14 -> Adjusted 2025-26 AAFTE w/TK | H9: =Summary!H14 -> Reported 2025-26 AAFTE w/TK for LAP High Poverty Schools Allocation (For F-203) | I9: ='2026-27 Salary & Benefits'!C5 -> 2026-27 Reg Base | J9: ='2026-27 Salary & Benefits'!D5 -> 2026-27 Reg Inc | K9: High Poverty Schools Prior Year AAFTE | L9: Formulated Staff Units | M9: CIS Sal | N9: CIS Sal Inc | O9: LAP CIS Salary/YR | P9: LAP CIS Salary Incr/YR | Q9: LAP CIS Health Ins Inc Rate | R9: LAP CIS Fringe Benefit Rate | S9: LAP CIS Fringe Benefit Inc Rate | T9: Fringe + Health | U9: LAP Prof Learning Days Salaries | V9: LAP Prof Learning Days Fringe Benefit | W9: LAP Prof Learning Days Total | X9: High Poverty Schools Allocation
A10: 14005 | B10: Aberdeen | C10: 2834 | D10: A J West Elementary | E10: =IFERROR(VLOOKUP($C10,'2025-26 School Level AAFTE'!$C$2:$L$2349,9,FALSE), "No") -> Yes | F10: =IFERROR(VLOOKUP($C10,'2025-26 School Level AAFTE'!$C$2:$J$2349,8,FALSE), 0) -> 262.65 | G10: =IFERROR(IF(E10= "yes",VLOOKUP(C10,Summary!$B:$I,6,0),0),0) -> 0 | H10: =IF(E10= "yes", F10,0) -> 262.65 | I10: =VLOOKUP($A10,'2026-27 Salary & Benefits'!$A:$I,3,FALSE) -> 1 | J10: =VLOOKUP($A10,'2026-27 Salary & Benefits'!$A:$I,4,FALSE) -> 1 | K10: =IF(G10>0,G10,H10) -> 262.65 | L10: =ROUND((($K10*1.1*36)/15)/900,3) -> 0.77 | M10: ='2026-27 Salary & Benefits'!$E$6 -> 78209 | N10: ='2026-27 Salary & Benefits'!$F$6 -> 82248 | O10: =ROUND($I10*$M10*$L10,2) -> 60220.93 | P10: =ROUND($J10*$N10*$L10,2)-O10 -> 3110.03 | Q10: ='2026-27 Salary & Benefits'!G$6 -> 16817.76 | R10: ='2026-27 Salary & Benefits'!H$6 -> 0.1602 | S10: ='2026-27 Salary & Benefits'!I$6 -> 0.1539 | T10: =ROUND(O10*R10+P10*S10+L10*Q10,2) -> 23075.7 | U10: =ROUND((($N10*$J10*$L10)/180)*3,2) -> 1055.52 | V10: =ROUND(U10*S10,2) -> 162.44 | W10: =SUM(U10:V10) -> 1217.96 | X10: =SUM(T10,O10:P10,W10) -> 87624.62 | Y10: =SUM(X10:X19) -> 985947.7 | Z10: =X10/Y10 -> 0.088873497
A11: 14005 | B11: Aberdeen | C11: 3216 | D11: Central Park Elementary | E11: =IFERROR(VLOOKUP($C11,'2025-26 School Level AAFTE'!$C$2:$L$2349,9,FALSE), "No") -> Yes | F11: =IFERROR(VLOOKUP($C11,'2025-26 School Level AAFTE'!$C$2:$J$2349,8,FALSE), 0) -> 117.54 | G11: =IFERROR(IF(E11= "yes",VLOOKUP(C11,Summary!$B:$I,6,0),0),0) -> 0 | H11: =IF(E11= "yes", F11,0) -> 117.54 | I11: =VLOOKUP($A11,'2026-27 Salary & Benefits'!$A:$I,3,FALSE) -> 1 | J11: =VLOOKUP($A11,'2026-27 Salary & Benefits'!$A:$I,4,FALSE) -> 1 | K11: =IF(G11>0,G11,H11) -> 117.54 | L11: =ROUND((($K11*1.1*36)/15)/900,3) -> 0.345 | M11: ='2026-27 Salary & Benefits'!$E$6 -> 78209 | N11: ='2026-27 Salary & Benefits'!$F$6 -> 82248 | O11: =ROUND($I11*$M11*$L11,2) -> 26982.11 | P11: =ROUND($J11*$N11*$L11,2)-O11 -> 1393.45 | Q11: ='2026-27 Salary & Benefits'!G$6 -> 16817.76 | R11: ='2026-27 Salary & Benefits'!H$6 -> 0.1602 | S11: ='2026-27 Salary & Benefits'!I$6 -> 0.1539 | T11: =ROUND(O11*R11+P11*S11+L11*Q11,2) -> 10339.11 | U11: =ROUND((($N11*$J11*$L11)/180)*3,2) -> 472.93 | V11: =ROUND(U11*S11,2) -> 72.78 | W11: =SUM(U11:V11) -> 545.71 | X11: =SUM(T11,O11:P11,W11) -> 39260.38 | Y11: =SUM(K10:K20) -> 2953.78 | Z11: =K10/Y11 -> 0.08891996
A12: 14005 | B12: Aberdeen | C12: 5514 | D12: Grays Harbor Academy | E12: =IFERROR(VLOOKUP($C12,'2025-26 School Level AAFTE'!$C$2:$L$2349,9,FALSE), "No") -> Yes | F12: =IFERROR(VLOOKUP($C12,'2025-26 School Level AAFTE'!$C$2:$J$2349,8,FALSE), 0) -> 85.97 | G12: =IFERROR(IF(E12= "yes",VLOOKUP(C12,Summary!$B:$I,6,0),0),0) -> 0 | H12: =IF(E12= "yes", F12,0) -> 85.97 | I12: =VLOOKUP($A12,'2026-27 Salary & Benefits'!$A:$I,3,FALSE) -> 1 | J12: =VLOOKUP($A12,'2026-27 Salary & Benefits'!$A:$I,4,FALSE) -> 1 | K12: =IF(G12>0,G12,H12) -> 85.97 | L12: =ROUND((($K12*1.1*36)/15)/900,3) -> 0.252 | M12: ='2026-27 Salary & Benefits'!$E$6 -> 78209 | N12: ='2026-27 Salary & Benefits'!$F$6 -> 82248 | O12: =ROUND($I12*$M12*$L12,2) -> 19708.67 | P12: =ROUND($J12*$N12*$L12,2)-O12 -> 1017.83 | Q12: ='2026-27 Salary & Benefits'!G$6 -> 16817.76 | R12: ='2026-27 Salary & Benefits'!H$6 -> 0.1602 | S12: ='2026-27 Salary & Benefits'!I$6 -> 0.1539 | T12: =ROUND(O12*R12+P12*S12+L12*Q12,2) -> 7552.05 | U12: =ROUND((($N12*$J12*$L12)/180)*3,2) -> 345.44 | V12: =ROUND(U12*S12,2) -> 53.16 | W12: =SUM(U12:V12) -> 398.6 | X12: =SUM(T12,O12:P12,W12) -> 28677.15
A13: 14005 | B13: Aberdeen | C13: 3857 | D13: Harbor Junior/Senior High School | E13: =IFERROR(VLOOKUP($C13,'2025-26 School Level AAFTE'!$C$2:$L$2349,9,FALSE), "No") -> Yes | F13: =IFERROR(VLOOKUP($C13,'2025-26 School Level AAFTE'!$C$2:$J$2349,8,FALSE), 0) -> 108.67 | G13: =IFERROR(IF(E13= "yes",VLOOKUP(C13,Summary!$B:$I,6,0),0),0) -> 0 | H13: =IF(E13= "yes", F13,0) -> 108.67 | I13: =VLOOKUP($A13,'2026-27 Salary & Benefits'!$A:$I,3,FALSE) -> 1 | J13: =VLOOKUP($A13,'2026-27 Salary & Benefits'!$A:$I,4,FALSE) -> 1 | K13: =IF(G13>0,G13,H13) -> 108.67 | L13: =ROUND((($K13*1.1*36)/15)/900,3) -> 0.319 | M13: ='2026-27 Salary & Benefits'!$E$6 -> 78209 | N13: ='2026-27 Salary & Benefits'!$F$6 -> 82248 | O13: =ROUND($I13*$M13*$L13,2) -> 24948.67 | P13: =ROUND($J13*$N13*$L13,2)-O13 -> 1288.44 | Q13: ='2026-27 Salary & Benefits'!G$6 -> 16817.76 | R13: ='2026-27 Salary & Benefits'!H$6 -> 0.1602 | S13: ='2026-27 Salary & Benefits'!I$6 -> 0.1539 | T13: =ROUND(O13*R13+P13*S13+L13*Q13,2) -> 9559.93 | U13: =ROUND((($N13*$J13*$L13)/180)*3,2) -> 437.29 | V13: =ROUND(U13*S13,2) -> 67.3 | W13: =SUM(U13:V13) -> 504.59 | X13: =SUM(T13,O13:P13,W13) -> 36301.63
A14: 14005 | B14: Aberdeen | C14: 5663 | D14: Harbor Open Doors | E14: =IFERROR(VLOOKUP($C14,'2025-26 School Level AAFTE'!$C$2:$L$2349,9,FALSE), "No") -> Yes | F14: =IFERROR(VLOOKUP($C14,'2025-26 School Level AAFTE'!$C$2:$J$2349,8,FALSE), 0) -> 91.49 | G14: =IFERROR(IF(E14= "yes",VLOOKUP(C14,Summary!$B:$I,6,0),0),0) -> 0 | H14: =IF(E14= "yes", F14,0) -> 91.49 | I14: =VLOOKUP($A14,'2026-27 Salary & Benefits'!$A:$I,3,FALSE) -> 1 | J14: =VLOOKUP($A14,'2026-27 Salary & Benefits'!$A:$I,4,FALSE) -> 1 | K14: =IF(G14>0,G14,H14) -> 91.49 | L14: =ROUND((($K14*1.1*36)/15)/900,3) -> 0.268 | M14: ='2026-27 Salary & Benefits'!$E$6 -> 78209 | N14: ='2026-27 Salary & Benefits'!$F$6 -> 82248 | O14: =ROUND($I14*$M14*$L14,2) -> 20960.01 | P14: =ROUND($J14*$N14*$L14,2)-O14 -> 1082.45 | Q14: ='2026-27 Salary & Benefits'!G$6 -> 16817.76 | R14: ='2026-27 Salary & Benefits'!H$6 -> 0.1602 | S14: ='2026-27 Salary & Benefits'!I$6 -> 0.1539 | T14: =ROUND(O14*R14+P14*S14+L14*Q14,2) -> 8031.54 | U14: =ROUND((($N14*$J14*$L14)/180)*3,2) -> 367.37 | V14: =ROUND(U14*S14,2) -> 56.54 | W14: =SUM(U14:V14) -> 423.91 | X14: =SUM(T14,O14:P14,W14) -> 30497.91
A15: 14005 | B15: Aberdeen | C15: 3476 | D15: J M Weatherwax High School | E15: =IFERROR(VLOOKUP($C15,'2025-26 School Level AAFTE'!$C$2:$L$2349,9,FALSE), "No") -> Yes | F15: =IFERROR(VLOOKUP($C15,'2025-26 School Level AAFTE'!$C$2:$J$2349,8,FALSE), 0) -> 874.79 | G15: =IFERROR(IF(E15= "yes",VLOOKUP(C15,Summary!$B:$I,6,0),0),0) -> 0 | H15: =IF(E15= "yes", F15,0) -> 874.79 | I15: =VLOOKUP($A15,'2026-27 Salary & Benefits'!$A:$I,3,FALSE) -> 1 | J15: =VLOOKUP($A15,'2026-27 Salary & Benefits'!$A:$I,4,FALSE) -> 1 | K15: =IF(G15>0,G15,H15) -> 874.79 | L15: =ROUND((($K15*1.1*36)/15)/900,3) -> 2.566 | M15: ='2026-27 Salary & Benefits'!$E$6 -> 78209 | N15: ='2026-27 Salary & Benefits'!$F$6 -> 82248 | O15: =ROUND($I15*$M15*$L15,2) -> 200684.29 | P15: =ROUND($J15*$N15*$L15,2)-O15 -> 10364.08 | Q15: ='2026-27 Salary & Benefits'!G$6 -> 16817.76 | R15: ='2026-27 Salary & Benefits'!H$6 -> 0.1602 | S15: ='2026-27 Salary & Benefits'!I$6 -> 0.1539 | T15: =ROUND(O15*R15+P15*S15+L15*Q15,2) -> 76899.03 | U15: =ROUND((($N15*$J15*$L15)/180)*3,2) -> 3517.47 | V15: =ROUND(U15*S15,2) -> 541.34 | W15: =SUM(U15:V15) -> 4058.81 | X15: =SUM(T15,O15:P15,W15) -> 292006.21
A16: 14005 | B16: Aberdeen | C16: 2449 | D16: McDermoth Elementary | E16: =IFERROR(VLOOKUP($C16,'2025-26 School Level AAFTE'!$C$2:$L$2349,9,FALSE), "No") -> Yes | F16: =IFERROR(VLOOKUP($C16,'2025-26 School Level AAFTE'!$C$2:$J$2349,8,FALSE), 0) -> 280.1 | G16: =IFERROR(IF(E16= "yes",VLOOKUP(C16,Summary!$B:$I,6,0),0),0) -> 0 | H16: =IF(E16= "yes", F16,0) -> 280.1 | I16: =VLOOKUP($A16,'2026-27 Salary & Benefits'!$A:$I,3,FALSE) -> 1 | J16: =VLOOKUP($A16,'2026-27 Salary & Benefits'!$A:$I,4,FALSE) -> 1 | K16: =IF(G16>0,G16,H16) -> 280.1 | L16: =ROUND((($K16*1.1*36)/15)/900,3) -> 0.822 | M16: ='2026-27 Salary & Benefits'!$E$6 -> 78209 | N16: ='2026-27 Salary & Benefits'!$F$6 -> 82248 | O16: =ROUND($I16*$M16*$L16,2) -> 64287.8 | P16: =ROUND($J16*$N16*$L16,2)-O16 -> 3320.06 | Q16: ='2026-27 Salary & Benefits'!G$6 -> 16817.76 | R16: ='2026-27 Salary & Benefits'!H$6 -> 0.1602 | S16: ='2026-27 Salary & Benefits'!I$6 -> 0.1539 | T16: =ROUND(O16*R16+P16*S16+L16*Q16,2) -> 24634.06 | U16: =ROUND((($N16*$J16*$L16)/180)*3,2) -> 1126.8 | V16: =ROUND(U16*S16,2) -> 173.41 | W16: =SUM(U16:V16) -> 1300.21 | X16: =SUM(T16,O16:P16,W16) -> 93542.13
A17: 14005 | B17: Aberdeen | C17: 2305 | D17: Miller Junior High | E17: =IFERROR(VLOOKUP($C17,'2025-26 School Level AAFTE'!$C$2:$L$2349,9,FALSE), "No") -> Yes | F17: =IFERROR(VLOOKUP($C17,'2025-26 School Level AAFTE'!$C$2:$J$2349,8,FALSE), 0) -> 618.59 | G17: =IFERROR(IF(E17= "yes",VLOOKUP(C17,Summary!$B:$I,6,0),0),0) -> 0 | H17: =IF(E17= "yes", F17,0) -> 618.59 | I17: =VLOOKUP($A17,'2026-27 Salary & Benefits'!$A:$I,3,FALSE) -> 1 | J17: =VLOOKUP($A17,'2026-27 Salary & Benefits'!$A:$I,4,FALSE) -> 1 | K17: =IF(G17>0,G17,H17) -> 618.59 | L17: =ROUND((($K17*1.1*36)/15)/900,3) -> 1.815 | M17: ='2026-27 Salary & Benefits'!$E$6 -> 78209 | N17: ='2026-27 Salary & Benefits'!$F$6 -> 82248 | O17: =ROUND($I17*$M17*$L17,2) -> 141949.34 | P17: =ROUND($J17*$N17*$L17,2)-O17 -> 7330.78 | Q17: ='2026-27 Salary & Benefits'!G$6 -> 16817.76 | R17: ='2026-27 Salary & Benefits'!H$6 -> 0.1602 | S17: ='2026-27 Salary & Benefits'!I$6 -> 0.1539 | T17: =ROUND(O17*R17+P17*S17+L17*Q17,2) -> 54392.73 | U17: =ROUND((($N17*$J17*$L17)/180)*3,2) -> 2488 | V17: =ROUND(U17*S17,2) -> 382.9 | W17: =SUM(U17:V17) -> 2870.9 | X17: =SUM(T17,O17:P17,W17) -> 206543.75
A18: 14005 | B18: Aberdeen | C18: 2763 | D18: Robert Gray Elementary | E18: =IFERROR(VLOOKUP($C18,'2025-26 School Level AAFTE'!$C$2:$L$2349,9,FALSE), "No") -> Yes | F18: =IFERROR(VLOOKUP($C18,'2025-26 School Level AAFTE'!$C$2:$J$2349,8,FALSE), 0) -> 211.48 | G18: =IFERROR(IF(E18= "yes",VLOOKUP(C18,Summary!$B:$I,6,0),0),0) -> 0 | H18: =IF(E18= "yes", F18,0) -> 211.48 | I18: =VLOOKUP($A18,'2026-27 Salary & Benefits'!$A:$I,3,FALSE) -> 1 | J18: =VLOOKUP($A18,'2026-27 Salary & Benefits'!$A:$I,4,FALSE) -> 1 | K18: =IF(G18>0,G18,H18) -> 211.48 | L18: =ROUND((($K18*1.1*36)/15)/900,3) -> 0.62 | M18: ='2026-27 Salary & Benefits'!$E$6 -> 78209 | N18: ='2026-27 Salary & Benefits'!$F$6 -> 82248 | O18: =ROUND($I18*$M18*$L18,2) -> 48489.58 | P18: =ROUND($J18*$N18*$L18,2)-O18 -> 2504.18 | Q18: ='2026-27 Salary & Benefits'!G$6 -> 16817.76 | R18: ='2026-27 Salary & Benefits'!H$6 -> 0.1602 | S18: ='2026-27 Salary & Benefits'!I$6 -> 0.1539 | T18: =ROUND(O18*R18+P18*S18+L18*Q18,2) -> 18580.44 | U18: =ROUND((($N18*$J18*$L18)/180)*3,2) -> 849.9 | V18: =ROUND(U18*S18,2) -> 130.8 | W18: =SUM(U18:V18) -> 980.7 | X18: =SUM(T18,O18:P18,W18) -> 70554.9
A19: 14005 | B19: Aberdeen | C19: 2971 | D19: Stevens Elementary School | E19: =IFERROR(VLOOKUP($C19,'2025-26 School Level AAFTE'!$C$2:$L$2349,9,FALSE), "No") -> Yes | F19: =IFERROR(VLOOKUP($C19,'2025-26 School Level AAFTE'!$C$2:$J$2349,8,FALSE), 0) -> 302.5 | G19: =IFERROR(IF(E19= "yes",VLOOKUP(C19,Summary!$B:$I,6,0),0),0) -> 0 | H19: =IF(E19= "yes", F19,0) -> 302.5 | I19: =VLOOKUP($A19,'2026-27 Salary & Benefits'!$A:$I,3,FALSE) -> 1 | J19: =VLOOKUP($A19,'2026-27 Salary & Benefits'!$A:$I,4,FALSE) -> 1 | K19: =IF(G19>0,G19,H19) -> 302.5 | L19: =ROUND((($K19*1.1*36)/15)/900,3) -> 0.887 | M19: ='2026-27 Salary & Benefits'!$E$6 -> 78209 | N19: ='2026-27 Salary & Benefits'!$F$6 -> 82248 | O19: =ROUND($I19*$M19*$L19,2) -> 69371.38 | P19: =ROUND($J19*$N19*$L19,2)-O19 -> 3582.6 | Q19: ='2026-27 Salary & Benefits'!G$6 -> 16817.76 | R19: ='2026-27 Salary & Benefits'!H$6 -> 0.1602 | S19: ='2026-27 Salary & Benefits'!I$6 -> 0.1539 | T19: =ROUND(O19*R19+P19*S19+L19*Q19,2) -> 26582.01 | U19: =ROUND((($N19*$J19*$L19)/180)*3,2) -> 1215.9 | V19: =ROUND(U19*S19,2) -> 187.13 | W19: =SUM(U19:V19) -> 1403.03 | X19: =SUM(T19,O19:P19,W19) -> 100939.02
A20: 14005 | B20: Aberdeen | C20: 5208 | D20: Twin Harbors - A Branch of New Market Skills Center | E20: =IFERROR(VLOOKUP($C20,'2025-26 School Level AAFTE'!$C$2:$L$2349,9,FALSE), "No") -> No | F20: =IFERROR(VLOOKUP($C20,'2025-26 School Level AAFTE'!$C$2:$J$2349,8,FALSE), 0) -> 61.84 | G20: =IFERROR(IF(E20= "yes",VLOOKUP(C20,Summary!$B:$I,6,0),0),0) -> 0 | H20: =IF(E20= "yes", F20,0) -> 0 | I20: =VLOOKUP($A20,'2026-27 Salary & Benefits'!$A:$I,3,FALSE) -> 1 | J20: =VLOOKUP($A20,'2026-27 Salary & Benefits'!$A:$I,4,FALSE) -> 1 | K20: =IF(G20>0,G20,H20) -> 0 | L20: =ROUND((($K20*1.1*36)/15)/900,3) -> 0 | M20: ='2026-27 Salary & Benefits'!$E$6 -> 78209 | N20: ='2026-27 Salary & Benefits'!$F$6 -> 82248 | O20: =ROUND($I20*$M20*$L20,2) -> 0 | P20: =ROUND($J20*$N20*$L20,2)-O20 -> 0 | Q20: ='2026-27 Salary & Benefits'!G$6 -> 16817.76 | R20: ='2026-27 Salary & Benefits'!H$6 -> 0.1602 | S20: ='2026-27 Salary & Benefits'!I$6 -> 0.1539 | T20: =ROUND(O20*R20+P20*S20+L20*Q20,2) -> 0 | U20: =ROUND((($N20*$J20*$L20)/180)*3,2) -> 0 | V20: =ROUND(U20*S20,2) -> 0 | W20: =SUM(U20:V20) -> 0 | X20: =SUM(T20,O20:P20,W20) -> 0
A21: 21226 | B21: Adna | C21: 2227 | D21: Adna Elementary School | E21: =IFERROR(VLOOKUP($C21,'2025-26 School Level AAFTE'!$C$2:$L$2349,9,FALSE), "No") -> No | F21: =IFERROR(VLOOKUP($C21,'2025-26 School Level AAFTE'!$C$2:$J$2349,8,FALSE), 0) -> 255.48 | G21: =IFERROR(IF(E21= "yes",VLOOKUP(C21,Summary!$B:$I,6,0),0),0) -> 0 | H21: =IF(E21= "yes", F21,0) -> 0 | I21: =VLOOKUP($A21,'2026-27 Salary & Benefits'!$A:$I,3,FALSE) -> 1 | J21: =VLOOKUP($A21,'2026-27 Salary & Benefits'!$A:$I,4,FALSE) -> 1.04 | K21: =IF(G21>0,G21,H21) -> 0 | L21: =ROUND((($K21*1.1*36)/15)/900,3) -> 0 | M21: ='2026-27 Salary & Benefits'!$E$6 -> 78209 | N21: ='2026-27 Salary & Benefits'!$F$6 -> 82248 | O21: =ROUND($I21*$M21*$L21,2) -> 0 | P21: =ROUND($J21*$N21*$L21,2)-O21 -> 0 | Q21: ='2026-27 Salary & Benefits'!G$6 -> 16817.76 | R21: ='2026-27 Salary & Benefits'!H$6 -> 0.1602 | S21: ='2026-27 Salary & Benefits'!I$6 -> 0.1539 | T21: =ROUND(O21*R21+P21*S21+L21*Q21,2) -> 0 | U21: =ROUND((($N21*$J21*$L21)/180)*3,2) -> 0 | V21: =ROUND(U21*S21,2) -> 0 | W21: =SUM(U21:V21) -> 0 | X21: =SUM(T21,O21:P21,W21) -> 0
A22: 21226 | B22: Adna | C22: 2441 | D22: Adna Middle/High School | E22: =IFERROR(VLOOKUP($C22,'2025-26 School Level AAFTE'!$C$2:$L$2349,9,FALSE), "No") -> No | F22: =IFERROR(VLOOKUP($C22,'2025-26 School Level AAFTE'!$C$2:$J$2349,8,FALSE), 0) -> 380.03 | G22: =IFERROR(IF(E22= "yes",VLOOKUP(C22,Summary!$B:$I,6,0),0),0) -> 0 | H22: =IF(E22= "yes", F22,0) -> 0 | I22: =VLOOKUP($A22,'2026-27 Salary & Benefits'!$A:$I,3,FALSE) -> 1 | J22: =VLOOKUP($A22,'2026-27 Salary & Benefits'!$A:$I,4,FALSE) -> 1.04 | K22: =IF(G22>0,G22,H22) -> 0 | L22: =ROUND((($K22*1.1*36)/15)/900,3) -> 0 | M22: ='2026-27 Salary & Benefits'!$E$6 -> 78209 | N22: ='2026-27 Salary & Benefits'!$F$6 -> 82248 | O22: =ROUND($I22*$M22*$L22,2) -> 0 | P22: =ROUND($J22*$N22*$L22,2)-O22 -> 0 | Q22: ='2026-27 Salary & Benefits'!G$6 -> 16817.76 | R22: ='2026-27 Salary & Benefits'!H$6 -> 0.1602 | S22: ='2026-27 Salary & Benefits'!I$6 -> 0.1539 | T22: =ROUND(O22*R22+P22*S22+L22*Q22,2) -> 0 | U22: =ROUND((($N22*$J22*$L22)/180)*3,2) -> 0 | V22: =ROUND(U22*S22,2) -> 0 | W22: =SUM(U22:V22) -> 0 | X22: =SUM(T22,O22:P22,W22) -> 0
A23: 22017 | B23: Almira | C23: 2860 | D23: Almira Elementary School | E23: =IFERROR(VLOOKUP($C23,'2025-26 School Level AAFTE'!$C$2:$L$2349,9,FALSE), "No") -> No | F23: =IFERROR(VLOOKUP($C23,'2025-26 School Level AAFTE'!$C$2:$J$2349,8,FALSE), 0) -> 104.68 | G23: =IFERROR(IF(E23= "yes",VLOOKUP(C23,Summary!$B:$I,6,0),0),0) -> 0 | H23: =IF(E23= "yes", F23,0) -> 0 | I23: =VLOOKUP($A23,'2026-27 Salary & Benefits'!$A:$I,3,FALSE) -> 1 | J23: =VLOOKUP($A23,'2026-27 Salary & Benefits'!$A:$I,4,FALSE) -> 1 | K23: =IF(G23>0,G23,H23) -> 0 | L23: =ROUND((($K23*1.1*36)/15)/900,3) -> 0 | M23: ='2026-27 Salary & Benefits'!$E$6 -> 78209 | N23: ='2026-27 Salary & Benefits'!$F$6 -> 82248 | O23: =ROUND($I23*$M23*$L23,2) -> 0 | P23: =ROUND($J23*$N23*$L23,2)-O23 -> 0 | Q23: ='2026-27 Salary & Benefits'!G$6 -> 16817.76 | R23: ='2026-27 Salary & Benefits'!H$6 -> 0.1602 | S23: ='2026-27 Salary & Benefits'!I$6 -> 0.1539 | T23: =ROUND(O23*R23+P23*S23+L23*Q23,2) -> 0 | U23: =ROUND((($N23*$J23*$L23)/180)*3,2) -> 0 | V23: =ROUND(U23*S23,2) -> 0 | W23: =SUM(U23:V23) -> 0 | X23: =SUM(T23,O23:P23,W23) -> 0
... A2336: 39205 | B2336: Zillah | C2336: 4481 | D2336: Zillah Middle School | E2336: =IFERROR(VLOOKUP($C2336,'2025-26 School Level AAFTE'!$C$2:$L$2349,9,FALSE), "No") -> Yes | F2336: =IFERROR(VLOOKUP($C2336,'2025-26 School Level AAFTE'!$C$2:$J$2349,8,FALSE), 0) -> 305.5 | G2336: =IFERROR(IF(E2336= "yes",VLOOKUP(C2336,Summary!$B:$I,6,0),0),0) -> 0 | H2336: =IF(E2336= "yes", F2336,0) -> 305.5 | I2336: =VLOOKUP($A2336,'2026-27 Salary & Benefits'!$A:$I,3,FALSE) -> 1 | J2336: =VLOOKUP($A2336,'2026-27 Salary & Benefits'!$A:$I,4,FALSE) -> 1 | K2336: =IF(G2336>0,G2336,H2336) -> 305.5 | L2336: =ROUND((($K2336*1.1*36)/15)/900,3) -> 0.896 | M2336: ='2026-27 Salary & Benefits'!$E$6 -> 78209 | N2336: ='2026-27 Salary & Benefits'!$F$6 -> 82248 | O2336: =ROUND($I2336*$M2336*$L2336,2) -> 70075.26 | P2336: =ROUND($J2336*$N2336*$L2336,2)-O2336 -> 3618.95 | Q2336: ='2026-27 Salary & Benefits'!G$6 -> 16817.76 | R2336: ='2026-27 Salary & Benefits'!H$6 -> 0.1602 | S2336: ='2026-27 Salary & Benefits'!I$6 -> 0.1539 | T2336: =ROUND(O2336*R2336+P2336*S2336+L2336*Q2336,2) -> 26851.73 | U2336: =ROUND((($N2336*$J2336*$L2336)/180)*3,2) -> 1228.24 | V2336: =ROUND(U2336*S2336,2) -> 189.03 | W2336: =SUM(U2336:V2336) -> 1417.27 | X2336: =SUM(T2336,O2336:P2336,W2336) -> 101963.21

Sheet download file
A1: LAP Approved | C1: 1=approved/0=not approved | F1: LAP HiPov Enrollment (approved)
A2: CCDDD | B2: ITEM | C2: (1/0) | D2: FLAG | F2: CCDDD | G2: ITEM | H2: C1hp | I2: AAFTE approved | L2: CCDDD | M2: District
A3: =L3 -> 01109 | B3: S005 | C3: 1 | D3: =IFERROR(IF(C3=1, "Funded: Complete", "NOT Funded: Contact LAP Team for funding status"), "NONE") -> Funded: Complete | F3: =L3 -> 01109 | G3: C1hp | H3: =VLOOKUP(F3, '2025-26 School Level AAFTE'!$Q$3:$T$320,3,0) -> 59.25 | I3: 59.25 | L3: 01109 | M3: Washtucna School District
A4: =L4 -> 01122 | B4: S005 | C4: 0 | D4: =IFERROR(IF(C4=1, "Funded: Complete", "NOT Funded: Contact LAP Team for funding status"), "NONE") -> NOT Funded: Contact LAP Team for funding status | F4: =L4 -> 01122 | G4: C1hp | H4: =VLOOKUP(F4, '2025-26 School Level AAFTE'!$Q$3:$T$320,3,0) -> 0 | I4: 0 | L4: 01122 | M4: Benge School District
A5: =L5 -> 01147 | B5: S005 | C5: 1 | D5: =IFERROR(IF(C5=1, "Funded: Complete", "NOT Funded: Contact LAP Team for funding status"), "NONE") -> Funded: Complete | F5: =L5 -> 01147 | G5: C1hp | H5: =VLOOKUP(F5, '2025-26 School Level AAFTE'!$Q$3:$T$320,3,0) -> 4389.29 | I5: 4389.29 | L5: 01147 | M5: Othello School District
A6: =L6 -> 01158 | B6: S005 | C6: 1 | D6: =IFERROR(IF(C6=1, "Funded: Complete", "NOT Funded: Contact LAP Team for funding status"), "NONE") -> Funded: Complete | F6: =L6 -> 01158 | G6: C1hp | H6: =VLOOKUP(F6, '2025-26 School Level AAFTE'!$Q$3:$T$320,3,0) -> 158.61 | I6: 158.61 | L6: 01158 | M6: Lind School District
A7: =L7 -> 01160 | B7: S005 | C7: 1 | D7: =IFERROR(IF(C7=1, "Funded: Complete", "NOT Funded: Contact LAP Team for funding status"), "NONE") -> Funded: Complete | F7: =L7 -> 01160 | G7: C1hp | H7: =VLOOKUP(F7, '2025-26 School Level AAFTE'!$Q$3:$T$320,3,0) -> 155.7 | I7: 155.7 | L7: 01160 | M7: Ritzville School District
A8: =L8 -> 02250 | B8: S005 | C8: 1 | D8: =IFERROR(IF(C8=1, "Funded: Complete", "NOT Funded: Contact LAP Team for funding status"), "NONE") -> Funded: Complete | F8: =L8 -> 02250 | G8: C1hp | H8: =VLOOKUP(F8, '2025-26 School Level AAFTE'!$Q$3:$T$320,3,0) -> 1280.28 | I8: 1280.28 | L8: 02250 | M8: Clarkston School District
A9: =L9 -> 02420 | B9: S005 | C9: 1 | D9: =IFERROR(IF(C9=1, "Funded: Complete", "NOT Funded: Contact LAP Team for funding status"), "NONE") -> Funded: Complete | F9: =L9 -> 02420 | G9: C1hp | H9: =VLOOKUP(F9, '2025-26 School Level AAFTE'!$Q$3:$T$320,3,0) -> 0 | I9: 0 | L9: 02420 | M9: Asotin-Anatone School District
A10: =L10 -> 03017 | B10: S005 | C10: 1 | D10: =IFERROR(IF(C10=1, "Funded: Complete", "NOT Funded: Contact LAP Team for funding status"), "NONE") -> Funded: Complete | F10: =L10 -> 03017 | G10: C1hp | H10: =VLOOKUP(F10, '2025-26 School Level AAFTE'!$Q$3:$T$320,3,0) -> 12575.72 | I10: 12575.72 | L10: 03017 | M10: Kennewick School District
A11: =L11 -> 03050 | B11: S005 | C11: 1 | D11: =IFERROR(IF(C11=1, "Funded: Complete", "NOT Funded: Contact LAP Team for funding status"), "NONE") -> Funded: Complete | F11: =L11 -> 03050 | G11: C1hp | H11: =VLOOKUP(F11, '2025-26 School Level AAFTE'!$Q$3:$T$320,3,0) -> 140.4 | I11: 140.4 | L11: 03050 | M11: Paterson School District
A12: =L12 -> 03052 | B12: S005 | C12: 1 | D12: =IFERROR(IF(C12=1, "Funded: Complete", "NOT Funded: Contact LAP Team for funding status"), "NONE") -> Funded: Complete | F12: =L12 -> 03052 | G12: C1hp | H12: =VLOOKUP(F12, '2025-26 School Level AAFTE'!$Q$3:$T$320,3,0) -> 1275.37 | I12: 1275.37 | L12: 03052 | M12: Kiona-Benton City School District
A13: =L13 -> 03053 | B13: S005 | C13: 1 | D13: =IFERROR(IF(C13=1, "Funded: Complete", "NOT Funded: Contact LAP Team for funding status"), "NONE") -> Funded: Complete | F13: =L13 -> 03053 | G13: C1hp | H13: =VLOOKUP(F13, '2025-26 School Level AAFTE'!$Q$3:$T$320,3,0) -> 852.63 | I13: 852.63 | L13: 03053 | M13: Finley School District
A14: =L14 -> 03116 | B14: S005 | C14: 1 | D14: =IFERROR(IF(C14=1, "Funded: Complete", "NOT Funded: Contact LAP Team for funding status"), "NONE") -> Funded: Complete | F14: =L14 -> 03116 | G14: C1hp | H14: =VLOOKUP(F14, '2025-26 School Level AAFTE'!$Q$3:$T$320,3,0) -> 2429.96 | I14: 2429.96 | L14: 03116 | M14: Prosser School District
... A320: =L320 -> 39901 | B320: S005 | C320: 0 | D320: =IFERROR(IF(C320=1, "Funded: Complete", "NOT Funded: Contact LAP Team for funding status"), "NONE") -> NOT Funded: Contact LAP Team for funding status | F320: =L320 -> 39901 | G320: C1hp | H320: =VLOOKUP(F320, '2025-26 School Level AAFTE'!$Q$3:$T$320,3,0) -> 0 | I320: 0 | L320: 39901 | M320: Yakama Nation Tribal Compact
C321: =SUM(C3:C320) -> 309 | I321: =SUM(I3:I320) -> 468957.82

Sheet District LAP Calculation
A1: =COLUMN(A1) -> 1 | B1: =COLUMN(B1) -> 2 | C1: =COLUMN(C1) -> 3 | D1: =COLUMN(D1) -> 4 | E1: =COLUMN(E1) -> 5 | F1: =COLUMN(F1) -> 6 | G1: =COLUMN(G1) -> 7 | H1: =COLUMN(H1) -> 8 | ... V1: =COLUMN(V1) -> 22
A4: CCDDD | B4: District | C4: ='HP Schools Calculation'!G9 -> Adjusted 2025-26 AAFTE w/TK | D4: =Summary!G8 -> Final 2025-26 AAFTE w/TK (Should match F-203) | E4: ='2026-27 Salary & Benefits'!C5 -> 2026-27 Reg Base | F4: ='2026-27 Salary & Benefits'!D5 -> 2026-27 Reg Inc | G4: ='CEDARS District FRPL'!C2 -> % Used for 2026-27 LAP Funding | H4: Total Prior Year AAFTE | I4: LAP FTE | J4: Staff Units | K4: CIS Sal | L4: CIS Sal Inc | M4: LAP CIS Salary/YR | N4: LAP CIS Salary Incr/YR | O4: LAP CIS Health Ins Inc Rate | P4: LAP CIS Fringe Benefit Rate | Q4: LAP CIS Fringe Benefit Inc Rate | R4: Fringe + Health | S4: LAP Prof Learning Days Salaries | T4: LAP Prof Learning Days Fringe Benefit | U4: LAP Prof Learning Days Total | V4: LAP District Base Allocation
A5: 14005 | B5: Aberdeen School District | C5: =IF(A5=Summary!$B$9,Summary!$G$9,0) -> 0 | D5: =VLOOKUP(A5,AAFTE!$A:$AT,3,0) -> 3015.64 | E5: =VLOOKUP($A5,'2026-27 Salary & Benefits'!$A:$I,3,) -> 1 | F5: =VLOOKUP($A5,'2026-27 Salary & Benefits'!$A:$I,4,) -> 1 | G5: =VLOOKUP(A5,'CEDARS District FRPL'!$A$3:$C$319,3,0) -> 0.6818 | H5: =IF(C5>0,C5,D5) -> 3015.64 | I5: =ROUND(H5*G5,2) -> 2056.06 | J5: =ROUND((($I5*2.3975*36)/15)/900,3) -> 13.145 | K5: ='2026-27 Salary & Benefits'!E$6 -> 78209 | L5: ='2026-27 Salary & Benefits'!F$6 -> 82248 | M5: =ROUND($E5*$K5*$J5,2) -> 1028057.3 | N5: =ROUND($L5*$F5*$J5,2)-$M5 -> 53092.65 | O5: ='2026-27 Salary & Benefits'!G$6 -> 16817.76 | P5: ='2026-27 Salary & Benefits'!H$6 -> 0.1602 | Q5: ='2026-27 Salary & Benefits'!I$6 -> 0.1539 | R5: =ROUND(M5*P5+N5*Q5+J5*O5,2) -> 393935.2 | S5: =ROUND(((($L5*$F5*$J5)/180)*3),2) -> 18019.17 | T5: =ROUND(S5*Q5,2) -> 2773.15 | U5: =SUM(S5:T5) -> 20792.32 | V5: =SUM(R5,M5:N5,U5) -> 1495877.5
A6: 21226 | B6: Adna School District | C6: =IF(A6=Summary!$B$9,Summary!$G$9,0) -> 0 | D6: =VLOOKUP(A6,AAFTE!$A:$AT,3,0) -> 635.52 | E6: =VLOOKUP($A6,'2026-27 Salary & Benefits'!$A:$I,3,) -> 1 | F6: =VLOOKUP($A6,'2026-27 Salary & Benefits'!$A:$I,4,) -> 1.04 | G6: =VLOOKUP(A6,'CEDARS District FRPL'!$A$3:$C$319,3,0) -> 0.2037 | H6: =IF(C6>0,C6,D6) -> 635.52 | I6: =ROUND(H6*G6,2) -> 129.46 | J6: =ROUND((($I6*2.3975*36)/15)/900,3) -> 0.828 | K6: ='2026-27 Salary & Benefits'!E$6 -> 78209 | L6: ='2026-27 Salary & Benefits'!F$6 -> 82248 | M6: =ROUND($E6*$K6*$J6,2) -> 64757.05 | N6: =ROUND($L6*$F6*$J6,2)-$M6 -> 6068.35 | O6: ='2026-27 Salary & Benefits'!G$6 -> 16817.76 | P6: ='2026-27 Salary & Benefits'!H$6 -> 0.1602 | Q6: ='2026-27 Salary & Benefits'!I$6 -> 0.1539 | R6: =ROUND(M6*P6+N6*Q6+J6*O6,2) -> 25233.1 | S6: =ROUND(((($L6*$F6*$J6)/180)*3),2) -> 1180.42 | T6: =ROUND(S6*Q6,2) -> 181.67 | U6: =SUM(S6:T6) -> 1362.09 | V6: =SUM(R6,M6:N6,U6) -> 97420.59
A7: 22017 | B7: Almira School District | C7: =IF(A7=Summary!$B$9,Summary!$G$9,0) -> 0 | D7: =VLOOKUP(A7,AAFTE!$A:$AT,3,0) -> 104.69 | E7: =VLOOKUP($A7,'2026-27 Salary & Benefits'!$A:$I,3,) -> 1 | F7: =VLOOKUP($A7,'2026-27 Salary & Benefits'!$A:$I,4,) -> 1 | G7: =VLOOKUP(A7,'CEDARS District FRPL'!$A$3:$C$319,3,0) -> 0.3893 | H7: =IF(C7>0,C7,D7) -> 104.69 | I7: =ROUND(H7*G7,2) -> 40.76 | J7: =ROUND((($I7*2.3975*36)/15)/900,3) -> 0.261 | K7: ='2026-27 Salary & Benefits'!E$6 -> 78209 | L7: ='2026-27 Salary & Benefits'!F$6 -> 82248 | M7: =ROUND($E7*$K7*$J7,2) -> 20412.55 | N7: =ROUND($L7*$F7*$J7,2)-$M7 -> 1054.18 | O7: ='2026-27 Salary & Benefits'!G$6 -> 16817.76 | P7: ='2026-27 Salary & Benefits'!H$6 -> 0.1602 | Q7: ='2026-27 Salary & Benefits'!I$6 -> 0.1539 | R7: =ROUND(M7*P7+N7*Q7+J7*O7,2) -> 7821.76 | S7: =ROUND(((($L7*$F7*$J7)/180)*3),2) -> 357.78 | T7: =ROUND(S7*Q7,2) -> 55.06 | U7: =SUM(S7:T7) -> 412.84 | V7: =SUM(R7,M7:N7,U7) -> 29701.33
A8: 29103 | B8: Anacortes School District | C8: =IF(A8=Summary!$B$9,Summary!$G$9,0) -> 0 | D8: =VLOOKUP(A8,AAFTE!$A:$AT,3,0) -> 2537.47 | E8: =VLOOKUP($A8,'2026-27 Salary & Benefits'!$A:$I,3,) -> 1.12 | F8: =VLOOKUP($A8,'2026-27 Salary & Benefits'!$A:$I,4,) -> 1.16 | G8: =VLOOKUP(A8,'CEDARS District FRPL'!$A$3:$C$319,3,0) -> 0.3023 | H8: =IF(C8>0,C8,D8) -> 2537.47 | I8: =ROUND(H8*G8,2) -> 767.08 | J8: =ROUND((($I8*2.3975*36)/15)/900,3) -> 4.904 | K8: ='2026-27 Salary & Benefits'!E$6 -> 78209 | L8: ='2026-27 Salary & Benefits'!F$6 -> 82248 | M8: =ROUND($E8*$K8*$J8,2) -> 429561.37 | N8: =ROUND($L8*$F8*$J8,2)-$M8 -> 38317.89 | O8: ='2026-27 Salary & Benefits'!G$6 -> 16817.76 | P8: ='2026-27 Salary & Benefits'!H$6 -> 0.1602 | Q8: ='2026-27 Salary & Benefits'!I$6 -> 0.1539 | R8: =ROUND(M8*P8+N8*Q8+J8*O8,2) -> 157187.15 | S8: =ROUND(((($L8*$F8*$J8)/180)*3),2) -> 7797.99 | T8: =ROUND(S8*Q8,2) -> 1200.11 | U8: =SUM(S8:T8) -> 8998.1 | V8: =SUM(R8,M8:N8,U8) -> 634064.51
A9: 31016 | B9: Arlington School District | C9: =IF(A9=Summary!$B$9,Summary!$G$9,0) -> 0 | D9: =VLOOKUP(A9,AAFTE!$A:$AT,3,0) -> 5429.43 | E9: =VLOOKUP($A9,'2026-27 Salary & Benefits'!$A:$I,3,) -> 1.12 | F9: =VLOOKUP($A9,'2026-27 Salary & Benefits'!$A:$I,4,) -> 1.16 | G9: =VLOOKUP(A9,'CEDARS District FRPL'!$A$3:$C$319,3,0) -> 0.3995 | H9: =IF(C9>0,C9,D9) -> 5429.43 | I9: =ROUND(H9*G9,2) -> 2169.06 | J9: =ROUND((($I9*2.3975*36)/15)/900,3) -> 13.868 | K9: ='2026-27 Salary & Benefits'!E$6 -> 78209 | L9: ='2026-27 Salary & Benefits'!F$6 -> 82248 | M9: =ROUND($E9*$K9*$J9,2) -> 1214754.7 | N9: =ROUND($L9*$F9*$J9,2)-$M9 -> 108359.01 | O9: ='2026-27 Salary & Benefits'!G$6 -> 16817.76 | P9: ='2026-27 Salary & Benefits'!H$6 -> 0.1602 | Q9: ='2026-27 Salary & Benefits'!I$6 -> 0.1539 | R9: =ROUND(M9*P9+N9*Q9+J9*O9,2) -> 444508.85 | S9: =ROUND(((($L9*$F9*$J9)/180)*3),2) -> 22051.9 | T9: =ROUND(S9*Q9,2) -> 3393.79 | U9: =SUM(S9:T9) -> 25445.69 | V9: =SUM(R9,M9:N9,U9) -> 1793068.2
A10: 02420 | B10: Asotin-Anatone School District | C10: =IF(A10=Summary!$B$9,Summary!$G$9,0) -> 0 | D10: =VLOOKUP(A10,AAFTE!$A:$AT,3,0) -> 656.82 | E10: =VLOOKUP($A10,'2026-27 Salary & Benefits'!$A:$I,3,) -> 1 | F10: =VLOOKUP($A10,'2026-27 Salary & Benefits'!$A:$I,4,) -> 1 | G10: =VLOOKUP(A10,'CEDARS District FRPL'!$A$3:$C$319,3,0) -> 0.3258 | H10: =IF(C10>0,C10,D10) -> 656.82 | I10: =ROUND(H10*G10,2) -> 213.99 | J10: =ROUND((($I10*2.3975*36)/15)/900,3) -> 1.368 | K10: ='2026-27 Salary & Benefits'!E$6 -> 78209 | L10: ='2026-27 Salary & Benefits'!F$6 -> 82248 | M10: =ROUND($E10*$K10*$J10,2) -> 106989.91 | N10: =ROUND($L10*$F10*$J10,2)-$M10 -> 5525.35 | O10: ='2026-27 Salary & Benefits'!G$6 -> 16817.76 | P10: ='2026-27 Salary & Benefits'!H$6 -> 0.1602 | Q10: ='2026-27 Salary & Benefits'!I$6 -> 0.1539 | R10: =ROUND(M10*P10+N10*Q10+J10*O10,2) -> 40996.83 | S10: =ROUND(((($L10*$F10*$J10)/180)*3),2) -> 1875.25 | T10: =ROUND(S10*Q10,2) -> 288.6 | U10: =SUM(S10:T10) -> 2163.85 | V10: =SUM(R10,M10:N10,U10) -> 155675.94
A11: 17408 | B11: Auburn School District | C11: =IF(A11=Summary!$B$9,Summary!$G$9,0) -> 0 | D11: =VLOOKUP(A11,AAFTE!$A:$AT,3,0) -> 17244.31 | E11: =VLOOKUP($A11,'2026-27 Salary & Benefits'!$A:$I,3,) -> 1.12 | F11: =VLOOKUP($A11,'2026-27 Salary & Benefits'!$A:$I,4,) -> 1.12 | G11: =VLOOKUP(A11,'CEDARS District FRPL'!$A$3:$C$319,3,0) -> 0.5684 | H11: =IF(C11>0,C11,D11) -> 17244.31 | I11: =ROUND(H11*G11,2) -> 9801.67 | J11: =ROUND((($I11*2.3975*36)/15)/900,3) -> 62.665 | K11: ='2026-27 Salary & Benefits'!E$6 -> 78209 | L11: ='2026-27 Salary & Benefits'!F$6 -> 82248 | M11: =ROUND($E11*$K11*$J11,2) -> 5489083 | N11: =ROUND($L11*$F11*$J11,2)-$M11 -> 283476.41 | O11: ='2026-27 Salary & Benefits'!G$6 -> 16817.76 | P11: ='2026-27 Salary & Benefits'!H$6 -> 0.1602 | Q11: ='2026-27 Salary & Benefits'!I$6 -> 0.1539 | R11: =ROUND(M11*P11+N11*Q11+J11*O11,2) -> 1976863.1 | S11: =ROUND(((($L11*$F11*$J11)/180)*3),2) -> 96209.32 | T11: =ROUND(S11*Q11,2) -> 14806.61 | U11: =SUM(S11:T11) -> 111015.93 | V11: =SUM(R11,M11:N11,U11) -> 7860438.4
A12: 18303 | B12: Bainbridge Island School District | C12: =IF(A12=Summary!$B$9,Summary!$G$9,0) -> 0 | D12: =VLOOKUP(A12,AAFTE!$A:$AT,3,0) -> 3356.09 | E12: =VLOOKUP($A12,'2026-27 Salary & Benefits'!$A:$I,3,) -> 1.18 | F12: =VLOOKUP($A12,'2026-27 Salary & Benefits'!$A:$I,4,) -> 1.22 | G12: =VLOOKUP(A12,'CEDARS District FRPL'!$A$3:$C$319,3,0) -> 0.1103 | H12: =IF(C12>0,C12,D12) -> 3356.09 | I12: =ROUND(H12*G12,2) -> 370.18 | J12: =ROUND((($I12*2.3975*36)/15)/900,3) -> 2.367 | K12: ='2026-27 Salary & Benefits'!E$6 -> 78209 | L12: ='2026-27 Salary & Benefits'!F$6 -> 82248 | M12: =ROUND($E12*$K12*$J12,2) -> 218442.43 | N12: =ROUND($L12*$F12*$J12,2)-$M12 -> 19068.41 | O12: ='2026-27 Salary & Benefits'!G$6 -> 16817.76 | P12: ='2026-27 Salary & Benefits'!H$6 -> 0.1602 | Q12: ='2026-27 Salary & Benefits'!I$6 -> 0.1539 | R12: =ROUND(M12*P12+N12*Q12+J12*O12,2) -> 77736.74 | S12: =ROUND(((($L12*$F12*$J12)/180)*3),2) -> 3958.51 | T12: =ROUND(S12*Q12,2) -> 609.21 | U12: =SUM(S12:T12) -> 4567.72 | V12: =SUM(R12,M12:N12,U12) -> 319815.3
A13: 06119 | B13: Battle Ground School District | C13: =IF(A13=Summary!$B$9,Summary!$G$9,0) -> 0 | D13: =VLOOKUP(A13,AAFTE!$A:$AT,3,0) -> 12496.81 | E13: =VLOOKUP($A13,'2026-27 Salary & Benefits'!$A:$I,3,) -> 1.06 | F13: =VLOOKUP($A13,'2026-27 Salary & Benefits'!$A:$I,4,) -> 1.1 | G13: =VLOOKUP(A13,'CEDARS District FRPL'!$A$3:$C$319,3,0) -> 0.3851 | H13: =IF(C13>0,C13,D13) -> 12496.81 | I13: =ROUND(H13*G13,2) -> 4812.52 | J13: =ROUND((($I13*2.3975*36)/15)/900,3) -> 30.768 | K13: ='2026-27 Salary & Benefits'!E$6 -> 78209 | L13: ='2026-27 Salary & Benefits'!F$6 -> 82248 | M13: =ROUND($E13*$K13*$J13,2) -> 2550714.6 | N13: =ROUND($L13*$F13*$J13,2)-$M13 -> 232952.53 | O13: ='2026-27 Salary & Benefits'!G$6 -> 16817.76 | P13: ='2026-27 Salary & Benefits'!H$6 -> 0.1602 | Q13: ='2026-27 Salary & Benefits'!I$6 -> 0.1539 | R13: =ROUND(M13*P13+N13*Q13+J13*O13,2) -> 961924.71 | S13: =ROUND(((($L13*$F13*$J13)/180)*3),2) -> 46394.45 | T13: =ROUND(S13*Q13,2) -> 7140.11 | U13: =SUM(S13:T13) -> 53534.56 | V13: =SUM(R13,M13:N13,U13) -> 3799126.4
A14: 17405 | B14: Bellevue School District | C14: =IF(A14=Summary!$B$9,Summary!$G$9,0) -> 0 | D14: =VLOOKUP(A14,AAFTE!$A:$AT,3,0) -> 19839.41 | E14: =VLOOKUP($A14,'2026-27 Salary & Benefits'!$A:$I,3,) -> 1.18 | F14: =VLOOKUP($A14,'2026-27 Salary & Benefits'!$A:$I,4,) -> 1.18 | G14: =VLOOKUP(A14,'CEDARS District FRPL'!$A$3:$C$319,3,0) -> 0.2228 | H14: =IF(C14>0,C14,D14) -> 19839.41 | I14: =ROUND(H14*G14,2) -> 4420.22 | J14: =ROUND((($I14*2.3975*36)/15)/900,3) -> 28.26 | K14: ='2026-27 Salary & Benefits'!E$6 -> 78209 | L14: ='2026-27 Salary & Benefits'!F$6 -> 82248 | M14: =ROUND($E14*$K14*$J14,2) -> 2608019.9 | N14: =ROUND($L14*$F14*$J14,2)-$M14 -> 134687.73 | O14: ='2026-27 Salary & Benefits'!G$6 -> 16817.76 | P14: ='2026-27 Salary & Benefits'!H$6 -> 0.1602 | Q14: ='2026-27 Salary & Benefits'!I$6 -> 0.1539 | R14: =ROUND(M14*P14+N14*Q14+J14*O14,2) -> 913803.12 | S14: =ROUND(((($L14*$F14*$J14)/180)*3),2) -> 45711.79 | T14: =ROUND(S14*Q14,2) -> 7035.04 | U14: =SUM(S14:T14) -> 52746.83 | V14: =SUM(R14,M14:N14,U14) -> 3709257.6
A15: 37501 | B15: Bellingham School District | C15: =IF(A15=Summary!$B$9,Summary!$G$9,0) -> 0 | D15: =VLOOKUP(A15,AAFTE!$A:$AT,3,0) -> 10926.8 | E15: =VLOOKUP($A15,'2026-27 Salary & Benefits'!$A:$I,3,) -> 1.06 | F15: =VLOOKUP($A15,'2026-27 Salary & Benefits'!$A:$I,4,) -> 1.06 | G15: =VLOOKUP(A15,'CEDARS District FRPL'!$A$3:$C$319,3,0) -> 0.3931 | H15: =IF(C15>0,C15,D15) -> 10926.8 | I15: =ROUND(H15*G15,2) -> 4295.33 | J15: =ROUND((($I15*2.3975*36)/15)/900,3) -> 27.461 | K15: ='2026-27 Salary & Benefits'!E$6 -> 78209 | L15: ='2026-27 Salary & Benefits'!F$6 -> 82248 | M15: =ROUND($E15*$K15*$J15,2) -> 2276559.2 | N15: =ROUND($L15*$F15*$J15,2)-$M15 -> 117569.88 | O15: ='2026-27 Salary & Benefits'!G$6 -> 16817.76 | P15: ='2026-27 Salary & Benefits'!H$6 -> 0.1602 | Q15: ='2026-27 Salary & Benefits'!I$6 -> 0.1539 | R15: =ROUND(M15*P15+N15*Q15+J15*O15,2) -> 844631.29 | S15: =ROUND(((($L15*$F15*$J15)/180)*3),2) -> 39902.15 | T15: =ROUND(S15*Q15,2) -> 6140.94 | U15: =SUM(S15:T15) -> 46043.09 | V15: =SUM(R15,M15:N15,U15) -> 3284803.4
A16: 01122 | B16: Benge School District | C16: =IF(A16=Summary!$B$9,Summary!$G$9,0) -> 0 | D16: =VLOOKUP(A16,AAFTE!$A:$AT,3,0) -> 8.2 | E16: =VLOOKUP($A16,'2026-27 Salary & Benefits'!$A:$I,3,) -> 1 | F16: =VLOOKUP($A16,'2026-27 Salary & Benefits'!$A:$I,4,) -> 1 | G16: =VLOOKUP(A16,'CEDARS District FRPL'!$A$3:$C$319,3,0) -> 0 | H16: =IF(C16>0,C16,D16) -> 8.2 | I16: =ROUND(H16*G16,2) -> 0 | J16: =ROUND((($I16*2.3975*36)/15)/900,3) -> 0 | K16: ='2026-27 Salary & Benefits'!E$6 -> 78209 | L16: ='2026-27 Salary & Benefits'!F$6 -> 82248 | M16: =ROUND($E16*$K16*$J16,2) -> 0 | N16: =ROUND($L16*$F16*$J16,2)-$M16 -> 0 | O16: ='2026-27 Salary & Benefits'!G$6 -> 16817.76 | P16: ='2026-27 Salary & Benefits'!H$6 -> 0.1602 | Q16: ='2026-27 Salary & Benefits'!I$6 -> 0.1539 | R16: =ROUND(M16*P16+N16*Q16+J16*O16,2) -> 0 | S16: =ROUND(((($L16*$F16*$J16)/180)*3),2) -> 0 | T16: =ROUND(S16*Q16,2) -> 0 | U16: =SUM(S16:T16) -> 0 | V16: =SUM(R16,M16:N16,U16) -> 0
... A321: 34002 | B321: Yelm School District | C321: =IF(A321=Summary!$B$9,Summary!$G$9,0) -> 0 | D321: =VLOOKUP(A321,AAFTE!$A:$AT,3,0) -> 5300.79 | E321: =VLOOKUP($A321,'2026-27 Salary & Benefits'!$A:$I,3,) -> 1.06 | F321: =VLOOKUP($A321,'2026-27 Salary & Benefits'!$A:$I,4,) -> 1.06 | G321: =VLOOKUP(A321,'CEDARS District FRPL'!$A$3:$C$319,3,0) -> 0.4656 | H321: =IF(C321>0,C321,D321) -> 5300.79 | I321: =ROUND(H321*G321,2) -> 2468.05 | J321: =ROUND((($I321*2.3975*36)/15)/900,3) -> 15.779 | K321: ='2026-27 Salary & Benefits'!E$6 -> 78209 | L321: ='2026-27 Salary & Benefits'!F$6 -> 82248 | M321: =ROUND($E321*$K321*$J321,2) -> 1308103.4 | N321: =ROUND($L321*$F321*$J321,2)-$M321 -> 67555.26 | O321: ='2026-27 Salary & Benefits'!G$6 -> 16817.76 | P321: ='2026-27 Salary & Benefits'!H$6 -> 0.1602 | Q321: ='2026-27 Salary & Benefits'!I$6 -> 0.1539 | R321: =ROUND(M321*P321+N321*Q321+J321*O321,2) -> 485322.35 | S321: =ROUND(((($L321*$F321*$J321)/180)*3),2) -> 22927.64 | T321: =ROUND(S321*Q321,2) -> 3528.56 | U321: =SUM(S321:T321) -> 26456.2 | V321: =SUM(R321,M321:N321,U321) -> 1887437.2
A322: 39205 | B322: Zillah School District | C322: =IF(A322=Summary!$B$9,Summary!$G$9,0) -> 0 | D322: =VLOOKUP(A322,AAFTE!$A:$AT,3,0) -> 1329.07 | E322: =VLOOKUP($A322,'2026-27 Salary & Benefits'!$A:$I,3,) -> 1 | F322: =VLOOKUP($A322,'2026-27 Salary & Benefits'!$A:$I,4,) -> 1 | G322: =VLOOKUP(A322,'CEDARS District FRPL'!$A$3:$C$320,3,0) -> 0.5786 | H322: =IF(C322>0,C322,D322) -> 1329.07 | I322: =ROUND(H322*G322,2) -> 769 | J322: =ROUND((($I322*2.3975*36)/15)/900,3) -> 4.916 | K322: ='2026-27 Salary & Benefits'!E$6 -> 78209 | L322: ='2026-27 Salary & Benefits'!F$6 -> 82248 | M322: =ROUND($E322*$K322*$J322,2) -> 384475.44 | N322: =ROUND($L322*$F322*$J322,2)-$M322 -> 19855.73 | O322: ='2026-27 Salary & Benefits'!G$6 -> 16817.76 | P322: ='2026-27 Salary & Benefits'!H$6 -> 0.1602 | Q322: ='2026-27 Salary & Benefits'!I$6 -> 0.1539 | R322: =ROUND(M322*P322+N322*Q322+J322*O322,2) -> 147324.87 | S322: =ROUND(((($L322*$F322*$J322)/180)*3),2) -> 6738.85 | T322: =ROUND(S322*Q322,2) -> 1037.11 | U322: =SUM(S322:T322) -> 7775.96 | V322: =SUM(R322,M322:N322,U322) -> 559432

Sheet 2025-26 School Level AAFTE
A1: 2025-26 Enrollment By School as of August 2026 | C1: 1 | D1: =1+C1 -> 2 | E1: =1+D1 -> 3 | F1: =1+E1 -> 4 | G1: =1+F1 -> 5 | H1: =1+G1 -> 6 | I1: =1+H1 -> 7 | J1: =1+I1 -> 8 | K1: =1+J1 -> 9 | L1: =1+K1 -> 10 | Q1: Sum of TOTAL | R1: Column Labels
Q2: Row Labels | R2: No | S2: Yes | T2: Grand Total | U2: =GETPIVOTDATA("TOTAL",$Q$1) -> 1062983.1
A3: CCDDD | B3: District | C3: School # | D3: School Name | E3: K-12 | F3: TK | G3: RS | H3: OD | I3: NS | J3: TOTAL | K3: HP ? | L3: Poverty % | Q3: 01109 | S3: 59.25 | T3: 59.25
D4: State Totals | E4: =SUM(E5:E49956) -> 1017013.2 | F4: =SUM(F5:F49956) -> 7175.88 | G4: =SUM(G5:G49956) -> 30592.44 | H4: =SUM(H5:H49956) -> 7492.31 | I4: =SUM(I5:I49956) -> 709.25 | J4: =SUM(J5:J49956) -> 1062983.1 | Q4: 01122 | R4: 8.2 | T4: 8.2
A5: 14005 | B5: Aberdeen | C5: 2834 | D5: A J West Elementary | E5: 262.65 | F5: 0 | G5: 0 | H5: 0 | I5: 0 | J5: =SUM(E5:I5) -> 262.65 | K5: =VLOOKUP(C5, 'CEDARS School FRPL'!$C$4:$G$2376,5,0) -> Yes | L5: =IFERROR(VLOOKUP($C5,'CEDARS School FRPL'!$C$4:$F$20001,3,FALSE),"NO CEDARL FRPL Rprtd") -> 0.8192 | Q5: 01147 | S5: 4389.29 | T5: 4389.29
A6: 14005 | B6: Aberdeen | C6: 3216 | D6: Central Park Elementary | E6: 117.54 | F6: 0 | G6: 0 | H6: 0 | I6: 0 | J6: =SUM(E6:I6) -> 117.54 | K6: =VLOOKUP(C6, 'CEDARS School FRPL'!$C$4:$G$2376,5,0) -> Yes | L6: =IFERROR(VLOOKUP($C6,'CEDARS School FRPL'!$C$4:$F$20001,3,FALSE),"NO CEDARL FRPL Rprtd") -> 0.5548 | Q6: 01158 | S6: 158.61 | T6: 158.61
A7: 14005 | B7: Aberdeen | C7: 5514 | D7: Grays Harbor Academy | E7: 84.64 | F7: 0 | G7: 1.33 | H7: 0 | I7: 0 | J7: =SUM(E7:I7) -> 85.97 | K7: =VLOOKUP(C7, 'CEDARS School FRPL'!$C$4:$G$2376,5,0) -> Yes | L7: =IFERROR(VLOOKUP($C7,'CEDARS School FRPL'!$C$4:$F$20001,3,FALSE),"NO CEDARL FRPL Rprtd") -> 0.6355 | Q7: 01160 | R7: 228.09 | S7: 155.7 | T7: 383.79
A8: 14005 | B8: Aberdeen | C8: 3857 | D8: Harbor Junior/Senior High School | E8: 107.51 | F8: 0 | G8: 1.16 | H8: 0 | I8: 0 | J8: =SUM(E8:I8) -> 108.67 | K8: =VLOOKUP(C8, 'CEDARS School FRPL'!$C$4:$G$2376,5,0) -> Yes | L8: =IFERROR(VLOOKUP($C8,'CEDARS School FRPL'!$C$4:$F$20001,3,FALSE),"NO CEDARL FRPL Rprtd") -> 0.764 | Q8: 02250 | R8: 1129.58 | S8: 1280.28 | T8: 2409.86
A9: 14005 | B9: Aberdeen | C9: 5663 | D9: Harbor Open Doors | E9: 0 | F9: 0 | G9: 1.11 | H9: 90.38 | I9: 0 | J9: =SUM(E9:I9) -> 91.49 | K9: =VLOOKUP(C9, 'CEDARS School FRPL'!$C$4:$G$2376,5,0) -> Yes | L9: =IFERROR(VLOOKUP($C9,'CEDARS School FRPL'!$C$4:$F$20001,3,FALSE),"NO CEDARL FRPL Rprtd") -> 0.742 | Q9: 02420 | R9: 656.82 | T9: 656.82
A10: 14005 | B10: Aberdeen | C10: 3476 | D10: J M Weatherwax High School | E10: 764.4 | F10: 0 | G10: 110.39 | H10: 0 | I10: 0 | J10: =SUM(E10:I10) -> 874.79 | K10: =VLOOKUP(C10, 'CEDARS School FRPL'!$C$4:$G$2376,5,0) -> Yes | L10: =IFERROR(VLOOKUP($C10,'CEDARS School FRPL'!$C$4:$F$20001,3,FALSE),"NO CEDARL FRPL Rprtd") -> 0.5755 | Q10: 03017 | R10: 5958.99 | S10: 12575.72 | T10: 18534.71
A11: 14005 | B11: Aberdeen | C11: 2449 | D11: McDermoth Elementary | E11: 280.1 | F11: 0 | G11: 0 | H11: 0 | I11: 0 | J11: =SUM(E11:I11) -> 280.1 | K11: =VLOOKUP(C11, 'CEDARS School FRPL'!$C$4:$G$2376,5,0) -> Yes | L11: =IFERROR(VLOOKUP($C11,'CEDARS School FRPL'!$C$4:$F$20001,3,FALSE),"NO CEDARL FRPL Rprtd") -> 0.661 | Q11: 03050 | S11: 140.4 | T11: 140.4
A12: 14005 | B12: Aberdeen | C12: 2305 | D12: Miller Junior High | E12: 618.59 | F12: 0 | G12: 0 | H12: 0 | I12: 0 | J12: =SUM(E12:I12) -> 618.59 | K12: =VLOOKUP(C12, 'CEDARS School FRPL'!$C$4:$G$2376,5,0) -> Yes | L12: =IFERROR(VLOOKUP($C12,'CEDARS School FRPL'!$C$4:$F$20001,3,FALSE),"NO CEDARL FRPL Rprtd") -> 0.6704 | Q12: 03052 | S12: 1275.37 | T12: 1275.37
A13: 14005 | B13: Aberdeen | C13: 2763 | D13: Robert Gray Elementary | E13: 211.48 | F13: 0 | G13: 0 | H13: 0 | I13: 0 | J13: =SUM(E13:I13) -> 211.48 | K13: =VLOOKUP(C13, 'CEDARS School FRPL'!$C$4:$G$2376,5,0) -> Yes | L13: =IFERROR(VLOOKUP($C13,'CEDARS School FRPL'!$C$4:$F$20001,3,FALSE),"NO CEDARL FRPL Rprtd") -> 0.7712 | Q13: 03053 | S13: 852.63 | T13: 852.63
A14: 14005 | B14: Aberdeen | C14: 2971 | D14: Stevens Elementary School | E14: 302.5 | F14: 0 | G14: 0 | H14: 0 | I14: 0 | J14: =SUM(E14:I14) -> 302.5 | K14: =VLOOKUP(C14, 'CEDARS School FRPL'!$C$4:$G$2376,5,0) -> Yes | L14: =IFERROR(VLOOKUP($C14,'CEDARS School FRPL'!$C$4:$F$20001,3,FALSE),"NO CEDARL FRPL Rprtd") -> 0.7989 | Q14: 03116 | S14: 2429.96 | T14: 2429.96
A15: 14005 | B15: Aberdeen | C15: 5208 | D15: Twin Harbors - A Branch of New Market Skills Center | E15: 51.38 | F15: 0 | G15: 0 | H15: 0 | I15: 10.46 | J15: =SUM(E15:I15) -> 61.84 | K15: =VLOOKUP(C15, 'CEDARS School FRPL'!$C$4:$G$2376,5,0) -> No | L15: =IFERROR(VLOOKUP($C15,'CEDARS School FRPL'!$C$4:$F$20001,3,FALSE),"NO CEDARL FRPL Rprtd") -> 0.1383 | Q15: 03400 | R15: 9700.53 | S15: 3928.08 | T15: 13628.61
A16: 21226 | B16: Adna | C16: 2227 | D16: Adna Elementary School | E16: 255.48 | F16: 0 | G16: 0 | H16: 0 | I16: 0 | J16: =SUM(E16:I16) -> 255.48 | K16: =VLOOKUP(C16, 'CEDARS School FRPL'!$C$4:$G$2376,5,0) -> No | L16: =IFERROR(VLOOKUP($C16,'CEDARS School FRPL'!$C$4:$F$20001,3,FALSE),"NO CEDARL FRPL Rprtd") -> 0.2514 | Q16: 04019 | S16: 585.43 | T16: 585.43
A17: 21226 | B17: Adna | C17: 2441 | D17: Adna Middle/High School | E17: 358.41 | F17: 0 | G17: 19.52 | H17: 2.1 | I17: 0 | J17: =SUM(E17:I17) -> 380.03 | K17: =VLOOKUP(C17, 'CEDARS School FRPL'!$C$4:$G$2376,5,0) -> No | L17: =IFERROR(VLOOKUP($C17,'CEDARS School FRPL'!$C$4:$F$20001,3,FALSE),"NO CEDARL FRPL Rprtd") -> 0.2365 | Q17: 04069 | R17: 11.22 | T17: 11.22
A18: 22017 | B18: Almira | C18: 2860 | D18: Almira Elementary School | E18: 101.76 | F18: 0 | G18: 2.92 | H18: 0 | I18: 0 | J18: =SUM(E18:I18) -> 104.68 | K18: =VLOOKUP(C18, 'CEDARS School FRPL'!$C$4:$G$2376,5,0) -> No | L18: =IFERROR(VLOOKUP($C18,'CEDARS School FRPL'!$C$4:$F$20001,3,FALSE),"NO CEDARL FRPL Rprtd") -> 0.3918 | Q18: 04127 | S18: 407.11 | T18: 407.11
A19: 29103 | B19: Anacortes | C19: 2467 | D19: Anacortes High School | E19: 693.99 | F19: 0 | G19: 55 | H19: 0 | I19: 0 | J19: =SUM(E19:I19) -> 748.99 | K19: =VLOOKUP(C19, 'CEDARS School FRPL'!$C$4:$G$2376,5,0) -> No | L19: =IFERROR(VLOOKUP($C19,'CEDARS School FRPL'!$C$4:$F$20001,3,FALSE),"NO CEDARL FRPL Rprtd") -> 0.2535 | Q19: 04129 | R19: 0.9 | S19: 1219.11 | T19: 1220.01
A20: 29103 | B20: Anacortes | C20: 2707 | D20: Anacortes Middle School | E20: 628.1 | F20: 0 | G20: 0 | H20: 0 | I20: 0 | J20: =SUM(E20:I20) -> 628.1 | K20: =VLOOKUP(C20, 'CEDARS School FRPL'!$C$4:$G$2376,5,0) -> No | L20: =IFERROR(VLOOKUP($C20,'CEDARS School FRPL'!$C$4:$F$20001,3,FALSE),"NO CEDARL FRPL Rprtd") -> 0.2982 | Q20: 04222 | R20: 1577.14 | T20: 1577.14
A21: 29103 | B21: Anacortes | C21: 5176 | D21: Cap Sante High School | E21: 58.89 | F21: 0 | G21: 1.82 | H21: 0 | I21: 0 | J21: =SUM(E21:I21) -> 60.71 | K21: =VLOOKUP(C21, 'CEDARS School FRPL'!$C$4:$G$2376,5,0) -> Yes | L21: =IFERROR(VLOOKUP($C21,'CEDARS School FRPL'!$C$4:$F$20001,3,FALSE),"NO CEDARL FRPL Rprtd") -> 0.5399 | Q21: 04228 | R21: 1206.33 | T21: 1206.33
A22: 29103 | B22: Anacortes | C22: 3182 | D22: Fidalgo Elementary | E22: 349.74 | F22: 0 | G22: 0 | H22: 0 | I22: 0 | J22: =SUM(E22:I22) -> 349.74 | K22: =VLOOKUP(C22, 'CEDARS School FRPL'!$C$4:$G$2376,5,0) -> No | L22: =IFERROR(VLOOKUP($C22,'CEDARS School FRPL'!$C$4:$F$20001,3,FALSE),"NO CEDARL FRPL Rprtd") -> 0.3119 | Q22: 04246 | R22: 1330.99 | S22: 5474.86 | T22: 6805.85
